Workbook
Name GameList: Games!$A$1:$AC$1

Sheet Board
C1: World Chess Championship 2014 - Game 4
C2: =INDEX(Games!$A$2:$AC$2,MATCH(C1,GameList,0)) -> Carlsen-Anand
A3: 94 | C3: =IFERROR(IF(A3,ROUNDUP(A3/2,0)&". "&IF(MOD(A3,2)=1,INDEX(Moves!$E$3:$E$152,ROUNDUP(A3/2,0)),"… "&INDEX(Moves!$K$3:$K$152,ROUNDUP(A3/2,0))),""),"") -> 47. … Kh7 ½–½ | M3: W
C4: 1 | D4: 2 | E4: 3 | F4: 4 | G4: 5 | H4: 6 | I4: 7 | J4: 8
C5: a | D5: b | E5: c | F5: d | G5: e | H5: f | I5: g | J5: h | O5: Code | P5: Piece
B6: =IF($M$3="B",ROW()-ROW($B$6)+1,ROW($B$6)-ROW()+8) -> 8 | C6: =VLOOKUP(SUMIFS(Positions!$C$11:$C$42,INDEX(Positions!$11:$42,0,4*$A$3+5),C$4,INDEX(Positions!$11:$42,0,4*$A$3+6),$B6),Board!$O$6:$P$18,2,0) | D6: =VLOOKUP(SUMIFS(Positions!$C$11:$C$42,INDEX(Positions!$11:$42,0,4*$A$3+5),D$4,INDEX(Positions!$11:$42,0,4*$A$3+6),$B6),Board!$O$6:$P$18,2,0) | E6: =VLOOKUP(SUMIFS(Positions!$C$11:$C$42,INDEX(Positions!$11:$42,0,4*$A$3+5),E$4,INDEX(Positions!$11:$42,0,4*$A$3+6),$B6),Board!$O$6:$P$18,2,0) | F6: =VLOOKUP(SUMIFS(Positions!$C$11:$C$42,INDEX(Positions!$11:$42,0,4*$A$3+5),F$4,INDEX(Positions!$11:$42,0,4*$A$3+6),$B6),Board!$O$6:$P$18,2,0) | G6: =VLOOKUP(SUMIFS(Positions!$C$11:$C$42,INDEX(Positions!$11:$42,0,4*$A$3+5),G$4,INDEX(Positions!$11:$42,0,4*$A$3+6),$B6),Board!$O$6:$P$18,2,0) -> ♕ | H6: =VLOOKUP(SUMIFS(Positions!$C$11:$C$42,INDEX(Positions!$11:$42,0,4*$A$3+5),H$4,INDEX(Positions!$11:$42,0,4*$A$3+6),$B6),Board!$O$6:$P$18,2,0) | I6: =VLOOKUP(SUMIFS(Positions!$C$11:$C$42,INDEX(Positions!$11:$42,0,4*$A$3+5),I$4,INDEX(Positions!$11:$42,0,4*$A$3+6),$B6),Board!$O$6:$P$18,2,0) | J6: =VLOOKUP(SUMIFS(Positions!$C$11:$C$42,INDEX(Positions!$11:$42,0,4*$A$3+5),J$4,INDEX(Positions!$11:$42,0,4*$A$3+6),$B6),Board!$O$6:$P$18,2,0) | O6: 6 | P6: ♔
B7: =IF($M$3="B",ROW()-ROW($B$6)+1,ROW($B$6)-ROW()+8) -> 7 | C7: =VLOOKUP(SUMIFS(Positions!$C$11:$C$42,INDEX(Positions!$11:$42,0,4*$A$3+5),C$4,INDEX(Positions!$11:$42,0,4*$A$3+6),$B7),Board!$O$6:$P$18,2,0) -> ♟ | D7: =VLOOKUP(SUMIFS(Positions!$C$11:$C$42,INDEX(Positions!$11:$42,0,4*$A$3+5),D$4,INDEX(Positions!$11:$42,0,4*$A$3+6),$B7),Board!$O$6:$P$18,2,0) | E7: =VLOOKUP(SUMIFS(Positions!$C$11:$C$42,INDEX(Positions!$11:$42,0,4*$A$3+5),E$4,INDEX(Positions!$11:$42,0,4*$A$3+6),$B7),Board!$O$6:$P$18,2,0) | F7: =VLOOKUP(SUMIFS(Positions!$C$11:$C$42,INDEX(Positions!$11:$42,0,4*$A$3+5),F$4,INDEX(Positions!$11:$42,0,4*$A$3+6),$B7),Board!$O$6:$P$18,2,0) | G7: =VLOOKUP(SUMIFS(Positions!$C$11:$C$42,INDEX(Positions!$11:$42,0,4*$A$3+5),G$4,INDEX(Positions!$11:$42,0,4*$A$3+6),$B7),Board!$O$6:$P$18,2,0) | H7: =VLOOKUP(SUMIFS(Positions!$C$11:$C$42,INDEX(Positions!$11:$42,0,4*$A$3+5),H$4,INDEX(Positions!$11:$42,0,4*$A$3+6),$B7),Board!$O$6:$P$18,2,0) | I7: =VLOOKUP(SUMIFS(Positions!$C$11:$C$42,INDEX(Positions!$11:$42,0,4*$A$3+5),I$4,INDEX(Positions!$11:$42,0,4*$A$3+6),$B7),Board!$O$6:$P$18,2,0) -> ♟ | J7: =VLOOKUP(SUMIFS(Positions!$C$11:$C$42,INDEX(Positions!$11:$42,0,4*$A$3+5),J$4,INDEX(Positions!$11:$42,0,4*$A$3+6),$B7),Board!$O$6:$P$18,2,0) -> ♚ | O7: 5 | P7: ♕
B8: =IF($M$3="B",ROW()-ROW($B$6)+1,ROW($B$6)-ROW()+8) -> 6 | C8: =VLOOKUP(SUMIFS(Positions!$C$11:$C$42,INDEX(Positions!$11:$42,0,4*$A$3+5),C$4,INDEX(Positions!$11:$42,0,4*$A$3+6),$B8),Board!$O$6:$P$18,2,0) | D8: =VLOOKUP(SUMIFS(Positions!$C$11:$C$42,INDEX(Positions!$11:$42,0,4*$A$3+5),D$4,INDEX(Positions!$11:$42,0,4*$A$3+6),$B8),Board!$O$6:$P$18,2,0) | E8: =VLOOKUP(SUMIFS(Positions!$C$11:$C$42,INDEX(Positions!$11:$42,0,4*$A$3+5),E$4,INDEX(Positions!$11:$42,0,4*$A$3+6),$B8),Board!$O$6:$P$18,2,0) | F8: =VLOOKUP(SUMIFS(Positions!$C$11:$C$42,INDEX(Positions!$11:$42,0,4*$A$3+5),F$4,INDEX(Positions!$11:$42,0,4*$A$3+6),$B8),Board!$O$6:$P$18,2,0) | G8: =VLOOKUP(SUMIFS(Positions!$C$11:$C$42,INDEX(Positions!$11:$42,0,4*$A$3+5),G$4,INDEX(Positions!$11:$42,0,4*$A$3+6),$B8),Board!$O$6:$P$18,2,0) | H8: =VLOOKUP(SUMIFS(Positions!$C$11:$C$42,INDEX(Positions!$11:$42,0,4*$A$3+5),H$4,INDEX(Positions!$11:$42,0,4*$A$3+6),$B8),Board!$O$6:$P$18,2,0) | I8: =VLOOKUP(SUMIFS(Positions!$C$11:$C$42,INDEX(Positions!$11:$42,0,4*$A$3+5),I$4,INDEX(Positions!$11:$42,0,4*$A$3+6),$B8),Board!$O$6:$P$18,2,0) | J8: =VLOOKUP(SUMIFS(Positions!$C$11:$C$42,INDEX(Positions!$11:$42,0,4*$A$3+5),J$4,INDEX(Positions!$11:$42,0,4*$A$3+6),$B8),Board!$O$6:$P$18,2,0) -> ♟ | O8: 4 | P8: ♖
B9: =IF($M$3="B",ROW()-ROW($B$6)+1,ROW($B$6)-ROW()+8) -> 5 | C9: =VLOOKUP(SUMIFS(Positions!$C$11:$C$42,INDEX(Positions!$11:$42,0,4*$A$3+5),C$4,INDEX(Positions!$11:$42,0,4*$A$3+6),$B9),Board!$O$6:$P$18,2,0) | D9: =VLOOKUP(SUMIFS(Positions!$C$11:$C$42,INDEX(Positions!$11:$42,0,4*$A$3+5),D$4,INDEX(Positions!$11:$42,0,4*$A$3+6),$B9),Board!$O$6:$P$18,2,0) | E9: =VLOOKUP(SUMIFS(Positions!$C$11:$C$42,INDEX(Positions!$11:$42,0,4*$A$3+5),E$4,INDEX(Positions!$11:$42,0,4*$A$3+6),$B9),Board!$O$6:$P$18,2,0) | F9: =VLOOKUP(SUMIFS(Positions!$C$11:$C$42,INDEX(Positions!$11:$42,0,4*$A$3+5),F$4,INDEX(Positions!$11:$42,0,4*$A$3+6),$B9),Board!$O$6:$P$18,2,0) | G9: =VLOOKUP(SUMIFS(Positions!$C$11:$C$42,INDEX(Positions!$11:$42,0,4*$A$3+5),G$4,INDEX(Positions!$11:$42,0,4*$A$3+6),$B9),Board!$O$6:$P$18,2,0) | H9: =VLOOKUP(SUMIFS(Positions!$C$11:$C$42,INDEX(Positions!$11:$42,0,4*$A$3+5),H$4,INDEX(Positions!$11:$42,0,4*$A$3+6),$B9),Board!$O$6:$P$18,2,0) | I9: =VLOOKUP(SUMIFS(Positions!$C$11:$C$42,INDEX(Positions!$11:$42,0,4*$A$3+5),I$4,INDEX(Positions!$11:$42,0,4*$A$3+6),$B9),Board!$O$6:$P$18,2,0) | J9: =VLOOKUP(SUMIFS(Positions!$C$11:$C$42,INDEX(Positions!$11:$42,0,4*$A$3+5),J$4,INDEX(Positions!$11:$42,0,4*$A$3+6),$B9),Board!$O$6:$P$18,2,0) | O9: 3 | P9: ♗
B10: =IF($M$3="B",ROW()-ROW($B$6)+1,ROW($B$6)-ROW()+8) -> 4 | C10: =VLOOKUP(SUMIFS(Positions!$C$11:$C$42,INDEX(Positions!$11:$42,0,4*$A$3+5),C$4,INDEX(Positions!$11:$42,0,4*$A$3+6),$B10),Board!$O$6:$P$18,2,0) | D10: =VLOOKUP(SUMIFS(Positions!$C$11:$C$42,INDEX(Positions!$11:$42,0,4*$A$3+5),D$4,INDEX(Positions!$11:$42,0,4*$A$3+6),$B10),Board!$O$6:$P$18,2,0) | E10: =VLOOKUP(SUMIFS(Positions!$C$11:$C$42,INDEX(Positions!$11:$42,0,4*$A$3+5),E$4,INDEX(Positions!$11:$42,0,4*$A$3+6),$B10),Board!$O$6:$P$18,2,0) | F10: =VLOOKUP(SUMIFS(Positions!$C$11:$C$42,INDEX(Positions!$11:$42,0,4*$A$3+5),F$4,INDEX(Positions!$11:$42,0,4*$A$3+6),$B10),Board!$O$6:$P$18,2,0) -> ♟ | G10: =VLOOKUP(SUMIFS(Positions!$C$11:$C$42,INDEX(Positions!$11:$42,0,4*$A$3+5),G$4,INDEX(Positions!$11:$42,0,4*$A$3+6),$B10),Board!$O$6:$P$18,2,0) | H10: =VLOOKUP(SUMIFS(Positions!$C$11:$C$42,INDEX(Positions!$11:$42,0,4*$A$3+5),H$4,INDEX(Positions!$11:$42,0,4*$A$3+6),$B10),Board!$O$6:$P$18,2,0) | I10: =VLOOKUP(SUMIFS(Positions!$C$11:$C$42,INDEX(Positions!$11:$42,0,4*$A$3+5),I$4,INDEX(Positions!$11:$42,0,4*$A$3+6),$B10),Board!$O$6:$P$18,2,0) -> ♙ | J10: =VLOOKUP(SUMIFS(Positions!$C$11:$C$42,INDEX(Positions!$11:$42,0,4*$A$3+5),J$4,INDEX(Positions!$11:$42,0,4*$A$3+6),$B10),Board!$O$6:$P$18,2,0) -> ♙ | O10: 2 | P10: ♘
B11: =IF($M$3="B",ROW()-ROW($B$6)+1,ROW($B$6)-ROW()+8) -> 3 | C11: =VLOOKUP(SUMIFS(Positions!$C$11:$C$42,INDEX(Positions!$11:$42,0,4*$A$3+5),C$4,INDEX(Positions!$11:$42,0,4*$A$3+6),$B11),Board!$O$6:$P$18,2,0) | D11: =VLOOKUP(SUMIFS(Positions!$C$11:$C$42,INDEX(Positions!$11:$42,0,4*$A$3+5),D$4,INDEX(Positions!$11:$42,0,4*$A$3+6),$B11),Board!$O$6:$P$18,2,0) -> ♙ | E11: =VLOOKUP(SUMIFS(Positions!$C$11:$C$42,INDEX(Positions!$11:$42,0,4*$A$3+5),E$4,INDEX(Positions!$11:$42,0,4*$A$3+6),$B11),Board!$O$6:$P$18,2,0) | F11: =VLOOKUP(SUMIFS(Positions!$C$11:$C$42,INDEX(Positions!$11:$42,0,4*$A$3+5),F$4,INDEX(Positions!$11:$42,0,4*$A$3+6),$B11),Board!$O$6:$P$18,2,0) | G11: =VLOOKUP(SUMIFS(Positions!$C$11:$C$42,INDEX(Positions!$11:$42,0,4*$A$3+5),G$4,INDEX(Positions!$11:$42,0,4*$A$3+6),$B11),Board!$O$6:$P$18,2,0) | H11: =VLOOKUP(SUMIFS(Positions!$C$11:$C$42,INDEX(Positions!$11:$42,0,4*$A$3+5),H$4,INDEX(Positions!$11:$42,0,4*$A$3+6),$B11),Board!$O$6:$P$18,2,0) -> ♔ | I11: =VLOOKUP(SUMIFS(Positions!$C$11:$C$42,INDEX(Positions!$11:$42,0,4*$A$3+5),I$4,INDEX(Positions!$11:$42,0,4*$A$3+6),$B11),Board!$O$6:$P$18,2,0) | J11: =VLOOKUP(SUMIFS(Positions!$C$11:$C$42,INDEX(Positions!$11:$42,0,4*$A$3+5),J$4,INDEX(Positions!$11:$42,0,4*$A$3+6),$B11),Board!$O$6:$P$18,2,0) | O11: 1 | P11: ♙
B12: =IF($M$3="B",ROW()-ROW($B$6)+1,ROW($B$6)-ROW()+8) -> 2 | C12: =VLOOKUP(SUMIFS(Positions!$C$11:$C$42,INDEX(Positions!$11:$42,0,4*$A$3+5),C$4,INDEX(Positions!$11:$42,0,4*$A$3+6),$B12),Board!$O$6:$P$18,2,0) | D12: =VLOOKUP(SUMIFS(Positions!$C$11:$C$42,INDEX(Positions!$11:$42,0,4*$A$3+5),D$4,INDEX(Positions!$11:$42,0,4*$A$3+6),$B12),Board!$O$6:$P$18,2,0) | E12: =VLOOKUP(SUMIFS(Positions!$C$11:$C$42,INDEX(Positions!$11:$42,0,4*$A$3+5),E$4,INDEX(Positions!$11:$42,0,4*$A$3+6),$B12),Board!$O$6:$P$18,2,0) | F12: =VLOOKUP(SUMIFS(Positions!$C$11:$C$42,INDEX(Positions!$11:$42,0,4*$A$3+5),F$4,INDEX(Positions!$11:$42,0,4*$A$3+6),$B12),Board!$O$6:$P$18,2,0) -> ♛ | G12: =VLOOKUP(SUMIFS(Positions!$C$11:$C$42,INDEX(Positions!$11:$42,0,4*$A$3+5),G$4,INDEX(Positions!$11:$42,0,4*$A$3+6),$B12),Board!$O$6:$P$18,2,0) | H12: =VLOOKUP(SUMIFS(Positions!$C$11:$C$42,INDEX(Positions!$11:$42,0,4*$A$3+5),H$4,INDEX(Positions!$11:$42,0,4*$A$3+6),$B12),Board!$O$6:$P$18,2,0) -> ♙ | I12: =VLOOKUP(SUMIFS(Positions!$C$11:$C$42,INDEX(Positions!$11:$42,0,4*$A$3+5),I$4,INDEX(Positions!$11:$42,0,4*$A$3+6),$B12),Board!$O$6:$P$18,2,0) | J12: =VLOOKUP(SUMIFS(Positions!$C$11:$C$42,INDEX(Positions!$11:$42,0,4*$A$3+5),J$4,INDEX(Positions!$11:$42,0,4*$A$3+6),$B12),Board!$O$6:$P$18,2,0) | O12: -6 | P12: ♚
B13: =IF($M$3="B",ROW()-ROW($B$6)+1,ROW($B$6)-ROW()+8) -> 1 | C13: =VLOOKUP(SUMIFS(Positions!$C$11:$C$42,INDEX(Positions!$11:$42,0,4*$A$3+5),C$4,INDEX(Positions!$11:$42,0,4*$A$3+6),$B13),Board!$O$6:$P$18,2,0) | D13: =VLOOKUP(SUMIFS(Positions!$C$11:$C$42,INDEX(Positions!$11:$42,0,4*$A$3+5),D$4,INDEX(Positions!$11:$42,0,4*$A$3+6),$B13),Board!$O$6:$P$18,2,0) | E13: =VLOOKUP(SUMIFS(Positions!$C$11:$C$42,INDEX(Positions!$11:$42,0,4*$A$3+5),E$4,INDEX(Positions!$11:$42,0,4*$A$3+6),$B13),Board!$O$6:$P$18,2,0) | F13: =VLOOKUP(SUMIFS(Positions!$C$11:$C$42,INDEX(Positions!$11:$42,0,4*$A$3+5),F$4,INDEX(Positions!$11:$42,0,4*$A$3+6),$B13),Board!$O$6:$P$18,2,0) | G13: =VLOOKUP(SUMIFS(Positions!$C$11:$C$42,INDEX(Positions!$11:$42,0,4*$A$3+5),G$4,INDEX(Positions!$11:$42,0,4*$A$3+6),$B13),Board!$O$6:$P$18,2,0) | H13: =VLOOKUP(SUMIFS(Positions!$C$11:$C$42,INDEX(Positions!$11:$42,0,4*$A$3+5),H$4,INDEX(Positions!$11:$42,0,4*$A$3+6),$B13),Board!$O$6:$P$18,2,0) | I13: =VLOOKUP(SUMIFS(Positions!$C$11:$C$42,INDEX(Positions!$11:$42,0,4*$A$3+5),I$4,INDEX(Positions!$11:$42,0,4*$A$3+6),$B13),Board!$O$6:$P$18,2,0) | J13: =VLOOKUP(SUMIFS(Positions!$C$11:$C$42,INDEX(Positions!$11:$42,0,4*$A$3+5),J$4,INDEX(Positions!$11:$42,0,4*$A$3+6),$B13),Board!$O$6:$P$18,2,0) | O13: -5 | P13: ♛
O14: -4 | P14: ♜
O15: -3 | P15: ♝
O16: -2 | P16: ♞
O17: -1 | P17: ♟
O18: 0

Sheet Games
A1: The Immortal Game | B1: The Game of the Century | C1: World Chess Championship 2014 - Game 1 | D1: World Chess Championship 2014 - Game 2 | E1: World Chess Championship 2014 - Game 3 | F1: World Chess Championship 2014 - Game 4 | G1: World Chess Championship 2014 - Game 5 | H1: World Chess Championship 2014 - Game 6 | I1: World Chess Championship 2014 - Game 7 | J1: World Chess Championship 2014 - Game 8 | K1: World Chess Championship 2014 - Game 9 | L1: World Chess Championship 2014 - Game 10 | M1: World Chess Championship 2014 - Game 11 | N1: World Chess Championship 2016 - Game 1 | O1: World Chess Championship 2016 - Game 2 | P1: World Chess Championship 2016 - Game 3 | Q1: World Chess Championship 2016 - Game 4 | R1: World Chess Championship 2016 - Game 5 | S1: World Chess Championship 2016 - Game 6 | T1: World Chess Championship 2016 - Game 7 | U1: World Chess Championship 2016 - Game 8 | V1: World Chess Championship 2016 - Game 9 | W1: World Chess Championship 2016 - Game 10 | X1: World Chess Championship 2016 - Game 11 | Y1: World Chess Championship 2016 - Game 12 | Z1: World Chess Championship 2016 - Game 13 | AA1: World Chess Championship 2016 - Game 14 | AB1: World Chess Championship 2016 - Game 15 | AC1: World Chess Championship 2016 - Game 16
A2: Anderssen-Kieseritzky | B2: Byrne-Fischer | C2: Anand-Carlsen | D2: Carlsen-Anand | E2: Anand-Carlsen | F2: Carlsen-Anand | G2: Anand-Carlsen | H2: Carlsen-Anand | I2: Carlsen-Anand | J2: Anand-Carlsen | K2: Carlsen-Anand | L2: Anand-Carlsen (won't work from move 30 - can't do promotion) | M2: Carlsen-Anand | N2: Carlsen–Karjakin | O2: Karjakin–Carlsen | P2: Carlsen–Karjakin | Q2: Karjakin–Carlsen | R2: Carlsen–Karjakin | S2: Karjakin–Carlsen | T2: Karjakin–Carlsen | U2: Carlsen–Karjakin | V2: Karjakin–Carlsen | W2: Carlsen–Karjakin | X2: Karjakin–Carlsen | Y2: Carlsen–Karjakin | Z2: Karjakin–Carlsen | AA2: Carlsen–Karjakin | AB2: Karjakin–Carlsen | AC2: Carlsen–Karjakin
A3: 1. e4 e5 | B3: 1. Nf3 Nf6 | C3: 1. d4 Nf6 | D3: 1. e4 e5 | E3: 1. d4 Nf6 | F3: 1. e4 c5 | G3: 1. d4 Nf6 | H3: 1. e4 c5 | I3: 1. e4 e5 | J3: 1. d4 Nf6 | K3: 1. e4 e5 | L3: 1. d4 Nf6 | M3: 1. e4 e5 | N3: 1. d4 Nf6 | O3: 1. e4 e5 | P3: 1. e4 e5 | Q3: 1. e4 e5 | R3: 1. e4 e5 | S3: 1. e4 e5 | T3: 1. d4 d5 | U3: 1. d4 Nf6 | V3: 1. e4 e5 | W3: 1. e4 e5 | X3: 1. e4 e5 | Y3: 1. e4 e5 | Z3: 1. e4 e5 | AA3: 1. e4 e5 | AB3: 1. e4 e5 | AC3: 1. e4 c5
A4: 2. f4 exf4 | B4: 2. c4 g6 | C4: 2. c4 g6 | D4: 2. Nf3 Nc6 | E4: 2. c4 e6 | F4: 2. Nf3 e6 | G4: 2. c4 e6 | H4: 2. Nf3 e6 | I4: 2. Nf3 Nc6 | J4: 2. c4 e6 | K4: 2. Nf3 Nc6 | L4: 2. c4 g6 | M4: 2. Nf3 Nc6 | N4: 2. Bg5 d5 | O4: 2. Nf3 Nc6 | P4: 2. Nf3 Nc6 | Q4: 2. Nf3 Nc6 | R4: 2. Nf3 Nc6 | S4: 2. Nf3 Nc6 | T4: 2. c4 c6 | U4: 2. Nf3 d5 | V4: 2. Nf3 Nc6 | W4: 2. Nf3 Nc6 | X4: 2. Nf3 Nc6 | Y4: 2. Nf3 Nc6 | Z4: 2. Nf3 Nc6 | AA4: 2. Nf3 Nc6 | AB4: 2. Nf3 Nc6 | AC4: 2. Nf3 d6
A5: 3. Bc4 Qh4+ | B5: 3. Nc3 Bg7 | C5: 3. Nc3 d5 | D5: 3. Bb5 Nf6 | E5: 3. Nf3 d5 | F5: 3. g3 Nc6 | G5: 3. Nf3 b6 | H5: 3. d4 cxd4 | I5: 3. Bb5 Nf6 | J5: 3. Nf3 d5 | K5: 3. Bb5 Nf6 | L5: 3. Nc3 d5 | M5: 3. Bb5 Nf6 | N5: 3. e3 c5 | O5: 3. Bb5 a6 | P5: 3. Bb5 Nf6 | Q5: 3. Bb5 a6 | R5: 3. Bc4 Bc5 | S5: 3. Bb5 a6 | T5: 3. Nc3 Nf6 | U5: 3. e3 e6 | V5: 3. Bb5 a6 | W5: 3. Bb5 Nf6 | X5: 3. Bb5 a6 | Y5: 3. Bb5 Nf6 | Z5: 3. Bb5 a6 | AA5: 3. Bc4 Bc5 | AB5: 3. Bb5 a6 | AC5: 3. d4 cxd4
A6: 4. Kf1 b5?! | B6: 4. d4 0-0 | C6: 4. cxd5 Nxd5 | D6: 4. d3 Bc5 | E6: 4. Nc3 Be7 | F6: 4. Bg2 d5 | G6: 4. g3 Bb4+ | H6: 4. Nxd4 a6 | I6: 4. 0-0 Nxe4 | J6: 4. Nc3 Be7 | K6: 4. 0-0 Nxe4 | L6: 4. Nf3 Bg7 | M6: 4. 0-0 Nxe4 | N6: 4. Bxf6 gxf6 | O6: 4. Ba4 Nf6 | P6: 4. 0-0 Nxe4 | Q6: 4. Ba4 Nf6 | R6: 4. 0-0 Nf6 | S6: 4. Ba4 Nf6 | T6: 4. e3 a6 | U6: 4. Bd3 c5 | V6: 4. Ba4 Nf6 | W6: 4. d3 Bc5 | X6: 4. Ba4 Nf6 | Y6: 4. 0-0 Nxe4 | Z6: 4. Ba4 Nf6 | AA6: 4. 0-0 Nf6 | AB6: 4. Ba4 Nf6 | AC6: 4. Nxd4 Nf6
A7: 5. Bxb5 Nf6 | B7: 5. Bf4 d5 | C7: 5. Bd2 Bg7 | D7: 5. 0-0 d6 | E7: 5. Bf4 0-0 | F7: 5. exd5 exd5 | G7: 5. Bd2 Be7 | H7: 5. c4 Nf6 | I7: 5. d4 Nd6 | J7: 5. Bf4 0-0 | K7: 5. d4 Nd6 | L7: 5. Qb3 dxc4 | M7: 5. d4 Nd6 | N7: 5. dxc5 Nc6 | O7: 5. 0-0 Be7 | P7: 5. Re1 Nd6 | Q7: 5. 0-0 Be7 | R7: 5. d3 0-0 | S7: 5. 0-0 Be7 | T7: 5. Bd3 dxc4 | U7: 5. b3 Be7 | V7: 5. 0-0 b5 | W7: 5. c3 0-0 | X7: 5. 0-0 Be7 | Y7: 5. Re1 Nd6 | Z7: 5. 0-0 Be7 | AA7: 5. d3 0-0 | AB7: 5. 0-0 Be7 | AC7: 5. f3 e5
A8: 6. Nf3 Qh6 | B8: 6. Qb3 dxc4 | C8: 6. e4 Nxc3 | D8: 6. Re1 0-0 | E8: 6. e3 Nbd7 | F8: 6. 0-0 Nf6 | G8: 6. Nc3 Bb7 | H8: 6. Nc3 Bb4 | I8: 6. Bxc6 dxc6 | J8: 6. e3 c5 | K8: 6. Bxc6 dxc6 | L8: 6. Qxc4 0-0 | M8: 6. Bxc6 dxc6 | N8: 6. Bb5 e6 | O8: 6. d3 b5 | P8: 6. Nxe5 Be7 | Q8: 6. Re1 b5 | R8: 6. a4 d6 | S8: 6. Re1 b5 | T8: 6. Bxc4 e6 | U8: 6. 0-0 0-0 | V8: 6. Bb3 Bc5 | W8: 6. Bg5 h6 | X8: 6. d3 b5 | Y8: 6. Nxe5 Be7 | Z8: 6. d3 b5 | AA8: 6. a4 a6 | AB8: 6. d3 b5 | AC8: 6. Nb3 Be7
A9: 7. d3 Nh5 | B9: 7. Qxc4 c6 | C9: 7. Bxc3 0-0 | D9: 7. Bxc6 bxc6 | E9: 7. c5 c6 | F9: 7. d4 Be7 | G9: 7. Bg2 c6 | H9: 7. Qd3 Nc6 | I9: 7. dxe5 Nf5 | J9: 7. dxc5 Bxc5 | K9: 7. dxe5 Nf5 | L9: 7. e4 Na6 | M9: 7. dxe5 Nf5 | N9: 7. c4 dxc4 | O9: 7. Bb3 d6 | P9: 7. Bf1 Nxe5 | Q9: 7. Bb3 0-0 | R9: 7. c3 a6 | S9: 7. Bb3 0-0 | T9: 7. Nf3 c5 | U9: 7. Bb2 b6 | V9: 7. a4 Rb8 | W9: 7. Bh4 Be7 | X9: 7. Bb3 d6 | Y9: 7. Bf1 Nxe5 | Z9: 7. Bb3 d6 | AA9: 7. c3 d6 | AB9: 7. Bb3 d6 | AC9: 7. c4 a5
A10: 8. Nh4 Qg5 | B10: 8. e4 Nbd7 | C10: 8. Qd2 Nc6 | D10: 8. h3 Re8 | E10: 8. Bd3 b6 | F10: 8. Be3 cxd4 | G10: 8. e4 d5 | H10: 8. Nxc6 dxc6 | I10: 8. Qxd8+ Kxd8 | J10: 8. a3 Nc6 | K10: 8. Qxd8+ Kxd8 | L10: 8. Be2 c5 | M10: 8. Qxd8+ Kxd8 | N10: 8. Nd2 Bxc5 | O10: 8. a3 0-0 | P10: 8. Rxe5 0-0 | Q10: 8. h3 Bb7 | R10: 8. b4 Ba7 | S10: 8. h3 Bb7 | T10: 8. 0-0 b5 | U10: 8. dxc5 Bxc5 | V10: 8. c3 d6 | W10: 8. 0-0 d6 | X10: 8. a3 0-0 | Y10: 8. Rxe5 0-0 | Z10: 8. a3 0-0 | AA10: 8. Re1 Ba7 | AB10: 8. a3 0-0 | AC10: 8. Be3 a4
A11: 9. Nf5 c6 | B11: 9. Rd1 Nb6 | C11: 9. Nf3 Bg4 | D11: 9. Nbd2 Nd7 | E11: 9. b4 a5 | F11: 9. Nxd4 Bg4 | G11: 9. exd5 cxd5 | H11: 9. Qxd8+ Kxd8 | I11: 9. h3 Ke8 | J11: 9. Qc2 Re8 | K11: 9. h3 Ke8 | L11: 9. d5 e6 | M11: 9. h3 Bd7 | N11: 9. Ngf3 0-0 | O11: 9. Nc3 Na5 | P11: 9. d4 Bf6 | Q11: 9. d3 d6 | R11: 9. Re1 Ne7 | S11: 9. d3 d5 | T11: 9. Be2 Bb7 | U11: 9. Nbd2 Bb7 | V11: 9. d4 Bb6 | W11: 9. Nbd2 Nh5 | X11: 9. Nc3 Be6 | Y11: 9. d4 Bf6 | Z11: 9. Nc3 Nb8 | AA11: 9. h3 Ne7 | AB11: 9. Nc3 Na5 | AC11: 9. Nc1 0-0
A12: 10. g4? Nf6 | B12: 10. Qc5 Bg4 | C12: 10. d5 Bxf3 | D12: 10. Nc4 Bb6 | E12: 10. a3 Ba6 | F12: 10. Qd3 Qd7 | G12: 10. Ne5 0-0 | H12: 10. e5 Nd7 | I12: 10. Nc3 h5 | J12: 10. Bg5 Be7 | K12: 10. Nc3 h5 | L12: 10. 0-0 exd5 | M12: 10. Nc3 h6 | N12: 10. 0-0 Na5 | O12: 10. Ba2 Be6 | P12: 10. Re2 b6 | Q12: 10. a3 Qd7 | R12: 10. Nbd2 Ng6 | S12: 10. exd5 Nxd5 | T12: 10. dxc5 Nc6 | U12: 10. Qe2 Nbd7 | V12: 10. axb5 axb5 | W12: 10. Bxe7 Qxe7 | X12: 10. Nd5 Nd4 | Y12: 10. Re1 Re8 | Z12: 10. Ne2 c5 | AA12: 10. d4 Ng6 | AB12: 10. Ba2 Be6 | AC12: 10. Nc3 Qa5
... A22: 20. Ke2 Na6 | B22: 20. Kf1 Nxd4+ | C22: 20. Qd2 Rd6 | D22: 20. h4 Bxf5 | E22: 20. fxe4 Rxb5 | F22: 20. Bd4 Nh7 | G22: 20. Nd5 Bxd5 | H22: 20. hxg6 Nxg6 | I22: 20. Kf2 Rxd1 | J22: 20. Nc5 Bxc5 | K22: 20. Ng5+ ½–½ | L22: 20. Nxe4 Rxe4 | M22: 20. Kg3 Be7 | N22: 20. g3 Rd7 | O22: 20. Qxd8 Rcxd8 | P22: 20. Kxg2 f5 | Q22: 20. Be3 Nxe4 | R22: 20. Rf3 Bxc5 | S22: 20. f3 Rfe8 | T22: 20. Bxf8 Qxd1 | U22: 20. a4 Bd5 | V22: 20. exd6 c4 | W22: 20. Nd2 d5 | X22: 20. Bg5 Bxg5 | Y22: 20. Qxe3 Qe7 | Z22: 20. d4 bxc3 | AA22: 20. Bxe3 Rxa4 | AB22: 20. f3 Bh4 | AC22: 20. Bf1 h4
A23: 21. Nxg7+ Kd8 | B23: 21. Kg1 Ne2+ | C23: 21. Rhe1 Nd8 | D23: 21. exf5 Nf4 | E23: 21. Qxa4 Ra5 | F23: 21. cxd5 Bxd5 | G23: 21. Bxd5 Rad8 | H23: 21. Rh5 Bc6 | I23: 21. Nxd1 Nf5 | J23: 21. Qxc5 b4 | L23: 21. Bf3 Re7 | M23: 21. Nd2 Rhd8 | N23: 21. Kf1 f5 | O23: 21. axb5 axb5 | P23: 21. Nd5 Kf7 | Q23: 21. Ng3 Nd6 | R23: 21. bxc5 Re8 | S23: 21. Re5 Qd6 | T23: 21. Rxd1 Rxf8 | U23: 21. Bd4 Bxc4 | V23: 21. b3 cxb3 | W23: 21. Qh5 Ng5 | X23: 21. Qxg5 dxe4 | Y23: 21. Qxe7 Bxe7 | Z23: 21. bxc3 cxd4 | AA23: 21. Qxa4 Nxe4 | AB23: 21. a4 Nf6 | AC23: 21. Qf2 Nd7
A24: 22. Qf6+! Nxf6 | B24: 22. Kf1 Nc3+ | C24: 22. f5 Nxe6 | D24: 22. Bxf4 exf4 | E24: 22. Qc6 bxa3 | F24: 22. Rxe8+ Rxe8 | G24: 22. Qf3 Qxb2 | H24: 22. Bc2 Kb7 | I24: 22. Rh1 Bxa2 | J24: 22. Rc1 bxa3 | L24: 22. d6 Rd7 | M24: 22. Ne4 Bf8 | N24: 22. Ke2 Bf6 | O24: 22. Ne2 Bb4 | P24: 22. Ne3 Kf6 | Q24: 22. Rad1 Rab8 | R24: 22. Rf4 Qe7 | S24: 22. c3 Rxe6 | T24: 22. Bxa6 b4 | U24: 22. Rxc4 Bxd4 | V24: 22. Bxb3 Qxd6 | W24: 22. h4 Nf3 | X24: 22. fxe6 Rxf1+ | Y24: 22. Re1 Bf8 | Z24: 22. cxd4 exd4 | AA24: 22. Rc1 Bd5 | AB24: 22. Qe2 a5 | AC24: 22. g3 Ra3
A25: 23. Be7# | B25: 23. Kg1 axb6 | C25: 23. Rxe6 Qc7+ | D25: 23. Rc3 c5 | E25: 23. exd5 Rxd5 | F25: 23. Qd3 Nf8 | G25: 23. Rad1 Qf6 | H25: 23. Rg4 a5 | I25: 23. Rxh5 Be6 | J25: 23. bxa3 Qxc5 | L25: 23. Bf4 Nb4 | M25: 23. Nef6 b5 | N25: 23. b3 Kf8 | O25: 23. Bc3 Bxc3 | P25: 23. Nc4 Bf8 | Q25: 23. Bc1 f6 | R25: 23. Qd4 Ref8 | S25: 23. Rxe6 Qxe6 | T25: 23. Rc1 g6 | U25: 23. Rdxd4 Rxc4 | V25: 23. Ra6 Rfd8 | W25: 23. Nxf3 Qxf3+ | X25: 23. Rxf1 Qxe6 | Y25: 23. Kf1 f6 | Z25: 23. Nxd4 Nxd4 | AA25: 23. b5 cxb5 | AB25: 23. axb5 axb4 | AC25: 23. Bh3 Rca8
B26: 24. Qb4 Ra4! | C26: 24. Kb1 Rc8 | D26: 24. Re6 Rab8 | E26: 24. Qxb6 Qd7 | F26: 24. Nh4 Be5 | G26: 24. Qxf6 gxf6 | H26: 24. Bd1 Rd8 | I26: 24. g4 Nd6 | J26: 24. Rxc5 Ne7 | L26: 24. Rd2 Re8 | M26: 24. Bc3 bxa4 | N26: 24. h3 h6 | O26: 24. Nxc3 Nbd7 | P26: 24. Re1 Rd8 | Q26: 24. Qxc6 Bxc6 | R26: 24. Rf3 Be4 | S26: 24. cxb4 cxb4 | T26: 24. Rc2 Ra8 | U26: 24. bxc4 Nf6 | V26: 24. Rg1 Qd7 | W26: 24. Qxf3 Rxf3 | X26: 24. cxd4 e3 | Y26: 24. g4 Kf7 | Z26: 24. Bxd4 Rb4 | AA26: 24. Qxe4 Qxc1 | AB26: 24. Bd2 bxc3 | AC26: 24. Nc2 R3a6
B27: 25. Qxb6 Nxd1 | C27: 25. Rde1 Rxe6 | D27: 25. Rc4 Qd7 | E27: 25. 0-0 Rc8 | F27: 25. Bxd5 Qxd5 | G27: 25. Re7 Kg7 | H27: 25. Bc2 Rdg8 | I27: 25. Rh7 Nf7 | J27: 25. Rfc1 Rc8 | L27: 25. Rc1 Re6 | M27: 25. bxa4 Kc6 | N27: 25. Ne1 Ke7 | O27: 25. Ra6 Rc8 | P27: 25. f4 gxf4 | Q27: 25. Ng4 Rb5 | R27: 25. Rxf7 Qxf7 | S27: 25. Rc1 Rc8 | T27: 25. Bd3 Rd8 | U27: 25. Qd2 Rb8 | V27: 25. Rg4 Nf6 | W27: 25. Kg2 Rf7 | X27: 25. Re1 h6 | Y27: 25. h3 Re8 | Z27: 25. Rec1 Qd7 | AA27: 25. Qxd5 Qc7 | AB27: 25. Bxc3 Ne3 | AC27: 25. Nb4 Ra5
B28: 26. h3 Rxa2 | C28: 26. Rxe6 Rd8 | D28: 26. Kh2 Rf8 | E28: 26. Rc6 g5 | F28: 26. Bxe5 Qxe5 | G28: 26. Rxa7 Nc6 | H28: 26. Kd2 a4 | I28: 26. Ne3 Kd8 | J28: 26. Bd3 Red8 | L28: 26. h4 Be5 | M28: 26. Kf3 Rdb8 | N28: 26. Nd3 Kd8 | O28: 26. b4 Re6 | P28: 26. gxf4 b5 | Q28: 26. f3 f5 | R28: 26. f3 Bf5 | S28: 26. Rxc8+ Qxc8 | T28: 26. Be2 Kf8 | U28: 26. g3 Ne5 | V28: 26. Rh4 Qb5 | W28: 26. Rfe1 h5 | X28: 26. Qh5 e2 | Y28: 26. Rxe8 Kxe8 | Z28: 26. Bc3 Rxa4 | AA28: 26. Qxb5 Rb8 | AB28: 26. Rfc1 Rxa1 | AC28: 26. Nc2 b6
B29: 27. Kh2 Nxf2 | C29: 27. Qe3 Rd7 | D29: 27. Rce4 Rb7 | E29: 27. Bg3 Bb4 | F29: 27. b3 Ne6 | G29: 27. Rb7 Nb4 | H29: 27. Ke2 a3 | I29: 27. Nf5 c5 | J29: 27. Rxc8 Rxc8 | L29: 27. Bxe5 Rxe5 | M29: 27. Ke4 Rb4 | N29: 27. f4 h5 | O29: 27. Rb1 c5 | P29: 27. axb5 axb5 | Q29: 27. Nf2 Be7 | R29: 27. Kh2 Be6 | S29: 27. Qe1 Qd7 | T29: 27. Kf1 Ra8 | U29: 27. Bg2 h6 | V29: 27. Ra1 g6 | W29: 27. Nf1 Kf8 | X29: 27. Qf3 a5 | Y29: 27. Ke2 Kd7 | Z29: 27. Bxa5 Rxa1 | AA29: 27. Qd5 Rd8 | AB29: 27. Rxa1 Qe8 | AC29: 27. Rd2 Qc7
B30: 28. Re1 Rxe1 | C30: 28. d6 exd6 | D30: 28. Qe2 b5 | E30: 28. Ra1 Ba5 | F30: 28. Nf3 Qf6 | G30: 28. Bb3 Rxd1+ | H30: 28. f3 Rd8 | I30: 28. Ng3 Ne5 | J30: 28. Rxc8+ Nxc8 | L30: 28. Bxb7 Rxb7 | M30: 28. Bxb4 cxb4 | N30: 28. a4 Rd5 | O30: 28. Rxe6 fxe6 | P30: 28. Ne3 c6 | Q30: 28. f4 Bh4 | R30: 28. Re2 Qg6 | S30: 28. Kh2 a5 | T30: 28. Bc4 Rc8 | U30: 28. f4 Ned7 | V30: 28. Rb1 Qd7 | W30: 28. Nd2 Ke7 | X30: 28. c3 Qa2 | Y30: 28. Kd3 Ke6 | Z30: 28. Rxa1 Ra8 | AA30: 28. Qb3 Rb8 | AB30: 28. Bc4 Kh8 | AC30: 28. Rbd1 Bf8
B31: 29. Qd8+ Bf8 | C31: 29. Qd4 Rf7 | D31: 29. b3 bxa4 | E31: 29. Qa6 Bxc7 | F31: 29. Kg2 Rd8 | G31: 29. Bxd1 Nxa2 | H31: 29. Ke1 Rd7 | I31: 29. Rh8+ Rg8 | J31: 29. Nd2 Nb6 | L31: 29. d7 Nc6 | M31: 29. Nh5 Kb7 | N31: 29. Nc5 b6 | O31: 29. Nxb5 cxb4 | P31: 29. Kf3 Ra8 | Q31: 29. fxe5 Bxg3 | R31: 29. Be3 Rf7 | S31: 29. Qe3 Bd5 | T31: 29. Ke2 Ke7 | U31: 29. Na7 Qa3 | V31: 29. Qd3 Nd5 | W31: 29. Re2 Kd6 | X31: 29. Qc6 Re6 | Y31: 29. a4 a6 | Z31: 29. Bc3 Rxa1+ | AA31: 29. Qa2 h6 | AB31: 29. Nxf6 Bxf6 | AC31: 29. gxh4 Nf4
B32: 30. Nxe1 Bd5 | C32: 30. fxg6 hxg6 | D32: 30. bxa4 Rb4 | E32: 30. Qc4 e5 | F32: 30. Qe2 Rd5 | G32: 30. Rxb6 Nc3 | H32: 30. Bc1 Ra8 | I32: 30. Bxe5 fxe5 | J32: 30. Nb3 Nd7 | L32: 30. d8=Q+ Nxd8 | M32: 30. f4 gxf4 | N32: 30. Na6 Be7 | O32: 30. Rxb4 Rxc2 | P32: 30. Rg1 Ra2 | Q32: 30. exd6 Rxe1+ | R32: 30. Rf2 Qb1 | S32: 30. Qb6 Bxb3 | T32: 30. f4 h6 | U32: 30. Nc6 Rf8 | V32: 30. Rg1 Bc7 | W32: 30. Nf3 Raf8 | X32: 30. Qc8+ Kh7 | Y32: 30. f3 Be7 ½–½ | Z32: 30. Bxa1 Qc6 | AA32: 30. Qd5 Qe7 | AB32: 30. Ra3 e4 | AC32: 30. Bxf4 exf4
B33: 31. Nf3 Ne4 | C33: 31. Rxd6 a6 | D33: 31. Re7 Qd6 | E33: 31. Bxe5 Rxe5 | F33: 31. Rxd5 cxd5 | G33: 31. Bf3 f5 | H33: 31. Ke2 Ba4 | I33: 31. Rh5 Bxg4 | J33: 31. Na5 Bc8 | L33: 31. Rxd8+ Kg7 | M33: 31. Nhxf4 Nxf4 | N33: 31. Nb8 a5 | O33: 31. Nd6 Rc1+ | P33: 31. b3 c5 | Q33: 31. Rxe1 cxd6 | R33: 31. Rb2 Qf5 | S33: 31. Qxa5 Qxd3 | T33: 31. Kf3 Rc7 | U33: 31. h3 Nc5 | V33: 31. Bg5 Re8 | W33: 31. Ng5 Re7 | X33: 31. c4 Qd2 | Z33: 31. Kh2 Kf7 | AA33: 31. Qe4 Qf6 | AB33: 31. dxe4 Bxc3 | AC33: 31. Bxd7 Qxd7
B34: 32. Qb8 b5 | C34: 32. a3 Qa5 | D34: 32. Qf3 Rxe4 | E34: 32. dxe5 Qe7 | F34: 32. Ne5 Qf5 | G34: 32. Kg2 Rd8 | H34: 32. Be4+ Bc6 | I34: 32. fxg4 Rxg4 | J34: 32. Kf1 Kf8 | L34: 32. Rd2 ½–½ | M34: 32. Nxf4 Bxc4 | N34: 32. Nc6+ Ke8 | O34: 32. Kh2 Rc2 | P34: 32. Rg8 Kf7 | Q34: 32. Rd1 Kf7 | R34: 32. a5 Kf8 | S34: 32. Qxb4 Be6 ½–½ | T34: 32. g4 g5 | U34: 32. Kh2 Nxa4 | V34: 32. Qc4 Rb5 | W34: 32. Rae1 Rfe8 | X34: 32. Qxe6 Qxe1+ | Z34: 32. Bb2 Qc5 | AA34: 32. g3 Rc8 | AB34: 32. Rxc3 Qe5 | AC34: 32. Nb4 Ra3
B35: 33. h4 h5 | C35: 33. f4 Qh5 | D35: 33. Qxe4 f3+ | E35: 33. e6 Kf8 | F35: 33. Nd3 Nd4 | G35: 33. Rc6 Ne4 | H35: 33. Bxg6 fxg6 | I35: 33. Rxe5 b6 | J35: 33. Ke1 Ke7 | M35: 33. Rd7 Ra6 | N35: 33. Ne5 Bc5 | O35: 33. Kg1 ½–½ | P35: 33. Rg2 cxd4 | Q35: 33. Rd4 Re5 | R35: 33. Qc3 Ke8 | T35: 33. Ke4 Rc8 ½–½ | U35: 33. Rd8 g6 | V35: 33. Qc2 Ra8 | W35: 33. Nf3 Nh8 | X35: 33. Kh2 Qf2 | Z35: 33. f4 Bd8 | AA35: 33. Bd3 Qc6 | AB35: 33. Rc1 Ra8 | AC35: 33. Nxc6 Qxc6
B36: 34. Ne5 Kg7 | C36: 34. Qd2 Qc5 | D36: 34. g3 h5 | E36: 34. Rc1 1–0 | F36: 34. g4 Qd7 | G36: 34. Bxe4 fxe4 | H36: 34. Rxg6 Ba4 | I36: 34. Ne4 Rh4 | J36: 34. Kd2 Kd6 | M36: 34. Nd5 Rc6 | N36: 34. Rc3 Ke7 | P36: 34. Nxf5 d3 | Q36: 34. Kf1 Rd5 | R36: 34. Rb4 g5 | U36: 34. Qd4 Kg7 | V36: 34. Bc4 Rba5 | W36: 34. d4 exd4 | X36: 34. Qe4+ ½–½ | Z36: 34. e5 dxe5 | AA36: 34. Qf5 Re8 | AB36: 34. h3 h6 | AC36: 34. Nb5 Rxb3
B37: 35. Kg1 Bc5+ | C37: 35. Rd5 Qc4 | D37: 35. Qb7 1–0 | F37: 35. Qe5 Ne6 | G37: 35. Rc4 f5 | H37: 35. Rxe6 Rd1 | I37: 35. Ke2 Rh6 | J37: 35. Kc3 Ne5 | M37: 35. Rxf7 Bc5 | N37: 35. Rd3 Rxd3 | P37: 35. cxd3 Ra1 | Q37: 35. Rxd5 Bxd5 | R37: 35. Rb2 Kd8 | U37: 35. c5 Rxd8 | V37: 35. Bd2 Ra4 | W37: 35. Nxd4 g6 | Z37: 35. Bxe5 Bb6 | AA37: 35. Be4 Qe6 | AB37: 35. Kh2 Qd4 | AC37: 35. Nd4 Qxc4
B38: 36. Kf1 Ng3+ | C38: 36. Rd7 Qc6 | F38: 36. Kg3 Qb5 | G38: 36. g4 Rd2 | H38: 36. Bxa3 Ra1 | I38: 36. b3 Kd7 | J38: 36. Be2 Kc5 | M38: 36. Rxc7+ Rxc7 | N38: 36. Kxd3 f6 | P38: 36. Nd4 b4 | Q38: 36. Bg5 Kg6 | R38: 36. Rf2 Kc8 | U38: 36. Nxd8 Nxc5 | V38: 36. Qd3 Ra1 | W38: 36. Re3 Nf7 | Z38: 36. Qd1 Qd5 | AA38: 36. Qh5 Ne7 | AB38: 36. Qe1 Qb2 | AC38: 36. Nxb3 Qxb3
B39: 37. Ke1 Bb4+ | C39: 37. Rd6 Qe4+ | F39: 37. Nf4 Nxf4 | G39: 37. gxf5 e3 | H39: 37. Ke3 Bc2 | I39: 37. Kd2 Kc6 | J39: 37. f4 Nc6 | M39: 37. Nxc7 Kc6 | N39: 37. Nc6+ Kd6 | P39: 37. Rg5 Rb1 | Q39: 37. h4 Kh5 | R39: 37. Qd4 Qg6 | U39: 37. Qd6 Qd3 | V39: 37. Rxa1 Rxa1+ | W39: 37. e5+ Kd7 | Z39: 37. Qxd5 Nxd5 ½–½ | AA39: 37. Qxe5 Qxe5 | AB39: 37. Bf1 Ra2 | AC39: 37. Qe2 Be7
B40: 38. Kd1 Bb3+ | C40: 38. Ka2 Re7 | F40: 38. Kxf4 Qb4+ | G40: 38. Re4 Rxf2+ | H40: 38. Re7+ 1–0 | I40: 38. Nc3 a6 | J40: 38. Nxc6 Kxc6 | M40: 38. Nb5 Bxb5 | N40: 38. Nd4 Kd5 | P40: 38. Rf5+ Ke8 | Q40: 38. Nh3 Bf7 | R40: 38. g4 h5 | U40: 38. Nxe6+ fxe6 | V40: 38. Kg2 Ne7 | W40: 38. Rf3 Nh6 | AA40: 38. Nxe5 Ng6 | AB40: 38. Rxc7? Ra1 0-1 | AC40: 38. Kg2 Qe6
B41: 39. Kc1 Ne2+ | C41: 39. Qc1 a5 | F41: 39. Kf3 d4 | G41: 39. Kg3 Rxf5 ½–½ | I41: 39. Re4 Rh2+ | J41: 39. Kd4 f6 | M41: 39. axb5+ Kxb5 | N41: 39. Nb5 Kc6 | P41: 39. Rb5 Rf1+ | Q41: 39. Be7 Bxh4 | R41: 39. Qd2 Rg7 | U41: 39. Qe7+ Kg8 | V41: 39. Bxf7+ Kxf7 | W41: 39. Rf6 Rg7 | AA41: 39. Bxg6 Rxe5 | AC41: 39. h5 Ra3
B42: 40. Kb1 Nc3+ | C42: 40. Qf1 a4 | F42: 40. Qe8+ Kh7 | I42: 40. Kc1 Rh1+ | J42: 40. e4 Kd6 | M42: 40. e6 b3 | N42: 40. Nd4+ Kd6 | P42: 40. Ke4 Re1+ | Q42: 40. Bxd6 Bd8 | R42: 40. Kg3 Rg8 | U42: 40. Qxf6 a4 | V42: 40. Qc4+ Kg7 | W42: 40. b4 axb4 | AA42: 40. Bd3 f6 | AC42: 40. Rd3 Ra2
B43: 41. Kc1 Rc2# | C43: 41. Rd1 Qc2 | F43: 41. Qxf7 Qd2 | I43: 41. Kb2 Rh6 | J43: 41. e5+ ½–½ | M43: 41. Kd3 Be7 | N43: 41. Nb5+ Kd7 | P43: 41. Kf5 Rd1 | Q43: 41. Ke2 g5 | R43: 41. Kg2 hxg4 | U43: 41. e4 Qd7 | V43: 41. d5 Nf5 | W43: 41. cxb4 Ng8 | AA43: 41. Kg2 Kh8 | AC43: 41. R3d2 Ra3
C44: 42. Rd4 Re2 | F44: 42. Qf5+ Kh8 | I44: 42. Nd1 Rg6 | M44: 42. h4 a4 | N44: 42. Nd4 Kd6 ½–½ | P44: 42. Re5+ Kf7 | Q44: 42. Nf2 Kg6 | R44: 42. hxg4 d4 | U44: 42. Qxg6+ Qg7 | V44: 42. Bc3+ Kf8 | W44: 42. Rf3 Nh6 | AA44: 42. Kf3 Rd5 | AC44: 42. Rd3 Ra7
C45: 43. Rb4 b5 | F45: 43. h4 Qxa2 | I45: 43. Ne3 Rh6 | M45: 43. g5 hxg5 | P45: 43. Rd5 Rxd3 | Q45: 43. g4 Bb6 | R45: 43. Qxd4 Bd5 | U45: 43. Qe8+ Qf8 | V45: 43. Bxa1 Nxh4+ | W45: 43. a5 Nf5 | AA45: 43. Bg6 Ra5 | AC45: 43. Rd5 Rc7
C46: 44. Qh1 Re7 | F46: 44. Qe6 Qd2 | I46: 44. Re7 Rh2 | M46: 44. hxg5 a3 | P46: 44. Rxd7+ Ke8 | Q46: 44. Be5 a5 | R46: 44. e6 Qxe6 | U46: 44. Qc6 Qd8 | V46: 44. Qxh4 Qxd5 | W46: 44. Nb3 Kc7 | AA46: 44. Ke4 Rb5 | AC46: 44. Qd2 Qf6
C47: 45. Qd5 Re1 | F47: 45. Qe8+ Kh7 | I47: 45. Re6+ Kb7 | M47: 45. Kc3 1–0 | P47: 45. Rd5 Rh3 | Q47: 45. Nd1 f4 | R47: 45. Kg3 Qe7 | U47: 45. f5 a3 | V47: 45. Qf6+ Qf7 | W47: 45. Nc5 Kb8 | AA47: 45. h4 Re5+ | AC47: 45. Rf5 Qh4
C48: 46. Qd7+ Kh6 | F48: 46. Qe4+ Kh8 | I48: 46. Kc3 Rh4 | P48: 46. Re5+ Kf7 | Q48: 46. Bd4 Bc7 | R48: 46. Rh2 Qf7 | U48: 46. fxe6 Kg7 | V48: 46. Qd4 Ke8 | W48: 46. Rb1 Ka7 | AA48: 46. Kd4 Ra5 | AC48: 46. Rc1 Ra7
C49: 47. Qh3+ Kg7 | F49: 47. Qe8+ Kh7 ½–½ | I49: 47. Kb2 Rh2 | P49: 47. Re2 Bg7 | Q49: 47. Nf2 Be6 | R49: 47. f4 gxf4+ | U49: 47. e7 Qxe7 | V49: 47. Qe4+ Qe7 | W49: 47. Rd3 Rc7 | AA49: 47. Kc4 Re5 | AC49: 47. Qxf4 Ra2+
...

Sheet Moves
A1: =MATCH(Board!$C$1,GameList,0) -> 6 | E1: White | K1: Black
B2: Move | C2: Space 1 | D2: Space 2 | E2: Move | F2: Clean | G2: Piece | H2: X | I2: Y | J2: Disamb | K2: Move | L2: Clean | M2: Piece | N2: X | O2: Y | P2: Disamb
A3: =INDEX(Games!$A3:$AC3,$A$1)&"" -> 1. e4 c5 | B3: =LEFT(A3,FIND(".",A3)-1)*1 -> 1 | C3: =FIND(" ",A3) -> 3 | D3: =IFERROR(FIND(" ",A3,C3+1),LEN(A3)+1) -> 6 | E3: =MID(A3,C3+1,D3-C3-1) -> e4 | F3: =TRIM(SUBSTITUTE(SUBSTITUTE(SUBSTITUTE(SUBSTITUTE(SUBSTITUTE(SUBSTITUTE(SUBSTITUTE(SUBSTITUTE(SUBSTITUTE(E3,"?",""),"!",""),"#",""),"+",""),"x",""),"-","–"),"½–½",""),"1–0",""),"0–1","")) -> e4 | G3: =IF(EXACT(LEFT(F3,1),UPPER(LEFT(F3,1))),LEFT(F3,1),"P") -> P | H3: =CODE(UPPER(MID(F3,LEN(F3)-1,1)))-64 -> 5 | I3: =RIGHT(F3,1)*1 -> 4 | J3: =IF(LEN(F3)=4-(G3="P"),MID(F3,2-(G3="P"),1),"") | K3: =MID(A3,D3+1,9) -> c5 | L3: =TRIM(SUBSTITUTE(SUBSTITUTE(SUBSTITUTE(SUBSTITUTE(SUBSTITUTE(SUBSTITUTE(SUBSTITUTE(SUBSTITUTE(SUBSTITUTE(K3,"?",""),"!",""),"#",""),"+",""),"x",""),"-","–"),"½–½",""),"1–0",""),"0–1","")) -> c5 | M3: =IF(EXACT(LEFT(L3,1),UPPER(LEFT(L3,1))),LEFT(L3,1),"P") -> P | N3: =CODE(UPPER(MID(L3,LEN(L3)-1,1)))-64 -> 3 | O3: =RIGHT(L3,1)*1 -> 5 | P3: =IF(LEN(L3)=4-(M3="P"),MID(L3,2-(M3="P"),1),"") | R3: 1 | S3: =CODE(UPPER(R3)) -> 49 | T3: -1
A4: =INDEX(Games!$A4:$AC4,$A$1)&"" -> 2. Nf3 e6 | B4: =LEFT(A4,FIND(".",A4)-1)*1 -> 2 | C4: =FIND(" ",A4) -> 3 | D4: =IFERROR(FIND(" ",A4,C4+1),LEN(A4)+1) -> 7 | E4: =MID(A4,C4+1,D4-C4-1) -> Nf3 | F4: =TRIM(SUBSTITUTE(SUBSTITUTE(SUBSTITUTE(SUBSTITUTE(SUBSTITUTE(SUBSTITUTE(SUBSTITUTE(SUBSTITUTE(SUBSTITUTE(E4,"?",""),"!",""),"#",""),"+",""),"x",""),"-","–"),"½–½",""),"1–0",""),"0–1","")) -> Nf3 | G4: =IF(EXACT(LEFT(F4,1),UPPER(LEFT(F4,1))),LEFT(F4,1),"P") -> N | H4: =CODE(UPPER(MID(F4,LEN(F4)-1,1)))-64 -> 6 | I4: =RIGHT(F4,1)*1 -> 3 | J4: =IF(LEN(F4)=4-(G4="P"),MID(F4,2-(G4="P"),1),"") | K4: =MID(A4,D4+1,9) -> e6 | L4: =TRIM(SUBSTITUTE(SUBSTITUTE(SUBSTITUTE(SUBSTITUTE(SUBSTITUTE(SUBSTITUTE(SUBSTITUTE(SUBSTITUTE(SUBSTITUTE(K4,"?",""),"!",""),"#",""),"+",""),"x",""),"-","–"),"½–½",""),"1–0",""),"0–1","")) -> e6 | M4: =IF(EXACT(LEFT(L4,1),UPPER(LEFT(L4,1))),LEFT(L4,1),"P") -> P | N4: =CODE(UPPER(MID(L4,LEN(L4)-1,1)))-64 -> 5 | O4: =RIGHT(L4,1)*1 -> 6 | P4: =IF(LEN(L4)=4-(M4="P"),MID(L4,2-(M4="P"),1),"") | R4: 2 | S4: =CODE(UPPER(R4)) -> 50 | T4: -2
A5: =INDEX(Games!$A5:$AC5,$A$1)&"" -> 3. g3 Nc6 | B5: =LEFT(A5,FIND(".",A5)-1)*1 -> 3 | C5: =FIND(" ",A5) -> 3 | D5: =IFERROR(FIND(" ",A5,C5+1),LEN(A5)+1) -> 6 | E5: =MID(A5,C5+1,D5-C5-1) -> g3 | F5: =TRIM(SUBSTITUTE(SUBSTITUTE(SUBSTITUTE(SUBSTITUTE(SUBSTITUTE(SUBSTITUTE(SUBSTITUTE(SUBSTITUTE(SUBSTITUTE(E5,"?",""),"!",""),"#",""),"+",""),"x",""),"-","–"),"½–½",""),"1–0",""),"0–1","")) -> g3 | G5: =IF(EXACT(LEFT(F5,1),UPPER(LEFT(F5,1))),LEFT(F5,1),"P") -> P | H5: =CODE(UPPER(MID(F5,LEN(F5)-1,1)))-64 -> 7 | I5: =RIGHT(F5,1)*1 -> 3 | J5: =IF(LEN(F5)=4-(G5="P"),MID(F5,2-(G5="P"),1),"") | K5: =MID(A5,D5+1,9) -> Nc6 | L5: =TRIM(SUBSTITUTE(SUBSTITUTE(SUBSTITUTE(SUBSTITUTE(SUBSTITUTE(SUBSTITUTE(SUBSTITUTE(SUBSTITUTE(SUBSTITUTE(K5,"?",""),"!",""),"#",""),"+",""),"x",""),"-","–"),"½–½",""),"1–0",""),"0–1","")) -> Nc6 | M5: =IF(EXACT(LEFT(L5,1),UPPER(LEFT(L5,1))),LEFT(L5,1),"P") -> N | N5: =CODE(UPPER(MID(L5,LEN(L5)-1,1)))-64 -> 3 | O5: =RIGHT(L5,1)*1 -> 6 | P5: =IF(LEN(L5)=4-(M5="P"),MID(L5,2-(M5="P"),1),"") | R5: 3 | S5: =CODE(UPPER(R5)) -> 51 | T5: -3
A6: =INDEX(Games!$A6:$AC6,$A$1)&"" -> 4. Bg2 d5 | B6: =LEFT(A6,FIND(".",A6)-1)*1 -> 4 | C6: =FIND(" ",A6) -> 3 | D6: =IFERROR(FIND(" ",A6,C6+1),LEN(A6)+1) -> 7 | E6: =MID(A6,C6+1,D6-C6-1) -> Bg2 | F6: =TRIM(SUBSTITUTE(SUBSTITUTE(SUBSTITUTE(SUBSTITUTE(SUBSTITUTE(SUBSTITUTE(SUBSTITUTE(SUBSTITUTE(SUBSTITUTE(E6,"?",""),"!",""),"#",""),"+",""),"x",""),"-","–"),"½–½",""),"1–0",""),"0–1","")) -> Bg2 | G6: =IF(EXACT(LEFT(F6,1),UPPER(LEFT(F6,1))),LEFT(F6,1),"P") -> B | H6: =CODE(UPPER(MID(F6,LEN(F6)-1,1)))-64 -> 7 | I6: =RIGHT(F6,1)*1 -> 2 | J6: =IF(LEN(F6)=4-(G6="P"),MID(F6,2-(G6="P"),1),"") | K6: =MID(A6,D6+1,9) -> d5 | L6: =TRIM(SUBSTITUTE(SUBSTITUTE(SUBSTITUTE(SUBSTITUTE(SUBSTITUTE(SUBSTITUTE(SUBSTITUTE(SUBSTITUTE(SUBSTITUTE(K6,"?",""),"!",""),"#",""),"+",""),"x",""),"-","–"),"½–½",""),"1–0",""),"0–1","")) -> d5 | M6: =IF(EXACT(LEFT(L6,1),UPPER(LEFT(L6,1))),LEFT(L6,1),"P") -> P | N6: =CODE(UPPER(MID(L6,LEN(L6)-1,1)))-64 -> 4 | O6: =RIGHT(L6,1)*1 -> 5 | P6: =IF(LEN(L6)=4-(M6="P"),MID(L6,2-(M6="P"),1),"") | R6: 4 | S6: =CODE(UPPER(R6)) -> 52 | T6: -4
A7: =INDEX(Games!$A7:$AC7,$A$1)&"" -> 5. exd5 exd5 | B7: =LEFT(A7,FIND(".",A7)-1)*1 -> 5 | C7: =FIND(" ",A7) -> 3 | D7: =IFERROR(FIND(" ",A7,C7+1),LEN(A7)+1) -> 8 | E7: =MID(A7,C7+1,D7-C7-1) -> exd5 | F7: =TRIM(SUBSTITUTE(SUBSTITUTE(SUBSTITUTE(SUBSTITUTE(SUBSTITUTE(SUBSTITUTE(SUBSTITUTE(SUBSTITUTE(SUBSTITUTE(E7,"?",""),"!",""),"#",""),"+",""),"x",""),"-","–"),"½–½",""),"1–0",""),"0–1","")) -> ed5 | G7: =IF(EXACT(LEFT(F7,1),UPPER(LEFT(F7,1))),LEFT(F7,1),"P") -> P | H7: =CODE(UPPER(MID(F7,LEN(F7)-1,1)))-64 -> 4 | I7: =RIGHT(F7,1)*1 -> 5 | J7: =IF(LEN(F7)=4-(G7="P"),MID(F7,2-(G7="P"),1),"") -> e | K7: =MID(A7,D7+1,9) -> exd5 | L7: =TRIM(SUBSTITUTE(SUBSTITUTE(SUBSTITUTE(SUBSTITUTE(SUBSTITUTE(SUBSTITUTE(SUBSTITUTE(SUBSTITUTE(SUBSTITUTE(K7,"?",""),"!",""),"#",""),"+",""),"x",""),"-","–"),"½–½",""),"1–0",""),"0–1","")) -> ed5 | M7: =IF(EXACT(LEFT(L7,1),UPPER(LEFT(L7,1))),LEFT(L7,1),"P") -> P | N7: =CODE(UPPER(MID(L7,LEN(L7)-1,1)))-64 -> 4 | O7: =RIGHT(L7,1)*1 -> 5 | P7: =IF(LEN(L7)=4-(M7="P"),MID(L7,2-(M7="P"),1),"") -> e | R7: 5 | S7: =CODE(UPPER(R7)) -> 53 | T7: -5
A8: =INDEX(Games!$A8:$AC8,$A$1)&"" -> 6. 0-0 Nf6 | B8: =LEFT(A8,FIND(".",A8)-1)*1 -> 6 | C8: =FIND(" ",A8) -> 3 | D8: =IFERROR(FIND(" ",A8,C8+1),LEN(A8)+1) -> 7 | E8: =MID(A8,C8+1,D8-C8-1) -> 0-0 | F8: =TRIM(SUBSTITUTE(SUBSTITUTE(SUBSTITUTE(SUBSTITUTE(SUBSTITUTE(SUBSTITUTE(SUBSTITUTE(SUBSTITUTE(SUBSTITUTE(E8,"?",""),"!",""),"#",""),"+",""),"x",""),"-","–"),"½–½",""),"1–0",""),"0–1","")) -> 0–0 | G8: =IF(EXACT(LEFT(F8,1),UPPER(LEFT(F8,1))),LEFT(F8,1),"P") -> 0 | H8: =CODE(UPPER(MID(F8,LEN(F8)-1,1)))-64 -> 86 | I8: =RIGHT(F8,1)*1 -> 0 | J8: =IF(LEN(F8)=4-(G8="P"),MID(F8,2-(G8="P"),1),"") | K8: =MID(A8,D8+1,9) -> Nf6 | L8: =TRIM(SUBSTITUTE(SUBSTITUTE(SUBSTITUTE(SUBSTITUTE(SUBSTITUTE(SUBSTITUTE(SUBSTITUTE(SUBSTITUTE(SUBSTITUTE(K8,"?",""),"!",""),"#",""),"+",""),"x",""),"-","–"),"½–½",""),"1–0",""),"0–1","")) -> Nf6 | M8: =IF(EXACT(LEFT(L8,1),UPPER(LEFT(L8,1))),LEFT(L8,1),"P") -> N | N8: =CODE(UPPER(MID(L8,LEN(L8)-1,1)))-64 -> 6 | O8: =RIGHT(L8,1)*1 -> 6 | P8: =IF(LEN(L8)=4-(M8="P"),MID(L8,2-(M8="P"),1),"") | R8: 6 | S8: =CODE(UPPER(R8)) -> 54 | T8: -6
A9: =INDEX(Games!$A9:$AC9,$A$1)&"" -> 7. d4 Be7 | B9: =LEFT(A9,FIND(".",A9)-1)*1 -> 7 | C9: =FIND(" ",A9) -> 3 | D9: =IFERROR(FIND(" ",A9,C9+1),LEN(A9)+1) -> 6 | E9: =MID(A9,C9+1,D9-C9-1) -> d4 | F9: =TRIM(SUBSTITUTE(SUBSTITUTE(SUBSTITUTE(SUBSTITUTE(SUBSTITUTE(SUBSTITUTE(SUBSTITUTE(SUBSTITUTE(SUBSTITUTE(E9,"?",""),"!",""),"#",""),"+",""),"x",""),"-","–"),"½–½",""),"1–0",""),"0–1","")) -> d4 | G9: =IF(EXACT(LEFT(F9,1),UPPER(LEFT(F9,1))),LEFT(F9,1),"P") -> P | H9: =CODE(UPPER(MID(F9,LEN(F9)-1,1)))-64 -> 4 | I9: =RIGHT(F9,1)*1 -> 4 | J9: =IF(LEN(F9)=4-(G9="P"),MID(F9,2-(G9="P"),1),"") | K9: =MID(A9,D9+1,9) -> Be7 | L9: =TRIM(SUBSTITUTE(SUBSTITUTE(SUBSTITUTE(SUBSTITUTE(SUBSTITUTE(SUBSTITUTE(SUBSTITUTE(SUBSTITUTE(SUBSTITUTE(K9,"?",""),"!",""),"#",""),"+",""),"x",""),"-","–"),"½–½",""),"1–0",""),"0–1","")) -> Be7 | M9: =IF(EXACT(LEFT(L9,1),UPPER(LEFT(L9,1))),LEFT(L9,1),"P") -> B | N9: =CODE(UPPER(MID(L9,LEN(L9)-1,1)))-64 -> 5 | O9: =RIGHT(L9,1)*1 -> 7 | P9: =IF(LEN(L9)=4-(M9="P"),MID(L9,2-(M9="P"),1),"") | R9: 7 | S9: =CODE(UPPER(R9)) -> 55 | T9: -7
A10: =INDEX(Games!$A10:$AC10,$A$1)&"" -> 8. Be3 cxd4 | B10: =LEFT(A10,FIND(".",A10)-1)*1 -> 8 | C10: =FIND(" ",A10) -> 3 | D10: =IFERROR(FIND(" ",A10,C10+1),LEN(A10)+1) -> 7 | E10: =MID(A10,C10+1,D10-C10-1) -> Be3 | F10: =TRIM(SUBSTITUTE(SUBSTITUTE(SUBSTITUTE(SUBSTITUTE(SUBSTITUTE(SUBSTITUTE(SUBSTITUTE(SUBSTITUTE(SUBSTITUTE(E10,"?",""),"!",""),"#",""),"+",""),"x",""),"-","–"),"½–½",""),"1–0",""),"0–1","")) -> Be3 | G10: =IF(EXACT(LEFT(F10,1),UPPER(LEFT(F10,1))),LEFT(F10,1),"P") -> B | H10: =CODE(UPPER(MID(F10,LEN(F10)-1,1)))-64 -> 5 | I10: =RIGHT(F10,1)*1 -> 3 | J10: =IF(LEN(F10)=4-(G10="P"),MID(F10,2-(G10="P"),1),"") | K10: =MID(A10,D10+1,9) -> cxd4 | L10: =TRIM(SUBSTITUTE(SUBSTITUTE(SUBSTITUTE(SUBSTITUTE(SUBSTITUTE(SUBSTITUTE(SUBSTITUTE(SUBSTITUTE(SUBSTITUTE(K10,"?",""),"!",""),"#",""),"+",""),"x",""),"-","–"),"½–½",""),"1–0",""),"0–1","")) -> cd4 | M10: =IF(EXACT(LEFT(L10,1),UPPER(LEFT(L10,1))),LEFT(L10,1),"P") -> P | N10: =CODE(UPPER(MID(L10,LEN(L10)-1,1)))-64 -> 4 | O10: =RIGHT(L10,1)*1 -> 4 | P10: =IF(LEN(L10)=4-(M10="P"),MID(L10,2-(M10="P"),1),"") -> c | R10: 8 | S10: =CODE(UPPER(R10)) -> 56 | T10: -8
A11: =INDEX(Games!$A11:$AC11,$A$1)&"" -> 9. Nxd4 Bg4 | B11: =LEFT(A11,FIND(".",A11)-1)*1 -> 9 | C11: =FIND(" ",A11) -> 3 | D11: =IFERROR(FIND(" ",A11,C11+1),LEN(A11)+1) -> 8 | E11: =MID(A11,C11+1,D11-C11-1) -> Nxd4 | F11: =TRIM(SUBSTITUTE(SUBSTITUTE(SUBSTITUTE(SUBSTITUTE(SUBSTITUTE(SUBSTITUTE(SUBSTITUTE(SUBSTITUTE(SUBSTITUTE(E11,"?",""),"!",""),"#",""),"+",""),"x",""),"-","–"),"½–½",""),"1–0",""),"0–1","")) -> Nd4 | G11: =IF(EXACT(LEFT(F11,1),UPPER(LEFT(F11,1))),LEFT(F11,1),"P") -> N | H11: =CODE(UPPER(MID(F11,LEN(F11)-1,1)))-64 -> 4 | I11: =RIGHT(F11,1)*1 -> 4 | J11: =IF(LEN(F11)=4-(G11="P"),MID(F11,2-(G11="P"),1),"") | K11: =MID(A11,D11+1,9) -> Bg4 | L11: =TRIM(SUBSTITUTE(SUBSTITUTE(SUBSTITUTE(SUBSTITUTE(SUBSTITUTE(SUBSTITUTE(SUBSTITUTE(SUBSTITUTE(SUBSTITUTE(K11,"?",""),"!",""),"#",""),"+",""),"x",""),"-","–"),"½–½",""),"1–0",""),"0–1","")) -> Bg4 | M11: =IF(EXACT(LEFT(L11,1),UPPER(LEFT(L11,1))),LEFT(L11,1),"P") -> B | N11: =CODE(UPPER(MID(L11,LEN(L11)-1,1)))-64 -> 7 | O11: =RIGHT(L11,1)*1 -> 4 | P11: =IF(LEN(L11)=4-(M11="P"),MID(L11,2-(M11="P"),1),"") | R11: a | S11: =CODE(UPPER(R11)) -> 65 | T11: 1
A12: =INDEX(Games!$A12:$AC12,$A$1)&"" -> 10. Qd3 Qd7 | B12: =LEFT(A12,FIND(".",A12)-1)*1 -> 10 | C12: =FIND(" ",A12) -> 4 | D12: =IFERROR(FIND(" ",A12,C12+1),LEN(A12)+1) -> 8 | E12: =MID(A12,C12+1,D12-C12-1) -> Qd3 | F12: =TRIM(SUBSTITUTE(SUBSTITUTE(SUBSTITUTE(SUBSTITUTE(SUBSTITUTE(SUBSTITUTE(SUBSTITUTE(SUBSTITUTE(SUBSTITUTE(E12,"?",""),"!",""),"#",""),"+",""),"x",""),"-","–"),"½–½",""),"1–0",""),"0–1","")) -> Qd3 | G12: =IF(EXACT(LEFT(F12,1),UPPER(LEFT(F12,1))),LEFT(F12,1),"P") -> Q | H12: =CODE(UPPER(MID(F12,LEN(F12)-1,1)))-64 -> 4 | I12: =RIGHT(F12,1)*1 -> 3 | J12: =IF(LEN(F12)=4-(G12="P"),MID(F12,2-(G12="P"),1),"") | K12: =MID(A12,D12+1,9) -> Qd7 | L12: =TRIM(SUBSTITUTE(SUBSTITUTE(SUBSTITUTE(SUBSTITUTE(SUBSTITUTE(SUBSTITUTE(SUBSTITUTE(SUBSTITUTE(SUBSTITUTE(K12,"?",""),"!",""),"#",""),"+",""),"x",""),"-","–"),"½–½",""),"1–0",""),"0–1","")) -> Qd7 | M12: =IF(EXACT(LEFT(L12,1),UPPER(LEFT(L12,1))),LEFT(L12,1),"P") -> Q | N12: =CODE(UPPER(MID(L12,LEN(L12)-1,1)))-64 -> 4 | O12: =RIGHT(L12,1)*1 -> 7 | P12: =IF(LEN(L12)=4-(M12="P"),MID(L12,2-(M12="P"),1),"") | R12: b | S12: =CODE(UPPER(R12)) -> 66 | T12: 2
A13: =INDEX(Games!$A13:$AC13,$A$1)&"" -> 11. Nd2 0-0 | B13: =LEFT(A13,FIND(".",A13)-1)*1 -> 11 | C13: =FIND(" ",A13) -> 4 | D13: =IFERROR(FIND(" ",A13,C13+1),LEN(A13)+1) -> 8 | E13: =MID(A13,C13+1,D13-C13-1) -> Nd2 | F13: =TRIM(SUBSTITUTE(SUBSTITUTE(SUBSTITUTE(SUBSTITUTE(SUBSTITUTE(SUBSTITUTE(SUBSTITUTE(SUBSTITUTE(SUBSTITUTE(E13,"?",""),"!",""),"#",""),"+",""),"x",""),"-","–"),"½–½",""),"1–0",""),"0–1","")) -> Nd2 | G13: =IF(EXACT(LEFT(F13,1),UPPER(LEFT(F13,1))),LEFT(F13,1),"P") -> N | H13: =CODE(UPPER(MID(F13,LEN(F13)-1,1)))-64 -> 4 | I13: =RIGHT(F13,1)*1 -> 2 | J13: =IF(LEN(F13)=4-(G13="P"),MID(F13,2-(G13="P"),1),"") | K13: =MID(A13,D13+1,9) -> 0-0 | L13: =TRIM(SUBSTITUTE(SUBSTITUTE(SUBSTITUTE(SUBSTITUTE(SUBSTITUTE(SUBSTITUTE(SUBSTITUTE(SUBSTITUTE(SUBSTITUTE(K13,"?",""),"!",""),"#",""),"+",""),"x",""),"-","–"),"½–½",""),"1–0",""),"0–1","")) -> 0–0 | M13: =IF(EXACT(LEFT(L13,1),UPPER(LEFT(L13,1))),LEFT(L13,1),"P") -> 0 | N13: =CODE(UPPER(MID(L13,LEN(L13)-1,1)))-64 -> 86 | O13: =RIGHT(L13,1)*1 -> 0 | P13: =IF(LEN(L13)=4-(M13="P"),MID(L13,2-(M13="P"),1),"") | R13: c | S13: =CODE(UPPER(R13)) -> 67 | T13: 3
A14: =INDEX(Games!$A14:$AC14,$A$1)&"" -> 12. N2f3 Rfe8 | B14: =LEFT(A14,FIND(".",A14)-1)*1 -> 12 | C14: =FIND(" ",A14) -> 4 | D14: =IFERROR(FIND(" ",A14,C14+1),LEN(A14)+1) -> 9 | E14: =MID(A14,C14+1,D14-C14-1) -> N2f3 | F14: =TRIM(SUBSTITUTE(SUBSTITUTE(SUBSTITUTE(SUBSTITUTE(SUBSTITUTE(SUBSTITUTE(SUBSTITUTE(SUBSTITUTE(SUBSTITUTE(E14,"?",""),"!",""),"#",""),"+",""),"x",""),"-","–"),"½–½",""),"1–0",""),"0–1","")) -> N2f3 | G14: =IF(EXACT(LEFT(F14,1),UPPER(LEFT(F14,1))),LEFT(F14,1),"P") -> N | H14: =CODE(UPPER(MID(F14,LEN(F14)-1,1)))-64 -> 6 | I14: =RIGHT(F14,1)*1 -> 3 | J14: =IF(LEN(F14)=4-(G14="P"),MID(F14,2-(G14="P"),1),"") -> 2 | K14: =MID(A14,D14+1,9) -> Rfe8 | L14: =TRIM(SUBSTITUTE(SUBSTITUTE(SUBSTITUTE(SUBSTITUTE(SUBSTITUTE(SUBSTITUTE(SUBSTITUTE(SUBSTITUTE(SUBSTITUTE(K14,"?",""),"!",""),"#",""),"+",""),"x",""),"-","–"),"½–½",""),"1–0",""),"0–1","")) -> Rfe8 | M14: =IF(EXACT(LEFT(L14,1),UPPER(LEFT(L14,1))),LEFT(L14,1),"P") -> R | N14: =CODE(UPPER(MID(L14,LEN(L14)-1,1)))-64 -> 5 | O14: =RIGHT(L14,1)*1 -> 8 | P14: =IF(LEN(L14)=4-(M14="P"),MID(L14,2-(M14="P"),1),"") -> f | R14: d | S14: =CODE(UPPER(R14)) -> 68 | T14: 4
A15: =INDEX(Games!$A15:$AC15,$A$1)&"" -> 13. Rfe1 Bd6 | B15: =LEFT(A15,FIND(".",A15)-1)*1 -> 13 | C15: =FIND(" ",A15) -> 4 | D15: =IFERROR(FIND(" ",A15,C15+1),LEN(A15)+1) -> 9 | E15: =MID(A15,C15+1,D15-C15-1) -> Rfe1 | F15: =TRIM(SUBSTITUTE(SUBSTITUTE(SUBSTITUTE(SUBSTITUTE(SUBSTITUTE(SUBSTITUTE(SUBSTITUTE(SUBSTITUTE(SUBSTITUTE(E15,"?",""),"!",""),"#",""),"+",""),"x",""),"-","–"),"½–½",""),"1–0",""),"0–1","")) -> Rfe1 | G15: =IF(EXACT(LEFT(F15,1),UPPER(LEFT(F15,1))),LEFT(F15,1),"P") -> R | H15: =CODE(UPPER(MID(F15,LEN(F15)-1,1)))-64 -> 5 | I15: =RIGHT(F15,1)*1 -> 1 | J15: =IF(LEN(F15)=4-(G15="P"),MID(F15,2-(G15="P"),1),"") -> f | K15: =MID(A15,D15+1,9) -> Bd6 | L15: =TRIM(SUBSTITUTE(SUBSTITUTE(SUBSTITUTE(SUBSTITUTE(SUBSTITUTE(SUBSTITUTE(SUBSTITUTE(SUBSTITUTE(SUBSTITUTE(K15,"?",""),"!",""),"#",""),"+",""),"x",""),"-","–"),"½–½",""),"1–0",""),"0–1","")) -> Bd6 | M15: =IF(EXACT(LEFT(L15,1),UPPER(LEFT(L15,1))),LEFT(L15,1),"P") -> B | N15: =CODE(UPPER(MID(L15,LEN(L15)-1,1)))-64 -> 4 | O15: =RIGHT(L15,1)*1 -> 6 | P15: =IF(LEN(L15)=4-(M15="P"),MID(L15,2-(M15="P"),1),"") | R15: e | S15: =CODE(UPPER(R15)) -> 69 | T15: 5
A16: =INDEX(Games!$A16:$AC16,$A$1)&"" -> 14. c3 h6 | B16: =LEFT(A16,FIND(".",A16)-1)*1 -> 14 | C16: =FIND(" ",A16) -> 4 | D16: =IFERROR(FIND(" ",A16,C16+1),LEN(A16)+1) -> 7 | E16: =MID(A16,C16+1,D16-C16-1) -> c3 | F16: =TRIM(SUBSTITUTE(SUBSTITUTE(SUBSTITUTE(SUBSTITUTE(SUBSTITUTE(SUBSTITUTE(SUBSTITUTE(SUBSTITUTE(SUBSTITUTE(E16,"?",""),"!",""),"#",""),"+",""),"x",""),"-","–"),"½–½",""),"1–0",""),"0–1","")) -> c3 | G16: =IF(EXACT(LEFT(F16,1),UPPER(LEFT(F16,1))),LEFT(F16,1),"P") -> P | H16: =CODE(UPPER(MID(F16,LEN(F16)-1,1)))-64 -> 3 | I16: =RIGHT(F16,1)*1 -> 3 | J16: =IF(LEN(F16)=4-(G16="P"),MID(F16,2-(G16="P"),1),"") | K16: =MID(A16,D16+1,9) -> h6 | L16: =TRIM(SUBSTITUTE(SUBSTITUTE(SUBSTITUTE(SUBSTITUTE(SUBSTITUTE(SUBSTITUTE(SUBSTITUTE(SUBSTITUTE(SUBSTITUTE(K16,"?",""),"!",""),"#",""),"+",""),"x",""),"-","–"),"½–½",""),"1–0",""),"0–1","")) -> h6 | M16: =IF(EXACT(LEFT(L16,1),UPPER(LEFT(L16,1))),LEFT(L16,1),"P") -> P | N16: =CODE(UPPER(MID(L16,LEN(L16)-1,1)))-64 -> 8 | O16: =RIGHT(L16,1)*1 -> 6 | P16: =IF(LEN(L16)=4-(M16="P"),MID(L16,2-(M16="P"),1),"") | R16: f | S16: =CODE(UPPER(R16)) -> 70 | T16: 6
A17: =INDEX(Games!$A17:$AC17,$A$1)&"" -> 15. Qf1 Bh5 | B17: =LEFT(A17,FIND(".",A17)-1)*1 -> 15 | C17: =FIND(" ",A17) -> 4 | D17: =IFERROR(FIND(" ",A17,C17+1),LEN(A17)+1) -> 8 | E17: =MID(A17,C17+1,D17-C17-1) -> Qf1 | F17: =TRIM(SUBSTITUTE(SUBSTITUTE(SUBSTITUTE(SUBSTITUTE(SUBSTITUTE(SUBSTITUTE(SUBSTITUTE(SUBSTITUTE(SUBSTITUTE(E17,"?",""),"!",""),"#",""),"+",""),"x",""),"-","–"),"½–½",""),"1–0",""),"0–1","")) -> Qf1 | G17: =IF(EXACT(LEFT(F17,1),UPPER(LEFT(F17,1))),LEFT(F17,1),"P") -> Q | H17: =CODE(UPPER(MID(F17,LEN(F17)-1,1)))-64 -> 6 | I17: =RIGHT(F17,1)*1 -> 1 | J17: =IF(LEN(F17)=4-(G17="P"),MID(F17,2-(G17="P"),1),"") | K17: =MID(A17,D17+1,9) -> Bh5 | L17: =TRIM(SUBSTITUTE(SUBSTITUTE(SUBSTITUTE(SUBSTITUTE(SUBSTITUTE(SUBSTITUTE(SUBSTITUTE(SUBSTITUTE(SUBSTITUTE(K17,"?",""),"!",""),"#",""),"+",""),"x",""),"-","–"),"½–½",""),"1–0",""),"0–1","")) -> Bh5 | M17: =IF(EXACT(LEFT(L17,1),UPPER(LEFT(L17,1))),LEFT(L17,1),"P") -> B | N17: =CODE(UPPER(MID(L17,LEN(L17)-1,1)))-64 -> 8 | O17: =RIGHT(L17,1)*1 -> 5 | P17: =IF(LEN(L17)=4-(M17="P"),MID(L17,2-(M17="P"),1),"") | R17: g | S17: =CODE(UPPER(R17)) -> 71 | T17: 7
A18: =INDEX(Games!$A18:$AC18,$A$1)&"" -> 16. h3 Bg6 | B18: =LEFT(A18,FIND(".",A18)-1)*1 -> 16 | C18: =FIND(" ",A18) -> 4 | D18: =IFERROR(FIND(" ",A18,C18+1),LEN(A18)+1) -> 7 | E18: =MID(A18,C18+1,D18-C18-1) -> h3 | F18: =TRIM(SUBSTITUTE(SUBSTITUTE(SUBSTITUTE(SUBSTITUTE(SUBSTITUTE(SUBSTITUTE(SUBSTITUTE(SUBSTITUTE(SUBSTITUTE(E18,"?",""),"!",""),"#",""),"+",""),"x",""),"-","–"),"½–½",""),"1–0",""),"0–1","")) -> h3 | G18: =IF(EXACT(LEFT(F18,1),UPPER(LEFT(F18,1))),LEFT(F18,1),"P") -> P | H18: =CODE(UPPER(MID(F18,LEN(F18)-1,1)))-64 -> 8 | I18: =RIGHT(F18,1)*1 -> 3 | J18: =IF(LEN(F18)=4-(G18="P"),MID(F18,2-(G18="P"),1),"") | K18: =MID(A18,D18+1,9) -> Bg6 | L18: =TRIM(SUBSTITUTE(SUBSTITUTE(SUBSTITUTE(SUBSTITUTE(SUBSTITUTE(SUBSTITUTE(SUBSTITUTE(SUBSTITUTE(SUBSTITUTE(K18,"?",""),"!",""),"#",""),"+",""),"x",""),"-","–"),"½–½",""),"1–0",""),"0–1","")) -> Bg6 | M18: =IF(EXACT(LEFT(L18,1),UPPER(LEFT(L18,1))),LEFT(L18,1),"P") -> B | N18: =CODE(UPPER(MID(L18,LEN(L18)-1,1)))-64 -> 7 | O18: =RIGHT(L18,1)*1 -> 6 | P18: =IF(LEN(L18)=4-(M18="P"),MID(L18,2-(M18="P"),1),"") | R18: h | S18: =CODE(UPPER(R18)) -> 72 | T18: 8
A19: =INDEX(Games!$A19:$AC19,$A$1)&"" -> 17. Rad1 Rad8 | B19: =LEFT(A19,FIND(".",A19)-1)*1 -> 17 | C19: =FIND(" ",A19) -> 4 | D19: =IFERROR(FIND(" ",A19,C19+1),LEN(A19)+1) -> 9 | E19: =MID(A19,C19+1,D19-C19-1) -> Rad1 | F19: =TRIM(SUBSTITUTE(SUBSTITUTE(SUBSTITUTE(SUBSTITUTE(SUBSTITUTE(SUBSTITUTE(SUBSTITUTE(SUBSTITUTE(SUBSTITUTE(E19,"?",""),"!",""),"#",""),"+",""),"x",""),"-","–"),"½–½",""),"1–0",""),"0–1","")) -> Rad1 | G19: =IF(EXACT(LEFT(F19,1),UPPER(LEFT(F19,1))),LEFT(F19,1),"P") -> R | H19: =CODE(UPPER(MID(F19,LEN(F19)-1,1)))-64 -> 4 | I19: =RIGHT(F19,1)*1 -> 1 | J19: =IF(LEN(F19)=4-(G19="P"),MID(F19,2-(G19="P"),1),"") -> a | K19: =MID(A19,D19+1,9) -> Rad8 | L19: =TRIM(SUBSTITUTE(SUBSTITUTE(SUBSTITUTE(SUBSTITUTE(SUBSTITUTE(SUBSTITUTE(SUBSTITUTE(SUBSTITUTE(SUBSTITUTE(K19,"?",""),"!",""),"#",""),"+",""),"x",""),"-","–"),"½–½",""),"1–0",""),"0–1","")) -> Rad8 | M19: =IF(EXACT(LEFT(L19,1),UPPER(LEFT(L19,1))),LEFT(L19,1),"P") -> R | N19: =CODE(UPPER(MID(L19,LEN(L19)-1,1)))-64 -> 4 | O19: =RIGHT(L19,1)*1 -> 8 | P19: =IF(LEN(L19)=4-(M19="P"),MID(L19,2-(M19="P"),1),"") -> a
A20: =INDEX(Games!$A20:$AC20,$A$1)&"" -> 18. Nxc6 bxc6 | B20: =LEFT(A20,FIND(".",A20)-1)*1 -> 18 | C20: =FIND(" ",A20) -> 4 | D20: =IFERROR(FIND(" ",A20,C20+1),LEN(A20)+1) -> 9 | E20: =MID(A20,C20+1,D20-C20-1) -> Nxc6 | F20: =TRIM(SUBSTITUTE(SUBSTITUTE(SUBSTITUTE(SUBSTITUTE(SUBSTITUTE(SUBSTITUTE(SUBSTITUTE(SUBSTITUTE(SUBSTITUTE(E20,"?",""),"!",""),"#",""),"+",""),"x",""),"-","–"),"½–½",""),"1–0",""),"0–1","")) -> Nc6 | G20: =IF(EXACT(LEFT(F20,1),UPPER(LEFT(F20,1))),LEFT(F20,1),"P") -> N | H20: =CODE(UPPER(MID(F20,LEN(F20)-1,1)))-64 -> 3 | I20: =RIGHT(F20,1)*1 -> 6 | J20: =IF(LEN(F20)=4-(G20="P"),MID(F20,2-(G20="P"),1),"") | K20: =MID(A20,D20+1,9) -> bxc6 | L20: =TRIM(SUBSTITUTE(SUBSTITUTE(SUBSTITUTE(SUBSTITUTE(SUBSTITUTE(SUBSTITUTE(SUBSTITUTE(SUBSTITUTE(SUBSTITUTE(K20,"?",""),"!",""),"#",""),"+",""),"x",""),"-","–"),"½–½",""),"1–0",""),"0–1","")) -> bc6 | M20: =IF(EXACT(LEFT(L20,1),UPPER(LEFT(L20,1))),LEFT(L20,1),"P") -> P | N20: =CODE(UPPER(MID(L20,LEN(L20)-1,1)))-64 -> 3 | O20: =RIGHT(L20,1)*1 -> 6 | P20: =IF(LEN(L20)=4-(M20="P"),MID(L20,2-(M20="P"),1),"") -> b
A21: =INDEX(Games!$A21:$AC21,$A$1)&"" -> 19. c4 Be4 | B21: =LEFT(A21,FIND(".",A21)-1)*1 -> 19 | C21: =FIND(" ",A21) -> 4 | D21: =IFERROR(FIND(" ",A21,C21+1),LEN(A21)+1) -> 7 | E21: =MID(A21,C21+1,D21-C21-1) -> c4 | F21: =TRIM(SUBSTITUTE(SUBSTITUTE(SUBSTITUTE(SUBSTITUTE(SUBSTITUTE(SUBSTITUTE(SUBSTITUTE(SUBSTITUTE(SUBSTITUTE(E21,"?",""),"!",""),"#",""),"+",""),"x",""),"-","–"),"½–½",""),"1–0",""),"0–1","")) -> c4 | G21: =IF(EXACT(LEFT(F21,1),UPPER(LEFT(F21,1))),LEFT(F21,1),"P") -> P | H21: =CODE(UPPER(MID(F21,LEN(F21)-1,1)))-64 -> 3 | I21: =RIGHT(F21,1)*1 -> 4 | J21: =IF(LEN(F21)=4-(G21="P"),MID(F21,2-(G21="P"),1),"") | K21: =MID(A21,D21+1,9) -> Be4 | L21: =TRIM(SUBSTITUTE(SUBSTITUTE(SUBSTITUTE(SUBSTITUTE(SUBSTITUTE(SUBSTITUTE(SUBSTITUTE(SUBSTITUTE(SUBSTITUTE(K21,"?",""),"!",""),"#",""),"+",""),"x",""),"-","–"),"½–½",""),"1–0",""),"0–1","")) -> Be4 | M21: =IF(EXACT(LEFT(L21,1),UPPER(LEFT(L21,1))),LEFT(L21,1),"P") -> B | N21: =CODE(UPPER(MID(L21,LEN(L21)-1,1)))-64 -> 5 | O21: =RIGHT(L21,1)*1 -> 4 | P21: =IF(LEN(L21)=4-(M21="P"),MID(L21,2-(M21="P"),1),"")
A22: =INDEX(Games!$A22:$AC22,$A$1)&"" -> 20. Bd4 Nh7 | B22: =LEFT(A22,FIND(".",A22)-1)*1 -> 20 | C22: =FIND(" ",A22) -> 4 | D22: =IFERROR(FIND(" ",A22,C22+1),LEN(A22)+1) -> 8 | E22: =MID(A22,C22+1,D22-C22-1) -> Bd4 | F22: =TRIM(SUBSTITUTE(SUBSTITUTE(SUBSTITUTE(SUBSTITUTE(SUBSTITUTE(SUBSTITUTE(SUBSTITUTE(SUBSTITUTE(SUBSTITUTE(E22,"?",""),"!",""),"#",""),"+",""),"x",""),"-","–"),"½–½",""),"1–0",""),"0–1","")) -> Bd4 | G22: =IF(EXACT(LEFT(F22,1),UPPER(LEFT(F22,1))),LEFT(F22,1),"P") -> B | H22: =CODE(UPPER(MID(F22,LEN(F22)-1,1)))-64 -> 4 | I22: =RIGHT(F22,1)*1 -> 4 | J22: =IF(LEN(F22)=4-(G22="P"),MID(F22,2-(G22="P"),1),"") | K22: =MID(A22,D22+1,9) -> Nh7 | L22: =TRIM(SUBSTITUTE(SUBSTITUTE(SUBSTITUTE(SUBSTITUTE(SUBSTITUTE(SUBSTITUTE(SUBSTITUTE(SUBSTITUTE(SUBSTITUTE(K22,"?",""),"!",""),"#",""),"+",""),"x",""),"-","–"),"½–½",""),"1–0",""),"0–1","")) -> Nh7 | M22: =IF(EXACT(LEFT(L22,1),UPPER(LEFT(L22,1))),LEFT(L22,1),"P") -> N | N22: =CODE(UPPER(MID(L22,LEN(L22)-1,1)))-64 -> 8 | O22: =RIGHT(L22,1)*1 -> 7 | P22: =IF(LEN(L22)=4-(M22="P"),MID(L22,2-(M22="P"),1),"")
A23: =INDEX(Games!$A23:$AC23,$A$1)&"" -> 21. cxd5 Bxd5 | B23: =LEFT(A23,FIND(".",A23)-1)*1 -> 21 | C23: =FIND(" ",A23) -> 4 | D23: =IFERROR(FIND(" ",A23,C23+1),LEN(A23)+1) -> 9 | E23: =MID(A23,C23+1,D23-C23-1) -> cxd5 | F23: =TRIM(SUBSTITUTE(SUBSTITUTE(SUBSTITUTE(SUBSTITUTE(SUBSTITUTE(SUBSTITUTE(SUBSTITUTE(SUBSTITUTE(SUBSTITUTE(E23,"?",""),"!",""),"#",""),"+",""),"x",""),"-","–"),"½–½",""),"1–0",""),"0–1","")) -> cd5 | G23: =IF(EXACT(LEFT(F23,1),UPPER(LEFT(F23,1))),LEFT(F23,1),"P") -> P | H23: =CODE(UPPER(MID(F23,LEN(F23)-1,1)))-64 -> 4 | I23: =RIGHT(F23,1)*1 -> 5 | J23: =IF(LEN(F23)=4-(G23="P"),MID(F23,2-(G23="P"),1),"") -> c | K23: =MID(A23,D23+1,9) -> Bxd5 | L23: =TRIM(SUBSTITUTE(SUBSTITUTE(SUBSTITUTE(SUBSTITUTE(SUBSTITUTE(SUBSTITUTE(SUBSTITUTE(SUBSTITUTE(SUBSTITUTE(K23,"?",""),"!",""),"#",""),"+",""),"x",""),"-","–"),"½–½",""),"1–0",""),"0–1","")) -> Bd5 | M23: =IF(EXACT(LEFT(L23,1),UPPER(LEFT(L23,1))),LEFT(L23,1),"P") -> B | N23: =CODE(UPPER(MID(L23,LEN(L23)-1,1)))-64 -> 4 | O23: =RIGHT(L23,1)*1 -> 5 | P23: =IF(LEN(L23)=4-(M23="P"),MID(L23,2-(M23="P"),1),"")
A24: =INDEX(Games!$A24:$AC24,$A$1)&"" -> 22. Rxe8+ Rxe8 | B24: =LEFT(A24,FIND(".",A24)-1)*1 -> 22 | C24: =FIND(" ",A24) -> 4 | D24: =IFERROR(FIND(" ",A24,C24+1),LEN(A24)+1) -> 10 | E24: =MID(A24,C24+1,D24-C24-1) -> Rxe8+ | F24: =TRIM(SUBSTITUTE(SUBSTITUTE(SUBSTITUTE(SUBSTITUTE(SUBSTITUTE(SUBSTITUTE(SUBSTITUTE(SUBSTITUTE(SUBSTITUTE(E24,"?",""),"!",""),"#",""),"+",""),"x",""),"-","–"),"½–½",""),"1–0",""),"0–1","")) -> Re8 | G24: =IF(EXACT(LEFT(F24,1),UPPER(LEFT(F24,1))),LEFT(F24,1),"P") -> R | H24: =CODE(UPPER(MID(F24,LEN(F24)-1,1)))-64 -> 5 | I24: =RIGHT(F24,1)*1 -> 8 | J24: =IF(LEN(F24)=4-(G24="P"),MID(F24,2-(G24="P"),1),"") | K24: =MID(A24,D24+1,9) -> Rxe8 | L24: =TRIM(SUBSTITUTE(SUBSTITUTE(SUBSTITUTE(SUBSTITUTE(SUBSTITUTE(SUBSTITUTE(SUBSTITUTE(SUBSTITUTE(SUBSTITUTE(K24,"?",""),"!",""),"#",""),"+",""),"x",""),"-","–"),"½–½",""),"1–0",""),"0–1","")) -> Re8 | M24: =IF(EXACT(LEFT(L24,1),UPPER(LEFT(L24,1))),LEFT(L24,1),"P") -> R | N24: =CODE(UPPER(MID(L24,LEN(L24)-1,1)))-64 -> 5 | O24: =RIGHT(L24,1)*1 -> 8 | P24: =IF(LEN(L24)=4-(M24="P"),MID(L24,2-(M24="P"),1),"")
A25: =INDEX(Games!$A25:$AC25,$A$1)&"" -> 23. Qd3 Nf8 | B25: =LEFT(A25,FIND(".",A25)-1)*1 -> 23 | C25: =FIND(" ",A25) -> 4 | D25: =IFERROR(FIND(" ",A25,C25+1),LEN(A25)+1) -> 8 | E25: =MID(A25,C25+1,D25-C25-1) -> Qd3 | F25: =TRIM(SUBSTITUTE(SUBSTITUTE(SUBSTITUTE(SUBSTITUTE(SUBSTITUTE(SUBSTITUTE(SUBSTITUTE(SUBSTITUTE(SUBSTITUTE(E25,"?",""),"!",""),"#",""),"+",""),"x",""),"-","–"),"½–½",""),"1–0",""),"0–1","")) -> Qd3 | G25: =IF(EXACT(LEFT(F25,1),UPPER(LEFT(F25,1))),LEFT(F25,1),"P") -> Q | H25: =CODE(UPPER(MID(F25,LEN(F25)-1,1)))-64 -> 4 | I25: =RIGHT(F25,1)*1 -> 3 | J25: =IF(LEN(F25)=4-(G25="P"),MID(F25,2-(G25="P"),1),"") | K25: =MID(A25,D25+1,9) -> Nf8 | L25: =TRIM(SUBSTITUTE(SUBSTITUTE(SUBSTITUTE(SUBSTITUTE(SUBSTITUTE(SUBSTITUTE(SUBSTITUTE(SUBSTITUTE(SUBSTITUTE(K25,"?",""),"!",""),"#",""),"+",""),"x",""),"-","–"),"½–½",""),"1–0",""),"0–1","")) -> Nf8 | M25: =IF(EXACT(LEFT(L25,1),UPPER(LEFT(L25,1))),LEFT(L25,1),"P") -> N | N25: =CODE(UPPER(MID(L25,LEN(L25)-1,1)))-64 -> 6 | O25: =RIGHT(L25,1)*1 -> 8 | P25: =IF(LEN(L25)=4-(M25="P"),MID(L25,2-(M25="P"),1),"")
A26: =INDEX(Games!$A26:$AC26,$A$1)&"" -> 24. Nh4 Be5 | B26: =LEFT(A26,FIND(".",A26)-1)*1 -> 24 | C26: =FIND(" ",A26) -> 4 | D26: =IFERROR(FIND(" ",A26,C26+1),LEN(A26)+1) -> 8 | E26: =MID(A26,C26+1,D26-C26-1) -> Nh4 | F26: =TRIM(SUBSTITUTE(SUBSTITUTE(SUBSTITUTE(SUBSTITUTE(SUBSTITUTE(SUBSTITUTE(SUBSTITUTE(SUBSTITUTE(SUBSTITUTE(E26,"?",""),"!",""),"#",""),"+",""),"x",""),"-","–"),"½–½",""),"1–0",""),"0–1","")) -> Nh4 | G26: =IF(EXACT(LEFT(F26,1),UPPER(LEFT(F26,1))),LEFT(F26,1),"P") -> N | H26: =CODE(UPPER(MID(F26,LEN(F26)-1,1)))-64 -> 8 | I26: =RIGHT(F26,1)*1 -> 4 | J26: =IF(LEN(F26)=4-(G26="P"),MID(F26,2-(G26="P"),1),"") | K26: =MID(A26,D26+1,9) -> Be5 | L26: =TRIM(SUBSTITUTE(SUBSTITUTE(SUBSTITUTE(SUBSTITUTE(SUBSTITUTE(SUBSTITUTE(SUBSTITUTE(SUBSTITUTE(SUBSTITUTE(K26,"?",""),"!",""),"#",""),"+",""),"x",""),"-","–"),"½–½",""),"1–0",""),"0–1","")) -> Be5 | M26: =IF(EXACT(LEFT(L26,1),UPPER(LEFT(L26,1))),LEFT(L26,1),"P") -> B | N26: =CODE(UPPER(MID(L26,LEN(L26)-1,1)))-64 -> 5 | O26: =RIGHT(L26,1)*1 -> 5 | P26: =IF(LEN(L26)=4-(M26="P"),MID(L26,2-(M26="P"),1),"")
A27: =INDEX(Games!$A27:$AC27,$A$1)&"" -> 25. Bxd5 Qxd5 | B27: =LEFT(A27,FIND(".",A27)-1)*1 -> 25 | C27: =FIND(" ",A27) -> 4 | D27: =IFERROR(FIND(" ",A27,C27+1),LEN(A27)+1) -> 9 | E27: =MID(A27,C27+1,D27-C27-1) -> Bxd5 | F27: =TRIM(SUBSTITUTE(SUBSTITUTE(SUBSTITUTE(SUBSTITUTE(SUBSTITUTE(SUBSTITUTE(SUBSTITUTE(SUBSTITUTE(SUBSTITUTE(E27,"?",""),"!",""),"#",""),"+",""),"x",""),"-","–"),"½–½",""),"1–0",""),"0–1","")) -> Bd5 | G27: =IF(EXACT(LEFT(F27,1),UPPER(LEFT(F27,1))),LEFT(F27,1),"P") -> B | H27: =CODE(UPPER(MID(F27,LEN(F27)-1,1)))-64 -> 4 | I27: =RIGHT(F27,1)*1 -> 5 | J27: =IF(LEN(F27)=4-(G27="P"),MID(F27,2-(G27="P"),1),"") | K27: =MID(A27,D27+1,9) -> Qxd5 | L27: =TRIM(SUBSTITUTE(SUBSTITUTE(SUBSTITUTE(SUBSTITUTE(SUBSTITUTE(SUBSTITUTE(SUBSTITUTE(SUBSTITUTE(SUBSTITUTE(K27,"?",""),"!",""),"#",""),"+",""),"x",""),"-","–"),"½–½",""),"1–0",""),"0–1","")) -> Qd5 | M27: =IF(EXACT(LEFT(L27,1),UPPER(LEFT(L27,1))),LEFT(L27,1),"P") -> Q | N27: =CODE(UPPER(MID(L27,LEN(L27)-1,1)))-64 -> 4 | O27: =RIGHT(L27,1)*1 -> 5 | P27: =IF(LEN(L27)=4-(M27="P"),MID(L27,2-(M27="P"),1),"")
A28: =INDEX(Games!$A28:$AC28,$A$1)&"" -> 26. Bxe5 Qxe5 | B28: =LEFT(A28,FIND(".",A28)-1)*1 -> 26 | C28: =FIND(" ",A28) -> 4 | D28: =IFERROR(FIND(" ",A28,C28+1),LEN(A28)+1) -> 9 | E28: =MID(A28,C28+1,D28-C28-1) -> Bxe5 | F28: =TRIM(SUBSTITUTE(SUBSTITUTE(SUBSTITUTE(SUBSTITUTE(SUBSTITUTE(SUBSTITUTE(SUBSTITUTE(SUBSTITUTE(SUBSTITUTE(E28,"?",""),"!",""),"#",""),"+",""),"x",""),"-","–"),"½–½",""),"1–0",""),"0–1","")) -> Be5 | G28: =IF(EXACT(LEFT(F28,1),UPPER(LEFT(F28,1))),LEFT(F28,1),"P") -> B | H28: =CODE(UPPER(MID(F28,LEN(F28)-1,1)))-64 -> 5 | I28: =RIGHT(F28,1)*1 -> 5 | J28: =IF(LEN(F28)=4-(G28="P"),MID(F28,2-(G28="P"),1),"") | K28: =MID(A28,D28+1,9) -> Qxe5 | L28: =TRIM(SUBSTITUTE(SUBSTITUTE(SUBSTITUTE(SUBSTITUTE(SUBSTITUTE(SUBSTITUTE(SUBSTITUTE(SUBSTITUTE(SUBSTITUTE(K28,"?",""),"!",""),"#",""),"+",""),"x",""),"-","–"),"½–½",""),"1–0",""),"0–1","")) -> Qe5 | M28: =IF(EXACT(LEFT(L28,1),UPPER(LEFT(L28,1))),LEFT(L28,1),"P") -> Q | N28: =CODE(UPPER(MID(L28,LEN(L28)-1,1)))-64 -> 5 | O28: =RIGHT(L28,1)*1 -> 5 | P28: =IF(LEN(L28)=4-(M28="P"),MID(L28,2-(M28="P"),1),"")
A29: =INDEX(Games!$A29:$AC29,$A$1)&"" -> 27. b3 Ne6 | B29: =LEFT(A29,FIND(".",A29)-1)*1 -> 27 | C29: =FIND(" ",A29) -> 4 | D29: =IFERROR(FIND(" ",A29,C29+1),LEN(A29)+1) -> 7 | E29: =MID(A29,C29+1,D29-C29-1) -> b3 | F29: =TRIM(SUBSTITUTE(SUBSTITUTE(SUBSTITUTE(SUBSTITUTE(SUBSTITUTE(SUBSTITUTE(SUBSTITUTE(SUBSTITUTE(SUBSTITUTE(E29,"?",""),"!",""),"#",""),"+",""),"x",""),"-","–"),"½–½",""),"1–0",""),"0–1","")) -> b3 | G29: =IF(EXACT(LEFT(F29,1),UPPER(LEFT(F29,1))),LEFT(F29,1),"P") -> P | H29: =CODE(UPPER(MID(F29,LEN(F29)-1,1)))-64 -> 2 | I29: =RIGHT(F29,1)*1 -> 3 | J29: =IF(LEN(F29)=4-(G29="P"),MID(F29,2-(G29="P"),1),"") | K29: =MID(A29,D29+1,9) -> Ne6 | L29: =TRIM(SUBSTITUTE(SUBSTITUTE(SUBSTITUTE(SUBSTITUTE(SUBSTITUTE(SUBSTITUTE(SUBSTITUTE(SUBSTITUTE(SUBSTITUTE(K29,"?",""),"!",""),"#",""),"+",""),"x",""),"-","–"),"½–½",""),"1–0",""),"0–1","")) -> Ne6 | M29: =IF(EXACT(LEFT(L29,1),UPPER(LEFT(L29,1))),LEFT(L29,1),"P") -> N | N29: =CODE(UPPER(MID(L29,LEN(L29)-1,1)))-64 -> 5 | O29: =RIGHT(L29,1)*1 -> 6 | P29: =IF(LEN(L29)=4-(M29="P"),MID(L29,2-(M29="P"),1),"")
A30: =INDEX(Games!$A30:$AC30,$A$1)&"" -> 28. Nf3 Qf6 | B30: =LEFT(A30,FIND(".",A30)-1)*1 -> 28 | C30: =FIND(" ",A30) -> 4 | D30: =IFERROR(FIND(" ",A30,C30+1),LEN(A30)+1) -> 8 | E30: =MID(A30,C30+1,D30-C30-1) -> Nf3 | F30: =TRIM(SUBSTITUTE(SUBSTITUTE(SUBSTITUTE(SUBSTITUTE(SUBSTITUTE(SUBSTITUTE(SUBSTITUTE(SUBSTITUTE(SUBSTITUTE(E30,"?",""),"!",""),"#",""),"+",""),"x",""),"-","–"),"½–½",""),"1–0",""),"0–1","")) -> Nf3 | G30: =IF(EXACT(LEFT(F30,1),UPPER(LEFT(F30,1))),LEFT(F30,1),"P") -> N | H30: =CODE(UPPER(MID(F30,LEN(F30)-1,1)))-64 -> 6 | I30: =RIGHT(F30,1)*1 -> 3 | J30: =IF(LEN(F30)=4-(G30="P"),MID(F30,2-(G30="P"),1),"") | K30: =MID(A30,D30+1,9) -> Qf6 | L30: =TRIM(SUBSTITUTE(SUBSTITUTE(SUBSTITUTE(SUBSTITUTE(SUBSTITUTE(SUBSTITUTE(SUBSTITUTE(SUBSTITUTE(SUBSTITUTE(K30,"?",""),"!",""),"#",""),"+",""),"x",""),"-","–"),"½–½",""),"1–0",""),"0–1","")) -> Qf6 | M30: =IF(EXACT(LEFT(L30,1),UPPER(LEFT(L30,1))),LEFT(L30,1),"P") -> Q | N30: =CODE(UPPER(MID(L30,LEN(L30)-1,1)))-64 -> 6 | O30: =RIGHT(L30,1)*1 -> 6 | P30: =IF(LEN(L30)=4-(M30="P"),MID(L30,2-(M30="P"),1),"")
