Workbook
Name GameList: Games!$A$1:$AC$1

Sheet Board
C1: World Chess Championship 2014 - Game 4
C2: =INDEX(Games!$A$2:$AC$2,MATCH(C1,GameList,0)) -> Carlsen-Anand
A3: 94 | C3: =IFERROR(IF(A3,ROUNDUP(A3/2,0)&". "&IF(MOD(A3,2)=1,INDEX(Moves!$E$3:$E$152,ROUNDUP(A3/2,0)),"… "&INDEX(Moves!$K$3:$K$152,ROUNDUP(A3/2,0))),""),"") -> 47. … Kh7 ½–½ | M3: W
C4: 1 | D4: 2 | E4: 3 | F4: 4 | G4: 5 | H4: 6 | I4: 7 | J4: 8
C5: a | D5: b | E5: c | F5: d | G5: e | H5: f | I5: g | J5: h | O5: Code | P5: Piece
B6: =IF($M$3="B",ROW()-ROW($B$6)+1,ROW($B$6)-ROW()+8) -> 8 | C6: =VLOOKUP(SUMIFS(Positions!$C$11:$C$42,INDEX(Positions!$11:$42,0,4*$A$3+5),C$4,INDEX(Positions!$11:$42,0,4*$A$3+6),$B6),Board!$O$6:$P$18,2,0) | D6: =VLOOKUP(SUMIFS(Positions!$C$11:$C$42,INDEX(Positions!$11:$42,0,4*$A$3+5),D$4,INDEX(Positions!$11:$42,0,4*$A$3+6),$B6),Board!$O$6:$P$18,2,0) | E6: =VLOOKUP(SUMIFS(Positions!$C$11:$C$42,INDEX(Positions!$11:$42,0,4*$A$3+5),E$4,INDEX(Positions!$11:$42,0,4*$A$3+6),$B6),Board!$O$6:$P$18,2,0) | F6: =VLOOKUP(SUMIFS(Positions!$C$11:$C$42,INDEX(Positions!$11:$42,0,4*$A$3+5),F$4,INDEX(Positions!$11:$42,0,4*$A$3+6),$B6),Board!$O$6:$P$18,2,0) | G6: =VLOOKUP(SUMIFS(Positions!$C$11:$C$42,INDEX(Positions!$11:$42,0,4*$A$3+5),G$4,INDEX(Positions!$11:$42,0,4*$A$3+6),$B6),Board!$O$6:$P$18,2,0) -> ♕ | H6: =VLOOKUP(SUMIFS(Positions!$C$11:$C$42,INDEX(Positions!$11:$42,0,4*$A$3+5),H$4,INDEX(Positions!$11:$42,0,4*$A$3+6),$B6),Board!$O$6:$P$18,2,0) | I6: =VLOOKUP(SUMIFS(Positions!$C$11:$C$42,INDEX(Positions!$11:$42,0,4*$A$3+5),I$4,INDEX(Positions!$11:$42,0,4*$A$3+6),$B6),Board!$O$6:$P$18,2,0) | J6: =VLOOKUP(SUMIFS(Positions!$C$11:$C$42,INDEX(Positions!$11:$42,0,4*$A$3+5),J$4,INDEX(Positions!$11:$42,0,4*$A$3+6),$B6),Board!$O$6:$P$18,2,0) | O6: 6 | P6: ♔
B7: =IF($M$3="B",ROW()-ROW($B$6)+1,ROW($B$6)-ROW()+8) -> 7 | C7: =VLOOKUP(SUMIFS(Positions!$C$11:$C$42,INDEX(Positions!$11:$42,0,4*$A$3+5),C$4,INDEX(Positions!$11:$42,0,4*$A$3+6),$B7),Board!$O$6:$P$18,2,0) -> ♟ | D7: =VLOOKUP(SUMIFS(Positions!$C$11:$C$42,INDEX(Positions!$11:$42,0,4*$A$3+5),D$4,INDEX(Positions!$11:$42,0,4*$A$3+6),$B7),Board!$O$6:$P$18,2,0) | E7: =VLOOKUP(SUMIFS(Positions!$C$11:$C$42,INDEX(Positions!$11:$42,0,4*$A$3+5),E$4,INDEX(Positions!$11:$42,0,4*$A$3+6),$B7),Board!$O$6:$P$18,2,0) | F7: =VLOOKUP(SUMIFS(Positions!$C$11:$C$42,INDEX(Positions!$11:$42,0,4*$A$3+5),F$4,INDEX(Positions!$11:$42,0,4*$A$3+6),$B7),Board!$O$6:$P$18,2,0) | G7: =VLOOKUP(SUMIFS(Positions!$C$11:$C$42,INDEX(Positions!$11:$42,0,4*$A$3+5),G$4,INDEX(Positions!$11:$42,0,4*$A$3+6),$B7),Board!$O$6:$P$18,2,0) | H7: =VLOOKUP(SUMIFS(Positions!$C$11:$C$42,INDEX(Positions!$11:$42,0,4*$A$3+5),H$4,INDEX(Positions!$11:$42,0,4*$A$3+6),$B7),Board!$O$6:$P$18,2,0) | I7: =VLOOKUP(SUMIFS(Positions!$C$11:$C$42,INDEX(Positions!$11:$42,0,4*$A$3+5),I$4,INDEX(Positions!$11:$42,0,4*$A$3+6),$B7),Board!$O$6:$P$18,2,0) -> ♟ | J7: =VLOOKUP(SUMIFS(Positions!$C$11:$C$42,INDEX(Positions!$11:$42,0,4*$A$3+5),J$4,INDEX(Positions!$11:$42,0,4*$A$3+6),$B7),Board!$O$6:$P$18,2,0) -> ♚ | O7: 5 | P7: ♕
B8: =IF($M$3="B",ROW()-ROW($B$6)+1,ROW($B$6)-ROW()+8) -> 6 | C8: =VLOOKUP(SUMIFS(Positions!$C$11:$C$42,INDEX(Positions!$11:$42,0,4*$A$3+5),C$4,INDEX(Positions!$11:$42,0,4*$A$3+6),$B8),Board!$O$6:$P$18,2,0) | D8: =VLOOKUP(SUMIFS(Positions!$C$11:$C$42,INDEX(Positions!$11:$42,0,4*$A$3+5),D$4,INDEX(Positions!$11:$42,0,4*$A$3+6),$B8),Board!$O$6:$P$18,2,0) | E8: =VLOOKUP(SUMIFS(Positions!$C$11:$C$42,INDEX(Positions!$11:$42,0,4*$A$3+5),E$4,INDEX(Positions!$11:$42,0,4*$A$3+6),$B8),Board!$O$6:$P$18,2,0) | F8: =VLOOKUP(SUMIFS(Positions!$C$11:$C$42,INDEX(Positions!$11:$42,0,4*$A$3+5),F$4,INDEX(Positions!$11:$42,0,4*$A$3+6),$B8),Board!$O$6:$P$18,2,0) | G8: =VLOOKUP(SUMIFS(Positions!$C$11:$C$42,INDEX(Positions!$11:$42,0,4*$A$3+5),G$4,INDEX(Positions!$11:$42,0,4*$A$3+6),$B8),Board!$O$6:$P$18,2,0) | H8: =VLOOKUP(SUMIFS(Positions!$C$11:$C$42,INDEX(Positions!$11:$42,0,4*$A$3+5),H$4,INDEX(Positions!$11:$42,0,4*$A$3+6),$B8),Board!$O$6:$P$18,2,0) | I8: =VLOOKUP(SUMIFS(Positions!$C$11:$C$42,INDEX(Positions!$11:$42,0,4*$A$3+5),I$4,INDEX(Positions!$11:$42,0,4*$A$3+6),$B8),Board!$O$6:$P$18,2,0) | J8: =VLOOKUP(SUMIFS(Positions!$C$11:$C$42,INDEX(Positions!$11:$42,0,4*$A$3+5),J$4,INDEX(Positions!$11:$42,0,4*$A$3+6),$B8),Board!$O$6:$P$18,2,0) -> ♟ | O8: 4 | P8: ♖
B9: =IF($M$3="B",ROW()-ROW($B$6)+1,ROW($B$6)-ROW()+8) -> 5 | C9: =VLOOKUP(SUMIFS(Positions!$C$11:$C$42,INDEX(Positions!$11:$42,0,4*$A$3+5),C$4,INDEX(Positions!$11:$42,0,4*$A$3+6),$B9),Board!$O$6:$P$18,2,0) | D9: =VLOOKUP(SUMIFS(Positions!$C$11:$C$42,INDEX(Positions!$11:$42,0,4*$A$3+5),D$4,INDEX(Positions!$11:$42,0,4*$A$3+6),$B9),Board!$O$6:$P$18,2,0) | E9: =VLOOKUP(SUMIFS(Positions!$C$11:$C$42,INDEX(Positions!$11:$42,0,4*$A$3+5),E$4,INDEX(Positions!$11:$42,0,4*$A$3+6),$B9),Board!$O$6:$P$18,2,0) | F9: =VLOOKUP(SUMIFS(Positions!$C$11:$C$42,INDEX(Positions!$11:$42,0,4*$A$3+5),F$4,INDEX(Positions!$11:$42,0,4*$A$3+6),$B9),Board!$O$6:$P$18,2,0) | G9: =VLOOKUP(SUMIFS(Positions!$C$11:$C$42,INDEX(Positions!$11:$42,0,4*$A$3+5),G$4,INDEX(Positions!$11:$42,0,4*$A$3+6),$B9),Board!$O$6:$P$18,2,0) | H9: =VLOOKUP(SUMIFS(Positions!$C$11:$C$42,INDEX(Positions!$11:$42,0,4*$A$3+5),H$4,INDEX(Positions!$11:$42,0,4*$A$3+6),$B9),Board!$O$6:$P$18,2,0) | I9: =VLOOKUP(SUMIFS(Positions!$C$11:$C$42,INDEX(Positions!$11:$42,0,4*$A$3+5),I$4,INDEX(Positions!$11:$42,0,4*$A$3+6),$B9),Board!$O$6:$P$18,2,0) | J9: =VLOOKUP(SUMIFS(Positions!$C$11:$C$42,INDEX(Positions!$11:$42,0,4*$A$3+5),J$4,INDEX(Positions!$11:$42,0,4*$A$3+6),$B9),Board!$O$6:$P$18,2,0) | O9: 3 | P9: ♗
B10: =IF($M$3="B",ROW()-ROW($B$6)+1,ROW($B$6)-ROW()+8) -> 4 | C10: =VLOOKUP(SUMIFS(Positions!$C$11:$C$42,INDEX(Positions!$11:$42,0,4*$A$3+5),C$4,INDEX(Positions!$11:$42,0,4*$A$3+6),$B10),Board!$O$6:$P$18,2,0) | D10: =VLOOKUP(SUMIFS(Positions!$C$11:$C$42,INDEX(Positions!$11:$42,0,4*$A$3+5),D$4,INDEX(Positions!$11:$42,0,4*$A$3+6),$B10),Board!$O$6:$P$18,2,0) | E10: =VLOOKUP(SUMIFS(Positions!$C$11:$C$42,INDEX(Positions!$11:$42,0,4*$A$3+5),E$4,INDEX(Positions!$11:$42,0,4*$A$3+6),$B10),Board!$O$6:$P$18,2,0) | F10: =VLOOKUP(SUMIFS(Positions!$C$11:$C$42,INDEX(Positions!$11:$42,0,4*$A$3+5),F$4,INDEX(Positions!$11:$42,0,4*$A$3+6),$B10),Board!$O$6:$P$18,2,0) -> ♟ | G10: =VLOOKUP(SUMIFS(Positions!$C$11:$C$42,INDEX(Positions!$11:$42,0,4*$A$3+5),G$4,INDEX(Positions!$11:$42,0,4*$A$3+6),$B10),Board!$O$6:$P$18,2,0) | H10: =VLOOKUP(SUMIFS(Positions!$C$11:$C$42,INDEX(Positions!$11:$42,0,4*$A$3+5),H$4,INDEX(Positions!$11:$42,0,4*$A$3+6),$B10),Board!$O$6:$P$18,2,0) | I10: =VLOOKUP(SUMIFS(Positions!$C$11:$C$42,INDEX(Positions!$11:$42,0,4*$A$3+5),I$4,INDEX(Positions!$11:$42,0,4*$A$3+6),$B10),Board!$O$6:$P$18,2,0) -> ♙ | J10: =VLOOKUP(SUMIFS(Positions!$C$11:$C$42,INDEX(Positions!$11:$42,0,4*$A$3+5),J$4,INDEX(Positions!$11:$42,0,4*$A$3+6),$B10),Board!$O$6:$P$18,2,0) -> ♙ | O10: 2 | P10: ♘
B11: =IF($M$3="B",ROW()-ROW($B$6)+1,ROW($B$6)-ROW()+8) -> 3 | C11: =VLOOKUP(SUMIFS(Positions!$C$11:$C$42,INDEX(Positions!$11:$42,0,4*$A$3+5),C$4,INDEX(Positions!$11:$42,0,4*$A$3+6),$B11),Board!$O$6:$P$18,2,0) | D11: =VLOOKUP(SUMIFS(Positions!$C$11:$C$42,INDEX(Positions!$11:$42,0,4*$A$3+5),D$4,INDEX(Positions!$11:$42,0,4*$A$3+6),$B11),Board!$O$6:$P$18,2,0) -> ♙ | E11: =VLOOKUP(SUMIFS(Positions!$C$11:$C$42,INDEX(Positions!$11:$42,0,4*$A$3+5),E$4,INDEX(Positions!$11:$42,0,4*$A$3+6),$B11),Board!$O$6:$P$18,2,0) | F11: =VLOOKUP(SUMIFS(Positions!$C$11:$C$42,INDEX(Positions!$11:$42,0,4*$A$3+5),F$4,INDEX(Positions!$11:$42,0,4*$A$3+6),$B11),Board!$O$6:$P$18,2,0) | G11: =VLOOKUP(SUMIFS(Positions!$C$11:$C$42,INDEX(Positions!$11:$42,0,4*$A$3+5),G$4,INDEX(Positions!$11:$42,0,4*$A$3+6),$B11),Board!$O$6:$P$18,2,0) | H11: =VLOOKUP(SUMIFS(Positions!$C$11:$C$42,INDEX(Positions!$11:$42,0,4*$A$3+5),H$4,INDEX(Positions!$11:$42,0,4*$A$3+6),$B11),Board!$O$6:$P$18,2,0) -> ♔ | I11: =VLOOKUP(SUMIFS(Positions!$C$11:$C$42,INDEX(Positions!$11:$42,0,4*$A$3+5),I$4,INDEX(Positions!$11:$42,0,4*$A$3+6),$B11),Board!$O$6:$P$18,2,0) | J11: =VLOOKUP(SUMIFS(Positions!$C$11:$C$42,INDEX(Positions!$11:$42,0,4*$A$3+5),J$4,INDEX(Positions!$11:$42,0,4*$A$3+6),$B11),Board!$O$6:$P$18,2,0) | O11: 1 | P11: ♙
B12: =IF($M$3="B",ROW()-ROW($B$6)+1,ROW($B$6)-ROW()+8) -> 2 | C12: =VLOOKUP(SUMIFS(Positions!$C$11:$C$42,INDEX(Positions!$11:$42,0,4*$A$3+5),C$4,INDEX(Positions!$11:$42,0,4*$A$3+6),$B12),Board!$O$6:$P$18,2,0) | D12: =VLOOKUP(SUMIFS(Positions!$C$11:$C$42,INDEX(Positions!$11:$42,0,4*$A$3+5),D$4,INDEX(Positions!$11:$42,0,4*$A$3+6),$B12),Board!$O$6:$P$18,2,0) | E12: =VLOOKUP(SUMIFS(Positions!$C$11:$C$42,INDEX(Positions!$11:$42,0,4*$A$3+5),E$4,INDEX(Positions!$11:$42,0,4*$A$3+6),$B12),Board!$O$6:$P$18,2,0) | F12: =VLOOKUP(SUMIFS(Positions!$C$11:$C$42,INDEX(Positions!$11:$42,0,4*$A$3+5),F$4,INDEX(Positions!$11:$42,0,4*$A$3+6),$B12),Board!$O$6:$P$18,2,0) -> ♛ | G12: =VLOOKUP(SUMIFS(Positions!$C$11:$C$42,INDEX(Positions!$11:$42,0,4*$A$3+5),G$4,INDEX(Positions!$11:$42,0,4*$A$3+6),$B12),Board!$O$6:$P$18,2,0) | H12: =VLOOKUP(SUMIFS(Positions!$C$11:$C$42,INDEX(Positions!$11:$42,0,4*$A$3+5),H$4,INDEX(Positions!$11:$42,0,4*$A$3+6),$B12),Board!$O$6:$P$18,2,0) -> ♙ | I12: =VLOOKUP(SUMIFS(Positions!$C$11:$C$42,INDEX(Positions!$11:$42,0,4*$A$3+5),I$4,INDEX(Positions!$11:$42,0,4*$A$3+6),$B12),Board!$O$6:$P$18,2,0) | J12: =VLOOKUP(SUMIFS(Positions!$C$11:$C$42,INDEX(Positions!$11:$42,0,4*$A$3+5),J$4,INDEX(Positions!$11:$42,0,4*$A$3+6),$B12),Board!$O$6:$P$18,2,0) | O12: -6 | P12: ♚
B13: =IF($M$3="B",ROW()-ROW($B$6)+1,ROW($B$6)-ROW()+8) -> 1 | C13: =VLOOKUP(SUMIFS(Positions!$C$11:$C$42,INDEX(Positions!$11:$42,0,4*$A$3+5),C$4,INDEX(Positions!$11:$42,0,4*$A$3+6),$B13),Board!$O$6:$P$18,2,0) | D13: =VLOOKUP(SUMIFS(Positions!$C$11:$C$42,INDEX(Positions!$11:$42,0,4*$A$3+5),D$4,INDEX(Positions!$11:$42,0,4*$A$3+6),$B13),Board!$O$6:$P$18,2,0) | E13: =VLOOKUP(SUMIFS(Positions!$C$11:$C$42,INDEX(Positions!$11:$42,0,4*$A$3+5),E$4,INDEX(Positions!$11:$42,0,4*$A$3+6),$B13),Board!$O$6:$P$18,2,0) | F13: =VLOOKUP(SUMIFS(Positions!$C$11:$C$42,INDEX(Positions!$11:$42,0,4*$A$3+5),F$4,INDEX(Positions!$11:$42,0,4*$A$3+6),$B13),Board!$O$6:$P$18,2,0) | G13: =VLOOKUP(SUMIFS(Positions!$C$11:$C$42,INDEX(Positions!$11:$42,0,4*$A$3+5),G$4,INDEX(Positions!$11:$42,0,4*$A$3+6),$B13),Board!$O$6:$P$18,2,0) | H13: =VLOOKUP(SUMIFS(Positions!$C$11:$C$42,INDEX(Positions!$11:$42,0,4*$A$3+5),H$4,INDEX(Positions!$11:$42,0,4*$A$3+6),$B13),Board!$O$6:$P$18,2,0) | I13: =VLOOKUP(SUMIFS(Positions!$C$11:$C$42,INDEX(Positions!$11:$42,0,4*$A$3+5),I$4,INDEX(Positions!$11:$42,0,4*$A$3+6),$B13),Board!$O$6:$P$18,2,0) | J13: =VLOOKUP(SUMIFS(Positions!$C$11:$C$42,INDEX(Positions!$11:$42,0,4*$A$3+5),J$4,INDEX(Positions!$11:$42,0,4*$A$3+6),$B13),Board!$O$6:$P$18,2,0) | O13: -5 | P13: ♛
O14: -4 | P14: ♜
O15: -3 | P15: ♝
O16: -2 | P16: ♞
O17: -1 | P17: ♟
O18: 0

Sheet Games
A1: The Immortal Game | B1: The Game of the Century | C1: World Chess Championship 2014 - Game 1 | D1: World Chess Championship 2014 - Game 2 | E1: World Chess Championship 2014 - Game 3 | F1: World Chess Championship 2014 - Game 4 | G1: World Chess Championship 2014 - Game 5 | H1: World Chess Championship 2014 - Game 6 | I1: World Chess Championship 2014 - Game 7 | J1: World Chess Championship 2014 - Game 8 | K1: World Chess Championship 2014 - Game 9 | L1: World Chess Championship 2014 - Game 10 | M1: World Chess Championship 2014 - Game 11 | N1: World Chess Championship 2016 - Game 1 | O1: World Chess Championship 2016 - Game 2 | P1: World Chess Championship 2016 - Game 3 | Q1: World Chess Championship 2016 - Game 4 | R1: World Chess Championship 2016 - Game 5 | S1: World Chess Championship 2016 - Game 6 | T1: World Chess Championship 2016 - Game 7 | U1: World Chess Championship 2016 - Game 8 | V1: World Chess Championship 2016 - Game 9 | W1: World Chess Championship 2016 - Game 10 | X1: World Chess Championship 2016 - Game 11 | Y1: World Chess Championship 2016 - Game 12 | Z1: World Chess Championship 2016 - Game 13 | AA1: World Chess Championship 2016 - Game 14 | AB1: World Chess Championship 2016 - Game 15 | AC1: World Chess Championship 2016 - Game 16
A2: Anderssen-Kieseritzky | B2: Byrne-Fischer | C2: Anand-Carlsen | D2: Carlsen-Anand | E2: Anand-Carlsen | F2: Carlsen-Anand | G2: Anand-Carlsen | H2: Carlsen-Anand | I2: Carlsen-Anand | J2: Anand-Carlsen | K2: Carlsen-Anand | L2: Anand-Carlsen (won't work from move 30 - can't do promotion) | M2: Carlsen-Anand | N2: Carlsen–Karjakin | O2: Karjakin–Carlsen | P2: Carlsen–Karjakin | Q2: Karjakin–Carlsen | R2: Carlsen–Karjakin | S2: Karjakin–Carlsen | T2: Karjakin–Carlsen | U2: Carlsen–Karjakin | V2: Karjakin–Carlsen | W2: Carlsen–Karjakin | X2: Karjakin–Carlsen | Y2: Carlsen–Karjakin | Z2: Karjakin–Carlsen | AA2: Carlsen–Karjakin | AB2: Karjakin–Carlsen | AC2: Carlsen–Karjakin
A3: 1. e4 e5 | B3: 1. Nf3 Nf6 | C3: 1. d4 Nf6 | D3: 1. e4 e5 | E3: 1. d4 Nf6 | F3: 1. e4 c5 | G3: 1. d4 Nf6 | H3: 1. e4 c5 | I3: 1. e4 e5 | J3: 1. d4 Nf6 | K3: 1. e4 e5 | L3: 1. d4 Nf6 | M3: 1. e4 e5 | N3: 1. d4 Nf6 | O3: 1. e4 e5 | P3: 1. e4 e5 | Q3: 1. e4 e5 | R3: 1. e4 e5 | S3: 1. e4 e5 | T3: 1. d4 d5 | U3: 1. d4 Nf6 | V3: 1. e4 e5 | W3: 1. e4 e5 | X3: 1. e4 e5 | Y3: 1. e4 e5 | Z3: 1. e4 e5 | AA3: 1. e4 e5 | AB3: 1. e4 e5 | AC3: 1. e4 c5
A4: 2. f4 exf4 | B4: 2. c4 g6 | C4: 2. c4 g6 | D4: 2. Nf3 Nc6 | E4: 2. c4 e6 | F4: 2. Nf3 e6 | G4: 2. c4 e6 | H4: 2. Nf3 e6 | I4: 2. Nf3 Nc6 | J4: 2. c4 e6 | K4: 2. Nf3 Nc6 | L4: 2. c4 g6 | M4: 2. Nf3 Nc6 | N4: 2. Bg5 d5 | O4: 2. Nf3 Nc6 | P4: 2. Nf3 Nc6 | Q4: 2. Nf3 Nc6 | R4: 2. Nf3 Nc6 | S4: 2. Nf3 Nc6 | T4: 2. c4 c6 | U4: 2. Nf3 d5 | V4: 2. Nf3 Nc6 | W4: 2. Nf3 Nc6 | X4: 2. Nf3 Nc6 | Y4: 2. Nf3 Nc6 | Z4: 2. Nf3 Nc6 | AA4: 2. Nf3 Nc6 | AB4: 2. Nf3 Nc6 | AC4: 2. Nf3 d6
A5: 3. Bc4 Qh4+ | B5: 3. Nc3 Bg7 | C5: 3. Nc3 d5 | D5: 3. Bb5 Nf6 | E5: 3. Nf3 d5 | F5: 3. g3 Nc6 | G5: 3. Nf3 b6 | H5: 3. d4 cxd4 | I5: 3. Bb5 Nf6 | J5: 3. Nf3 d5 | K5: 3. Bb5 Nf6 | L5: 3. Nc3 d5 | M5: 3. Bb5 Nf6 | N5: 3. e3 c5 | O5: 3. Bb5 a6 | P5: 3. Bb5 Nf6 | Q5: 3. Bb5 a6 | R5: 3. Bc4 Bc5 | S5: 3. Bb5 a6 | T5: 3. Nc3 Nf6 | U5: 3. e3 e6 | V5: 3. Bb5 a6 | W5: 3. Bb5 Nf6 | X5: 3. Bb5 a6 | Y5: 3. Bb5 Nf6 | Z5: 3. Bb5 a6 | AA5: 3. Bc4 Bc5 | AB5: 3. Bb5 a6 | AC5: 3. d4 cxd4
A6: 4. Kf1 b5?! | B6: 4. d4 0-0 | C6: 4. cxd5 Nxd5 | D6: 4. d3 Bc5 | E6: 4. Nc3 Be7 | F6: 4. Bg2 d5 | G6: 4. g3 Bb4+ | H6: 4. Nxd4 a6 | I6: 4. 0-0 Nxe4 | J6: 4. Nc3 Be7 | K6: 4. 0-0 Nxe4 | L6: 4. Nf3 Bg7 | M6: 4. 0-0 Nxe4 | N6: 4. Bxf6 gxf6 | O6: 4. Ba4 Nf6 | P6: 4. 0-0 Nxe4 | Q6: 4. Ba4 Nf6 | R6: 4. 0-0 Nf6 | S6: 4. Ba4 Nf6 | T6: 4. e3 a6 | U6: 4. Bd3 c5 | V6: 4. Ba4 Nf6 | W6: 4. d3 Bc5 | X6: 4. Ba4 Nf6 | Y6: 4. 0-0 Nxe4 | Z6: 4. Ba4 Nf6 | AA6: 4. 0-0 Nf6 | AB6: 4. Ba4 Nf6 | AC6: 4. Nxd4 Nf6
A7: 5. Bxb5 Nf6 | B7: 5. Bf4 d5 | C7: 5. Bd2 Bg7 | D7: 5. 0-0 d6 | E7: 5. Bf4 0-0 | F7: 5. exd5 exd5 | G7: 5. Bd2 Be7 | H7: 5. c4 Nf6 | I7: 5. d4 Nd6 | J7: 5. Bf4 0-0 | K7: 5. d4 Nd6 | L7: 5. Qb3 dxc4 | M7: 5. d4 Nd6 | N7: 5. dxc5 Nc6 | O7: 5. 0-0 Be7 | P7: 5. Re1 Nd6 | Q7: 5. 0-0 Be7 | R7: 5. d3 0-0 | S7: 5. 0-0 Be7 | T7: 5. Bd3 dxc4 | U7: 5. b3 Be7 | V7: 5. 0-0 b5 | W7: 5. c3 0-0 | X7: 5. 0-0 Be7 | Y7: 5. Re1 Nd6 | Z7: 5. 0-0 Be7 | AA7: 5. d3 0-0 | AB7: 5. 0-0 Be7 | AC7: 5. f3 e5
A8: 6. Nf3 Qh6 | B8: 6. Qb3 dxc4 | C8: 6. e4 Nxc3 | D8: 6. Re1 0-0 | E8: 6. e3 Nbd7 | F8: 6. 0-0 Nf6 | G8: 6. Nc3 Bb7 | H8: 6. Nc3 Bb4 | I8: 6. Bxc6 dxc6 | J8: 6. e3 c5 | K8: 6. Bxc6 dxc6 | L8: 6. Qxc4 0-0 | M8: 6. Bxc6 dxc6 | N8: 6. Bb5 e6 | O8: 6. d3 b5 | P8: 6. Nxe5 Be7 | Q8: 6. Re1 b5 | R8: 6. a4 d6 | S8: 6. Re1 b5 | T8: 6. Bxc4 e6 | U8: 6. 0-0 0-0 | V8: 6. Bb3 Bc5 | W8: 6. Bg5 h6 | X8: 6. d3 b5 | Y8: 6. Nxe5 Be7 | Z8: 6. d3 b5 | AA8: 6. a4 a6 | AB8: 6. d3 b5 | AC8: 6. Nb3 Be7
A9: 7. d3 Nh5 | B9: 7. Qxc4 c6 | C9: 7. Bxc3 0-0 | D9: 7. Bxc6 bxc6 | E9: 7. c5 c6 | F9: 7. d4 Be7 | G9: 7. Bg2 c6 | H9: 7. Qd3 Nc6 | I9: 7. dxe5 Nf5 | J9: 7. dxc5 Bxc5 | K9: 7. dxe5 Nf5 | L9: 7. e4 Na6 | M9: 7. dxe5 Nf5 | N9: 7. c4 dxc4 | O9: 7. Bb3 d6 | P9: 7. Bf1 Nxe5 | Q9: 7. Bb3 0-0 | R9: 7. c3 a6 | S9: 7. Bb3 0-0 | T9: 7. Nf3 c5 | U9: 7. Bb2 b6 | V9: 7. a4 Rb8 | W9: 7. Bh4 Be7 | X9: 7. Bb3 d6 | Y9: 7. Bf1 Nxe5 | Z9: 7. Bb3 d6 | AA9: 7. c3 d6 | AB9: 7. Bb3 d6 | AC9: 7. c4 a5
A10: 8. Nh4 Qg5 | B10: 8. e4 Nbd7 | C10: 8. Qd2 Nc6 | D10: 8. h3 Re8 | E10: 8. Bd3 b6 | F10: 8. Be3 cxd4 | G10: 8. e4 d5 | H10: 8. Nxc6 dxc6 | I10: 8. Qxd8+ Kxd8 | J10: 8. a3 Nc6 | K10: 8. Qxd8+ Kxd8 | L10: 8. Be2 c5 | M10: 8. Qxd8+ Kxd8 | N10: 8. Nd2 Bxc5 | O10: 8. a3 0-0 | P10: 8. Rxe5 0-0 | Q10: 8. h3 Bb7 | R10: 8. b4 Ba7 | S10: 8. h3 Bb7 | T10: 8. 0-0 b5 | U10: 8. dxc5 Bxc5 | V10: 8. c3 d6 | W10: 8. 0-0 d6 | X10: 8. a3 0-0 | Y10: 8. Rxe5 0-0 | Z10: 8. a3 0-0 | AA10: 8. Re1 Ba7 | AB10: 8. a3 0-0 | AC10: 8. Be3 a4
A11: 9. Nf5 c6 | B11: 9. Rd1 Nb6 | C11: 9. Nf3 Bg4 | D11: 9. Nbd2 Nd7 | E11: 9. b4 a5 | F11: 9. Nxd4 Bg4 | G11: 9. exd5 cxd5 | H11: 9. Qxd8+ Kxd8 | I11: 9. h3 Ke8 | J11: 9. Qc2 Re8 | K11: 9. h3 Ke8 | L11: 9. d5 e6 | M11: 9. h3 Bd7 | N11: 9. Ngf3 0-0 | O11: 9. Nc3 Na5 | P11: 9. d4 Bf6 | Q11: 9. d3 d6 | R11: 9. Re1 Ne7 | S11: 9. d3 d5 | T11: 9. Be2 Bb7 | U11: 9. Nbd2 Bb7 | V11: 9. d4 Bb6 | W11: 9. Nbd2 Nh5 | X11: 9. Nc3 Be6 | Y11: 9. d4 Bf6 | Z11: 9. Nc3 Nb8 | AA11: 9. h3 Ne7 | AB11: 9. Nc3 Na5 | AC11: 9. Nc1 0-0
A12: 10. g4? Nf6 | B12: 10. Qc5 Bg4 | C12: 10. d5 Bxf3 | D12: 10. Nc4 Bb6 | E12: 10. a3 Ba6 | F12: 10. Qd3 Qd7 | G12: 10. Ne5 0-0 | H12: 10. e5 Nd7 | I12: 10. Nc3 h5 | J12: 10. Bg5 Be7 | K12: 10. Nc3 h5 | L12: 10. 0-0 exd5 | M12: 10. Nc3 h6 | N12: 10. 0-0 Na5 | O12: 10. Ba2 Be6 | P12: 10. Re2 b6 | Q12: 10. a3 Qd7 | R12: 10. Nbd2 Ng6 | S12: 10. exd5 Nxd5 | T12: 10. dxc5 Nc6 | U12: 10. Qe2 Nbd7 | V12: 10. axb5 axb5 | W12: 10. Bxe7 Qxe7 | X12: 10. Nd5 Nd4 | Y12: 10. Re1 Re8 | Z12: 10. Ne2 c5 | AA12: 10. d4 Ng6 | AB12: 10. Ba2 Be6 | AC12: 10. Nc3 Qa5
... A22: 20. Ke2 Na6 | B22: 20. Kf1 Nxd4+ | C22: 20. Qd2 Rd6 | D22: 20. h4 Bxf5 | E22: 20. fxe4 Rxb5 | F22: 20. Bd4 Nh7 | G22: 20. Nd5 Bxd5 | H22: 20. hxg6 Nxg6 | I22: 20. Kf2 Rxd1 | J22: 20. Nc5 Bxc5 | K22: 20. Ng5+ ½–½ | L22: 20. Nxe4 Rxe4 | M22: 20. Kg3 Be7 | N22: 20. g3 Rd7 | O22: 20. Qxd8 Rcxd8 | P22: 20. Kxg2 f5 | Q22: 20. Be3 Nxe4 | R22: 20. Rf3 Bxc5 | S22: 20. f3 Rfe8 | T22: 20. Bxf8 Qxd1 | U22: 20. a4 Bd5 | V22: 20. exd6 c4 | W22: 20. Nd2 d5 | X22: 20. Bg5 Bxg5 | Y22: 20. Qxe3 Qe7 | Z22: 20. d4 bxc3 | AA22: 20. Bxe3 Rxa4 | AB22: 20. f3 Bh4 | AC22: 20. Bf1 h4
A23: 21. Nxg7+ Kd8 | B23: 21. Kg1 Ne2+ | C23: 21. Rhe1 Nd8 | D23: 21. exf5 Nf4 | E23: 21. Qxa4 Ra5 | F23: 21. cxd5 Bxd5 | G23: 21. Bxd5 Rad8 | H23: 21. Rh5 Bc6 | I23: 21. Nxd1 Nf5 | J23: 21. Qxc5 b4 | L23: 21. Bf3 Re7 | M23: 21. Nd2 Rhd8 | N23: 21. Kf1 f5 | O23: 21. axb5 axb5 | P23: 21. Nd5 Kf7 | Q23: 21. Ng3 Nd6 | R23: 21. bxc5 Re8 | S23: 21. Re5 Qd6 | T23: 21. Rxd1 Rxf8 | U23: 21. Bd4 Bxc4 | V23: 21. b3 cxb3 | W23: 21. Qh5 Ng5 | X23: 21. Qxg5 dxe4 | Y23: 21. Qxe7 Bxe7 | Z23: 21. bxc3 cxd4 | AA23: 21. Qxa4 Nxe4 | AB23: 21. a4 Nf6 | AC23: 21. Qf2 Nd7
A24: 22. Qf6+! Nxf6 | B24: 22. Kf1 Nc3+ | C24: 22. f5 Nxe6 | D24: 22. Bxf4 exf4 | E24: 22. Qc6 bxa3 | F24: 22. Rxe8+ Rxe8 | G24: 22. Qf3 Qxb2 | H24: 22. Bc2 Kb7 | I24: 22. Rh1 Bxa2 | J24: 22. Rc1 bxa3 | L24: 22. d6 Rd7 | M24: 22. Ne4 Bf8 | N24: 22. Ke2 Bf6 | O24: 22. Ne2 Bb4 | P24: 22. Ne3 Kf6 | Q24: 22. Rad1 Rab8 | R24: 22. Rf4 Qe7 | S24: 22. c3 Rxe6 | T24: 22. Bxa6 b4 | U24: 22. Rxc4 Bxd4 | V24: 22. Bxb3 Qxd6 | W24: 22. h4 Nf3 | X24: 22. fxe6 Rxf1+ | Y24: 22. Re1 Bf8 | Z24: 22. cxd4 exd4 | AA24: 22. Rc1 Bd5 | AB24: 22. Qe2 a5 | AC24: 22. g3 Ra3
A25: 23. Be7# | B25: 23. Kg1 axb6 | C25: 23. Rxe6 Qc7+ | D25: 23. Rc3 c5 | E25: 23. exd5 Rxd5 | F25: 23. Qd3 Nf8 | G25: 23. Rad1 Qf6 | H25: 23. Rg4 a5 | I25: 23. Rxh5 Be6 | J25: 23. bxa3 Qxc5 | L25: 23. Bf4 Nb4 | M25: 23. Nef6 b5 | N25: 23. b3 Kf8 | O25: 23. Bc3 Bxc3 | P25: 23. Nc4 Bf8 | Q25: 23. Bc1 f6 | R25: 23. Qd4 Ref8 | S25: 23. Rxe6 Qxe6 | T25: 23. Rc1 g6 | U25: 23. Rdxd4 Rxc4 | V25: 23. Ra6 Rfd8 | W25: 23. Nxf3 Qxf3+ | X25: 23. Rxf1 Qxe6 | Y25: 23. Kf1 f6 | Z25: 23. Nxd4 Nxd4 | AA25: 23. b5 cxb5 | AB25: 23. axb5 axb4 | AC25: 23. Bh3 Rca8
B26: 24. Qb4 Ra4! | C26: 24. Kb1 Rc8 | D26: 24. Re6 Rab8 | E26: 24. Qxb6 Qd7 | F26: 24. Nh4 Be5 | G26: 24. Qxf6 gxf6 | H26: 24. Bd1 Rd8 | I26: 24. g4 Nd6 | J26: 24. Rxc5 Ne7 | L26: 24. Rd2 Re8 | M26: 24. Bc3 bxa4 | N26: 24. h3 h6 | O26: 24. Nxc3 Nbd7 | P26: 24. Re1 Rd8 | Q26: 24. Qxc6 Bxc6 | R26: 24. Rf3 Be4 | S26: 24. cxb4 cxb4 | T26: 24. Rc2 Ra8 | U26: 24. bxc4 Nf6 | V26: 24. Rg1 Qd7 | W26: 24. Qxf3 Rxf3 | X26: 24. cxd4 e3 | Y26: 24. g4 Kf7 | Z26: 24. Bxd4 Rb4 | AA26: 24. Qxe4 Qxc1 | AB26: 24. Bd2 bxc3 | AC26: 24. Nc2 R3a6
B27: 25. Qxb6 Nxd1 | C27: 25. Rde1 Rxe6 | D27: 25. Rc4 Qd7 | E27: 25. 0-0 Rc8 | F27: 25. Bxd5 Qxd5 | G27: 25. Re7 Kg7 | H27: 25. Bc2 Rdg8 | I27: 25. Rh7 Nf7 | J27: 25. Rfc1 Rc8 | L27: 25. Rc1 Re6 | M27: 25. bxa4 Kc6 | N27: 25. Ne1 Ke7 | O27: 25. Ra6 Rc8 | P27: 25. f4 gxf4 | Q27: 25. Ng4 Rb5 | R27: 25. Rxf7 Qxf7 | S27: 25. Rc1 Rc8 | T27: 25. Bd3 Rd8 | U27: 25. Qd2 Rb8 | V27: 25. Rg4 Nf6 | W27: 25. Kg2 Rf7 | X27: 25. Re1 h6 | Y27: 25. h3 Re8 | Z27: 25. Rec1 Qd7 | AA27: 25. Qxd5 Qc7 | AB27: 25. Bxc3 Ne3 | AC27: 25. Nb4 Ra5
B28: 26. h3 Rxa2 | C28: 26. Rxe6 Rd8 | D28: 26. Kh2 Rf8 | E28: 26. Rc6 g5 | F28: 26. Bxe5 Qxe5 | G28: 26. Rxa7 Nc6 | H28: 26. Kd2 a4 | I28: 26. Ne3 Kd8 | J28: 26. Bd3 Red8 | L28: 26. h4 Be5 | M28: 26. Kf3 Rdb8 | N28: 26. Nd3 Kd8 | O28: 26. b4 Re6 | P28: 26. gxf4 b5 | Q28: 26. f3 f5 | R28: 26. f3 Bf5 | S28: 26. Rxc8+ Qxc8 | T28: 26. Be2 Kf8 | U28: 26. g3 Ne5 | V28: 26. Rh4 Qb5 | W28: 26. Rfe1 h5 | X28: 26. Qh5 e2 | Y28: 26. Rxe8 Kxe8 | Z28: 26. Bc3 Rxa4 | AA28: 26. Qxb5 Rb8 | AB28: 26. Rfc1 Rxa1 | AC28: 26. Nc2 b6
B29: 27. Kh2 Nxf2 | C29: 27. Qe3 Rd7 | D29: 27. Rce4 Rb7 | E29: 27. Bg3 Bb4 | F29: 27. b3 Ne6 | G29: 27. Rb7 Nb4 | H29: 27. Ke2 a3 | I29: 27. Nf5 c5 | J29: 27. Rxc8 Rxc8 | L29: 27. Bxe5 Rxe5 | M29: 27. Ke4 Rb4 | N29: 27. f4 h5 | O29: 27. Rb1 c5 | P29: 27. axb5 axb5 | Q29: 27. Nf2 Be7 | R29: 27. Kh2 Be6 | S29: 27. Qe1 Qd7 | T29: 27. Kf1 Ra8 | U29: 27. Bg2 h6 | V29: 27. Ra1 g6 | W29: 27. Nf1 Kf8 | X29: 27. Qf3 a5 | Y29: 27. Ke2 Kd7 | Z29: 27. Bxa5 Rxa1 | AA29: 27. Qd5 Rd8 | AB29: 27. Rxa1 Qe8 | AC29: 27. Rd2 Qc7
B30: 28. Re1 Rxe1 | C30: 28. d6 exd6 | D30: 28. Qe2 b5 | E30: 28. Ra1 Ba5 | F30: 28. Nf3 Qf6 | G30: 28. Bb3 Rxd1+ | H30: 28. f3 Rd8 | I30: 28. Ng3 Ne5 | J30: 28. Rxc8+ Nxc8 | L30: 28. Bxb7 Rxb7 | M30: 28. Bxb4 cxb4 | N30: 28. a4 Rd5 | O30: 28. Rxe6 fxe6 | P30: 28. Ne3 c6 | Q30: 28. f4 Bh4 | R30: 28. Re2 Qg6 | S30: 28. Kh2 a5 | T30: 28. Bc4 Rc8 | U30: 28. f4 Ned7 | V30: 28. Rb1 Qd7 | W30: 28. Nd2 Ke7 | X30: 28. c3 Qa2 | Y30: 28. Kd3 Ke6 | Z30: 28. Rxa1 Ra8 | AA30: 28. Qb3 Rb8 | AB30: 28. Bc4 Kh8 | AC30: 28. Rbd1 Bf8
B31: 29. Qd8+ Bf8 | C31: 29. Qd4 Rf7 | D31: 29. b3 bxa4 | E31: 29. Qa6 Bxc7 | F31: 29. Kg2 Rd8 | G31: 29. Bxd1 Nxa2 | H31: 29. Ke1 Rd7 | I31: 29. Rh8+ Rg8 | J31: 29. Nd2 Nb6 | L31: 29. d7 Nc6 | M31: 29. Nh5 Kb7 | N31: 29. Nc5 b6 | O31: 29. Nxb5 cxb4 | P31: 29. Kf3 Ra8 | Q31: 29. fxe5 Bxg3 | R31: 29. Be3 Rf7 | S31: 29. Qe3 Bd5 | T31: 29. Ke2 Ke7 | U31: 29. Na7 Qa3 | V31: 29. Qd3 Nd5 | W31: 29. Re2 Kd6 | X31: 29. Qc6 Re6 | Y31: 29. a4 a6 | Z31: 29. Bc3 Rxa1+ | AA31: 29. Qa2 h6 | AB31: 29. Nxf6 Bxf6 | AC31: 29. gxh4 Nf4
B32: 30. Nxe1 Bd5 | C32: 30. fxg6 hxg6 | D32: 30. bxa4 Rb4 | E32: 30. Qc4 e5 | F32: 30. Qe2 Rd5 | G32: 30. Rxb6 Nc3 | H32: 30. Bc1 Ra8 | I32: 30. Bxe5 fxe5 | J32: 30. Nb3 Nd7 | L32: 30. d8=Q+ Nxd8 | M32: 30. f4 gxf4 | N32: 30. Na6 Be7 | O32: 30. Rxb4 Rxc2 | P32: 30. Rg1 Ra2 | Q32: 30. exd6 Rxe1+ | R32: 30. Rf2 Qb1 | S32: 30. Qb6 Bxb3 | T32: 30. f4 h6 | U32: 30. Nc6 Rf8 | V32: 30. Rg1 Bc7 | W32: 30. Nf3 Raf8 | X32: 30. Qc8+ Kh7 | Y32: 30. f3 Be7 ½–½ | Z32: 30. Bxa1 Qc6 | AA32: 30. Qd5 Qe7 | AB32: 30. Ra3 e4 | AC32: 30. Bxf4 exf4
B33: 31. Nf3 Ne4 | C33: 31. Rxd6 a6 | D33: 31. Re7 Qd6 | E33: 31. Bxe5 Rxe5 | F33: 31. Rxd5 cxd5 | G33: 31. Bf3 f5 | H33: 31. Ke2 Ba4 | I33: 31. Rh5 Bxg4 | J33: 31. Na5 Bc8 | L33: 31. Rxd8+ Kg7 | M33: 31. Nhxf4 Nxf4 | N33: 31. Nb8 a5 | O33: 31. Nd6 Rc1+ | P33: 31. b3 c5 | Q33: 31. Rxe1 cxd6 | R33: 31. Rb2 Qf5 | S33: 31. Qxa5 Qxd3 | T33: 31. Kf3 Rc7 | U33: 31. h3 Nc5 | V33: 31. Bg5 Re8 | W33: 31. Ng5 Re7 | X33: 31. c4 Qd2 | Z33: 31. Kh2 Kf7 | AA33: 31. Qe4 Qf6 | AB33: 31. dxe4 Bxc3 | AC33: 31. Bxd7 Qxd7
B34: 32. Qb8 b5 | C34: 32. a3 Qa5 | D34: 32. Qf3 Rxe4 | E34: 32. dxe5 Qe7 | F34: 32. Ne5 Qf5 | G34: 32. Kg2 Rd8 | H34: 32. Be4+ Bc6 | I34: 32. fxg4 Rxg4 | J34: 32. Kf1 Kf8 | L34: 32. Rd2 ½–½ | M34: 32. Nxf4 Bxc4 | N34: 32. Nc6+ Ke8 | O34: 32. Kh2 Rc2 | P34: 32. Rg8 Kf7 | Q34: 32. Rd1 Kf7 | R34: 32. a5 Kf8 | S34: 32. Qxb4 Be6 ½–½ | T34: 32. g4 g5 | U34: 32. Kh2 Nxa4 | V34: 32. Qc4 Rb5 | W34: 32. Rae1 Rfe8 | X34: 32. Qxe6 Qxe1+ | Z34: 32. Bb2 Qc5 | AA34: 32. g3 Rc8 | AB34: 32. Rxc3 Qe5 | AC34: 32. Nb4 Ra3
B35: 33. h4 h5 | C35: 33. f4 Qh5 | D35: 33. Qxe4 f3+ | E35: 33. e6 Kf8 | F35: 33. Nd3 Nd4 | G35: 33. Rc6 Ne4 | H35: 33. Bxg6 fxg6 | I35: 33. Rxe5 b6 | J35: 33. Ke1 Ke7 | M35: 33. Rd7 Ra6 | N35: 33. Ne5 Bc5 | O35: 33. Kg1 ½–½ | P35: 33. Rg2 cxd4 | Q35: 33. Rd4 Re5 | R35: 33. Qc3 Ke8 | T35: 33. Ke4 Rc8 ½–½ | U35: 33. Rd8 g6 | V35: 33. Qc2 Ra8 | W35: 33. Nf3 Nh8 | X35: 33. Kh2 Qf2 | Z35: 33. f4 Bd8 | AA35: 33. Bd3 Qc6 | AB35: 33. Rc1 Ra8 | AC35: 33. Nxc6 Qxc6
B36: 34. Ne5 Kg7 | C36: 34. Qd2 Qc5 | D36: 34. g3 h5 | E36: 34. Rc1 1–0 | F36: 34. g4 Qd7 | G36: 34. Bxe4 fxe4 | H36: 34. Rxg6 Ba4 | I36: 34. Ne4 Rh4 | J36: 34. Kd2 Kd6 | M36: 34. Nd5 Rc6 | N36: 34. Rc3 Ke7 | P36: 34. Nxf5 d3 | Q36: 34. Kf1 Rd5 | R36: 34. Rb4 g5 | U36: 34. Qd4 Kg7 | V36: 34. Bc4 Rba5 | W36: 34. d4 exd4 | X36: 34. Qe4+ ½–½ | Z36: 34. e5 dxe5 | AA36: 34. Qf5 Re8 | AB36: 34. h3 h6 | AC36: 34. Nb5 Rxb3
B37: 35. Kg1 Bc5+ | C37: 35. Rd5 Qc4 | D37: 35. Qb7 1–0 | F37: 35. Qe5 Ne6 | G37: 35. Rc4 f5 | H37: 35. Rxe6 Rd1 | I37: 35. Ke2 Rh6 | J37: 35. Kc3 Ne5 | M37: 35. Rxf7 Bc5 | N37: 35. Rd3 Rxd3 | P37: 35. cxd3 Ra1 | Q37: 35. Rxd5 Bxd5 | R37: 35. Rb2 Kd8 | U37: 35. c5 Rxd8 | V37: 35. Bd2 Ra4 | W37: 35. Nxd4 g6 | Z37: 35. Bxe5 Bb6 | AA37: 35. Be4 Qe6 | AB37: 35. Kh2 Qd4 | AC37: 35. Nd4 Qxc4
B38: 36. Kf1 Ng3+ | C38: 36. Rd7 Qc6 | F38: 36. Kg3 Qb5 | G38: 36. g4 Rd2 | H38: 36. Bxa3 Ra1 | I38: 36. b3 Kd7 | J38: 36. Be2 Kc5 | M38: 36. Rxc7+ Rxc7 | N38: 36. Kxd3 f6 | P38: 36. Nd4 b4 | Q38: 36. Bg5 Kg6 | R38: 36. Rf2 Kc8 | U38: 36. Nxd8 Nxc5 | V38: 36. Qd3 Ra1 | W38: 36. Re3 Nf7 | Z38: 36. Qd1 Qd5 | AA38: 36. Qh5 Ne7 | AB38: 36. Qe1 Qb2 | AC38: 36. Nxb3 Qxb3
B39: 37. Ke1 Bb4+ | C39: 37. Rd6 Qe4+ | F39: 37. Nf4 Nxf4 | G39: 37. gxf5 e3 | H39: 37. Ke3 Bc2 | I39: 37. Kd2 Kc6 | J39: 37. f4 Nc6 | M39: 37. Nxc7 Kc6 | N39: 37. Nc6+ Kd6 | P39: 37. Rg5 Rb1 | Q39: 37. h4 Kh5 | R39: 37. Qd4 Qg6 | U39: 37. Qd6 Qd3 | V39: 37. Rxa1 Rxa1+ | W39: 37. e5+ Kd7 | Z39: 37. Qxd5 Nxd5 ½–½ | AA39: 37. Qxe5 Qxe5 | AB39: 37. Bf1 Ra2 | AC39: 37. Qe2 Be7
B40: 38. Kd1 Bb3+ | C40: 38. Ka2 Re7 | F40: 38. Kxf4 Qb4+ | G40: 38. Re4 Rxf2+ | H40: 38. Re7+ 1–0 | I40: 38. Nc3 a6 | J40: 38. Nxc6 Kxc6 | M40: 38. Nb5 Bxb5 | N40: 38. Nd4 Kd5 | P40: 38. Rf5+ Ke8 | Q40: 38. Nh3 Bf7 | R40: 38. g4 h5 | U40: 38. Nxe6+ fxe6 | V40: 38. Kg2 Ne7 | W40: 38. Rf3 Nh6 | AA40: 38. Nxe5 Ng6 | AB40: 38. Rxc7? Ra1 0-1 | AC40: 38. Kg2 Qe6
B41: 39. Kc1 Ne2+ | C41: 39. Qc1 a5 | F41: 39. Kf3 d4 | G41: 39. Kg3 Rxf5 ½–½ | I41: 39. Re4 Rh2+ | J41: 39. Kd4 f6 | M41: 39. axb5+ Kxb5 | N41: 39. Nb5 Kc6 | P41: 39. Rb5 Rf1+ | Q41: 39. Be7 Bxh4 | R41: 39. Qd2 Rg7 | U41: 39. Qe7+ Kg8 | V41: 39. Bxf7+ Kxf7 | W41: 39. Rf6 Rg7 | AA41: 39. Bxg6 Rxe5 | AC41: 39. h5 Ra3
B42: 40. Kb1 Nc3+ | C42: 40. Qf1 a4 | F42: 40. Qe8+ Kh7 | I42: 40. Kc1 Rh1+ | J42: 40. e4 Kd6 | M42: 40. e6 b3 | N42: 40. Nd4+ Kd6 | P42: 40. Ke4 Re1+ | Q42: 40. Bxd6 Bd8 | R42: 40. Kg3 Rg8 | U42: 40. Qxf6 a4 | V42: 40. Qc4+ Kg7 | W42: 40. b4 axb4 | AA42: 40. Bd3 f6 | AC42: 40. Rd3 Ra2
B43: 41. Kc1 Rc2# | C43: 41. Rd1 Qc2 | F43: 41. Qxf7 Qd2 | I43: 41. Kb2 Rh6 | J43: 41. e5+ ½–½ | M43: 41. Kd3 Be7 | N43: 41. Nb5+ Kd7 | P43: 41. Kf5 Rd1 | Q43: 41. Ke2 g5 | R43: 41. Kg2 hxg4 | U43: 41. e4 Qd7 | V43: 41. d5 Nf5 | W43: 41. cxb4 Ng8 | AA43: 41. Kg2 Kh8 | AC43: 41. R3d2 Ra3
C44: 42. Rd4 Re2 | F44: 42. Qf5+ Kh8 | I44: 42. Nd1 Rg6 | M44: 42. h4 a4 | N44: 42. Nd4 Kd6 ½–½ | P44: 42. Re5+ Kf7 | Q44: 42. Nf2 Kg6 | R44: 42. hxg4 d4 | U44: 42. Qxg6+ Qg7 | V44: 42. Bc3+ Kf8 | W44: 42. Rf3 Nh6 | AA44: 42. Kf3 Rd5 | AC44: 42. Rd3 Ra7
C45: 43. Rb4 b5 | F45: 43. h4 Qxa2 | I45: 43. Ne3 Rh6 | M45: 43. g5 hxg5 | P45: 43. Rd5 Rxd3 | Q45: 43. g4 Bb6 | R45: 43. Qxd4 Bd5 | U45: 43. Qe8+ Qf8 | V45: 43. Bxa1 Nxh4+ | W45: 43. a5 Nf5 | AA45: 43. Bg6 Ra5 | AC45: 43. Rd5 Rc7
C46: 44. Qh1 Re7 | F46: 44. Qe6 Qd2 | I46: 44. Re7 Rh2 | M46: 44. hxg5 a3 | P46: 44. Rxd7+ Ke8 | Q46: 44. Be5 a5 | R46: 44. e6 Qxe6 | U46: 44. Qc6 Qd8 | V46: 44. Qxh4 Qxd5 | W46: 44. Nb3 Kc7 | AA46: 44. Ke4 Rb5 | AC46: 44. Qd2 Qf6
C47: 45. Qd5 Re1 | F47: 45. Qe8+ Kh7 | I47: 45. Re6+ Kb7 | M47: 45. Kc3 1–0 | P47: 45. Rd5 Rh3 | Q47: 45. Nd1 f4 | R47: 45. Kg3 Qe7 | U47: 45. f5 a3 | V47: 45. Qf6+ Qf7 | W47: 45. Nc5 Kb8 | AA47: 45. h4 Re5+ | AC47: 45. Rf5 Qh4
C48: 46. Qd7+ Kh6 | F48: 46. Qe4+ Kh8 | I48: 46. Kc3 Rh4 | P48: 46. Re5+ Kf7 | Q48: 46. Bd4 Bc7 | R48: 46. Rh2 Qf7 | U48: 46. fxe6 Kg7 | V48: 46. Qd4 Ke8 | W48: 46. Rb1 Ka7 | AA48: 46. Kd4 Ra5 | AC48: 46. Rc1 Ra7
C49: 47. Qh3+ Kg7 | F49: 47. Qe8+ Kh7 ½–½ | I49: 47. Kb2 Rh2 | P49: 47. Re2 Bg7 | Q49: 47. Nf2 Be6 | R49: 47. f4 gxf4+ | U49: 47. e7 Qxe7 | V49: 47. Qe4+ Qe7 | W49: 47. Rd3 Rc7 | AA49: 47. Kc4 Re5 | AC49: 47. Qxf4 Ra2+
C50: 48. Qd7+ ½–½ | I50: 48. Nd5 Rd2 | P50: 48. Nc6 Rh5+ | Q50: 48. Kf3 Bd5+ | R50: 48. Qxf4 Qe7 | U50: 48. Qxb6 Nd3 | V50: 48. Qd5 Bd8 | W50: 48. Ra3 Nd4 | AA50: 48. Bd4 Ra5 | AC50: 48. Kh1 Qf2
I51: 49. Nf6 Rf2 | P51: 49. Kg4 Rc5 | Q51: 49. Ke2 Bg2 | R51: 49. Rh5 Rf8 | U51: 49. Qa5 Qc5 | V51: 49. Kf1 Qf7 | W51: 49. Rd1 Nf5 | AA51: 49. Bc5 Kg8 | AC51: 49. Rc8+ Kh7
I52: 50. Kc3 Rf4 | P52: 50. Nd8+ Kg6 | Q52: 50. Kd2 Kf7 | R52: 50. Rh7 Rxf4 | U52: 50. Qa6 Ne5 | V52: 50. Qe4+ Qe7 | W52: 50. Kh3 Nh6 | AA52: 50. Kd5 Rb5 | AC52: 50. Qh6+!! 1-0
I53: 51. Ne4 Rh4 | P53: 51. Ne6 h5+ | Q53: 51. Kc2 Bd5 | R53: 51. Rxe7 Re4 ½–½ | U53: 51. Qe6 h5 | V53: 51. Be5 Qe6 | W53: 51. f3 Rf7 | AA53: 51. Kd6 Ra5
I54: 52. Nf2 Rh2 | P54: 52. Kf3 Rc3+ | Q54: 52. Kd2 Bd8 | U54: 52. h4 a2 0–1 | V54: 52. Kg2 Be7 | W54: 52. Rd4 Nf5 | AA54: 52. Be3 Re5
I55: 53. Rf6 Rh7 | P55: 53. Ke4 Bf6 | Q55: 53. Kc2 Ke6 | V55: 53. Qa8+ Kf7 | W55: 53. Rd2 Rh7 | AA55: 53. Bf4 Ra5
I56: 54. Nd3 Rh3 | P56: 54. Re3 h4 | Q56: 54. Kd2 Kd7 | V56: 54. Qh8 h5 | W56: 54. Rb3 Ree7 | AA56: 54. Bd3 Ra7
I57: 55. Kd2 Rh2+ | P57: 55. h3 Rc1 | Q57: 55. Kc2 Kc6 | V57: 55. Qg7+ Ke8 | W57: 55. Rdd3 Rh8 | AA57: 55. Ke6 Rb7
I58: 56. Rf2 Rh4 | P58: 56. Nf8+ Kf7 | Q58: 56. Kd2 Kb5 | V58: 56. Bf4 Qf7 | W58: 56. Rb1 Rhh7 | AA58: 56. Kf5 Rd7
I59: 57. c4 Rh3 | P59: 57. Nd7 Ke6 | Q59: 57. Kc1 Ka4 | V59: 57. Qh8+ Qf8 | W59: 57. b5 cxb5 | AA59: 57. Bc2 Rb7
I60: 58. Kc2 Rh7 | P60: 58. Nb6 Rd1 | Q60: 58. Kc2 Bf7 | V60: 58. Qd4 Qf5 | W60: 58. Rxb5 d4 | AA60: 58. Kg6 Rb2
I61: 59. Nb2 Rh5 | P61: 59. f5+ Kf7 | Q61: 59. Kc1 Bg6 | V61: 59. Qc4 Kd7 | W61: 59. Rb6 Rc7 | AA61: 59. Bf5 Rxf2
I62: 60. Re2 Rg5 | P62: 60. Nc4 Rd4+ | Q62: 60. Kd2 Kb3 | V62: 60. Bd2 Qe6 | W62: 60. Nxe6 Rc3 | AA62: 60. Be6+ Kh8
I63: 61. Nd1 b5 | P63: 61. Kf3 Bg5 | Q63: 61. Kc1 Bd3 | V63: 61. Qa4+ Qc6 | W63: 61. Nf4 Rhc7 | AA63: 61. Bd6 Re2
I64: 62. Nc3 c6 | P64: 62. Re4 Rd3+ | Q64: 62. Nh3 Ka2 | V64: 62. Qa7+ Qc7 | W64: 62. Nd5 Rxd3 | AA64: 62. Bg4 Re8
I65: 63. Ne4 Rh5 | P65: 63. Kg4 Rg3+ | Q65: 63. Bc5 Be2 | V65: 63. Qa2 Qd6 | W65: 63. Nxc7 Kb8 | AA65: 63. Bf5 Kg8
I66: 64. Nf6 Rg5 | P66: 64. Kh5 Be7 | Q66: 64. Nf2 Bf3 | V66: 64. Be3 Qe6 | W66: 64. Nb5 Kc8 | AA66: 64. Bc2 Re3
... I76: 74. Kf2 Rh3 | P76: 74. Rxb4+ Kg3 | Q76: 74. Bxf4 gxf4 | V76: 74. Qb5 Bf6 ½–½ | W76: 74. Kg5 Rh8 | AA76: 74. Bf8 Kg8
I77: 75. Rc1 Kb4 | P77: 75. Rg4+ Kf2 | Q77: 75. Kc2 Be6 | W77: 75. Kf6 1–0 | AA77: 75. Ba3 Kh8
I78: 76. Ke2 Rc3 | P78: 76. Nc4 h3 | Q78: 76. Kc1 Bc8 | AA78: 76. Be6 Rb6
I79: 77. Nd3+ Kxb3 | P79: 77. Rh4 Kg3 | Q79: 77. Kc2 Be6 | AA79: 77. Kf7 Rb7+
I80: 78. Ra1 Kc4 | P80: 78. Rg4+ Kf2 ½–½ | Q80: 78. Kc1 Kb3 | AA80: 78. Be7 h5
I81: 79. Nf2 Kb5 | Q81: 79. Kb1 Ka4 | AA81: 79. gxh5 f5
I82: 80. Rb1+ Kc4 | Q82: 80. Kc2 Kb5 | AA82: 80. Bxf5 Rxe7+
I83: 81. Ne4 Ra3 | Q83: 81. Kd2 Kc6 | AA83: 81. Kxe7 Kg8
I84: 82. Nd2+ Kd5 | Q84: 82. Ke1 Kd5 | AA84: 82. Bd3 Kh8
I85: 83. Rh1 a4 | Q85: 83. Kf1 Ke5 | AA85: 83. Kf8 g5
I86: 84. Rh5+ Kd4 | Q86: 84. Kg1 Kf6 | AA86: 84. hxg6 ½–½
I87: 85. Rh4+ Kc5 | Q87: 85. Ne4+ Kg6
I88: 86. Kd1 Kb5 | Q88: 86. Kf2 Bxg4
I89: 87. Kc2 Rg3 | Q89: 87. Nd2 Be6
I90: 88. Ne4 Rg2+ | Q90: 88. Kxf3 Kf5
I91: 89. Kd3 a3 | Q91: 89. a4 Bd5+
I92: 90. Nc3+ Kb6 | Q92: 90. Kf2 Kg4
I93: 91. Ra4 a2 | Q93: 91. Nf1 Kg5
I94: 92. Nxa2 Rg3+ | Q94: 92. Nd2 Kf5
I95: 93. Kc2 Rg2+ | Q95: 93. Ke2 Kg4
I96: 94. Kb3 Rg3+ | Q96: 94. Kf2 ½–½
I97: 95. Nc3 Rh3
I98: 96. Rb4+ Kc7
I99: 97. Rg4 Rh7
I100: 98. Kc4 Rf7
I101: 99. Rg5 Kb6
I102: 100. Na4+ Kc7
I103: 101. Kc5 Kd7
I104: 102. Kb6 Rf1
I105: 103. Nc5+ Ke7
I106: 104. Kxc6 Rd1
I107: 105. Rg6 Kf7
I108: 106. Rh6 Rg1
... I124: 122. Nxc1 ½–½

Sheet Moves
A1: =MATCH(Board!$C$1,GameList,0) -> 6 | E1: White | K1: Black
B2: Move | C2: Space 1 | D2: Space 2 | E2: Move | F2: Clean | G2: Piece | H2: X | I2: Y | J2: Disamb | K2: Move | L2: Clean | M2: Piece | N2: X | O2: Y | P2: Disamb
A3: =INDEX(Games!$A3:$AC3,$A$1)&"" -> 1. e4 c5 | B3: =LEFT(A3,FIND(".",A3)-1)*1 -> 1 | C3: =FIND(" ",A3) -> 3 | D3: =IFERROR(FIND(" ",A3,C3+1),LEN(A3)+1) -> 6 | E3: =MID(A3,C3+1,D3-C3-1) -> e4 | F3: =TRIM(SUBSTITUTE(SUBSTITUTE(SUBSTITUTE(SUBSTITUTE(SUBSTITUTE(SUBSTITUTE(SUBSTITUTE(SUBSTITUTE(SUBSTITUTE(E3,"?",""),"!",""),"#",""),"+",""),"x",""),"-","–"),"½–½",""),"1–0",""),"0–1","")) -> e4 | G3: =IF(EXACT(LEFT(F3,1),UPPER(LEFT(F3,1))),LEFT(F3,1),"P") -> P | H3: =CODE(UPPER(MID(F3,LEN(F3)-1,1)))-64 -> 5 | I3: =RIGHT(F3,1)*1 -> 4 | J3: =IF(LEN(F3)=4-(G3="P"),MID(F3,2-(G3="P"),1),"") | K3: =MID(A3,D3+1,9) -> c5 | L3: =TRIM(SUBSTITUTE(SUBSTITUTE(SUBSTITUTE(SUBSTITUTE(SUBSTITUTE(SUBSTITUTE(SUBSTITUTE(SUBSTITUTE(SUBSTITUTE(K3,"?",""),"!",""),"#",""),"+",""),"x",""),"-","–"),"½–½",""),"1–0",""),"0–1","")) -> c5 | M3: =IF(EXACT(LEFT(L3,1),UPPER(LEFT(L3,1))),LEFT(L3,1),"P") -> P | N3: =CODE(UPPER(MID(L3,LEN(L3)-1,1)))-64 -> 3 | O3: =RIGHT(L3,1)*1 -> 5 | P3: =IF(LEN(L3)=4-(M3="P"),MID(L3,2-(M3="P"),1),"") | R3: 1 | S3: =CODE(UPPER(R3)) -> 49 | T3: -1
A4: =INDEX(Games!$A4:$AC4,$A$1)&"" -> 2. Nf3 e6 | B4: =LEFT(A4,FIND(".",A4)-1)*1 -> 2 | C4: =FIND(" ",A4) -> 3 | D4: =IFERROR(FIND(" ",A4,C4+1),LEN(A4)+1) -> 7 | E4: =MID(A4,C4+1,D4-C4-1) -> Nf3 | F4: =TRIM(SUBSTITUTE(SUBSTITUTE(SUBSTITUTE(SUBSTITUTE(SUBSTITUTE(SUBSTITUTE(SUBSTITUTE(SUBSTITUTE(SUBSTITUTE(E4,"?",""),"!",""),"#",""),"+",""),"x",""),"-","–"),"½–½",""),"1–0",""),"0–1","")) -> Nf3 | G4: =IF(EXACT(LEFT(F4,1),UPPER(LEFT(F4,1))),LEFT(F4,1),"P") -> N | H4: =CODE(UPPER(MID(F4,LEN(F4)-1,1)))-64 -> 6 | I4: =RIGHT(F4,1)*1 -> 3 | J4: =IF(LEN(F4)=4-(G4="P"),MID(F4,2-(G4="P"),1),"") | K4: =MID(A4,D4+1,9) -> e6 | L4: =TRIM(SUBSTITUTE(SUBSTITUTE(SUBSTITUTE(SUBSTITUTE(SUBSTITUTE(SUBSTITUTE(SUBSTITUTE(SUBSTITUTE(SUBSTITUTE(K4,"?",""),"!",""),"#",""),"+",""),"x",""),"-","–"),"½–½",""),"1–0",""),"0–1","")) -> e6 | M4: =IF(EXACT(LEFT(L4,1),UPPER(LEFT(L4,1))),LEFT(L4,1),"P") -> P | N4: =CODE(UPPER(MID(L4,LEN(L4)-1,1)))-64 -> 5 | O4: =RIGHT(L4,1)*1 -> 6 | P4: =IF(LEN(L4)=4-(M4="P"),MID(L4,2-(M4="P"),1),"") | R4: 2 | S4: =CODE(UPPER(R4)) -> 50 | T4: -2
A5: =INDEX(Games!$A5:$AC5,$A$1)&"" -> 3. g3 Nc6 | B5: =LEFT(A5,FIND(".",A5)-1)*1 -> 3 | C5: =FIND(" ",A5) -> 3 | D5: =IFERROR(FIND(" ",A5,C5+1),LEN(A5)+1) -> 6 | E5: =MID(A5,C5+1,D5-C5-1) -> g3 | F5: =TRIM(SUBSTITUTE(SUBSTITUTE(SUBSTITUTE(SUBSTITUTE(SUBSTITUTE(SUBSTITUTE(SUBSTITUTE(SUBSTITUTE(SUBSTITUTE(E5,"?",""),"!",""),"#",""),"+",""),"x",""),"-","–"),"½–½",""),"1–0",""),"0–1","")) -> g3 | G5: =IF(EXACT(LEFT(F5,1),UPPER(LEFT(F5,1))),LEFT(F5,1),"P") -> P | H5: =CODE(UPPER(MID(F5,LEN(F5)-1,1)))-64 -> 7 | I5: =RIGHT(F5,1)*1 -> 3 | J5: =IF(LEN(F5)=4-(G5="P"),MID(F5,2-(G5="P"),1),"") | K5: =MID(A5,D5+1,9) -> Nc6 | L5: =TRIM(SUBSTITUTE(SUBSTITUTE(SUBSTITUTE(SUBSTITUTE(SUBSTITUTE(SUBSTITUTE(SUBSTITUTE(SUBSTITUTE(SUBSTITUTE(K5,"?",""),"!",""),"#",""),"+",""),"x",""),"-","–"),"½–½",""),"1–0",""),"0–1","")) -> Nc6 | M5: =IF(EXACT(LEFT(L5,1),UPPER(LEFT(L5,1))),LEFT(L5,1),"P") -> N | N5: =CODE(UPPER(MID(L5,LEN(L5)-1,1)))-64 -> 3 | O5: =RIGHT(L5,1)*1 -> 6 | P5: =IF(LEN(L5)=4-(M5="P"),MID(L5,2-(M5="P"),1),"") | R5: 3 | S5: =CODE(UPPER(R5)) -> 51 | T5: -3
A6: =INDEX(Games!$A6:$AC6,$A$1)&"" -> 4. Bg2 d5 | B6: =LEFT(A6,FIND(".",A6)-1)*1 -> 4 | C6: =FIND(" ",A6) -> 3 | D6: =IFERROR(FIND(" ",A6,C6+1),LEN(A6)+1) -> 7 | E6: =MID(A6,C6+1,D6-C6-1) -> Bg2 | F6: =TRIM(SUBSTITUTE(SUBSTITUTE(SUBSTITUTE(SUBSTITUTE(SUBSTITUTE(SUBSTITUTE(SUBSTITUTE(SUBSTITUTE(SUBSTITUTE(E6,"?",""),"!",""),"#",""),"+",""),"x",""),"-","–"),"½–½",""),"1–0",""),"0–1","")) -> Bg2 | G6: =IF(EXACT(LEFT(F6,1),UPPER(LEFT(F6,1))),LEFT(F6,1),"P") -> B | H6: =CODE(UPPER(MID(F6,LEN(F6)-1,1)))-64 -> 7 | I6: =RIGHT(F6,1)*1 -> 2 | J6: =IF(LEN(F6)=4-(G6="P"),MID(F6,2-(G6="P"),1),"") | K6: =MID(A6,D6+1,9) -> d5 | L6: =TRIM(SUBSTITUTE(SUBSTITUTE(SUBSTITUTE(SUBSTITUTE(SUBSTITUTE(SUBSTITUTE(SUBSTITUTE(SUBSTITUTE(SUBSTITUTE(K6,"?",""),"!",""),"#",""),"+",""),"x",""),"-","–"),"½–½",""),"1–0",""),"0–1","")) -> d5 | M6: =IF(EXACT(LEFT(L6,1),UPPER(LEFT(L6,1))),LEFT(L6,1),"P") -> P | N6: =CODE(UPPER(MID(L6,LEN(L6)-1,1)))-64 -> 4 | O6: =RIGHT(L6,1)*1 -> 5 | P6: =IF(LEN(L6)=4-(M6="P"),MID(L6,2-(M6="P"),1),"") | R6: 4 | S6: =CODE(UPPER(R6)) -> 52 | T6: -4
A7: =INDEX(Games!$A7:$AC7,$A$1)&"" -> 5. exd5 exd5 | B7: =LEFT(A7,FIND(".",A7)-1)*1 -> 5 | C7: =FIND(" ",A7) -> 3 | D7: =IFERROR(FIND(" ",A7,C7+1),LEN(A7)+1) -> 8 | E7: =MID(A7,C7+1,D7-C7-1) -> exd5 | F7: =TRIM(SUBSTITUTE(SUBSTITUTE(SUBSTITUTE(SUBSTITUTE(SUBSTITUTE(SUBSTITUTE(SUBSTITUTE(SUBSTITUTE(SUBSTITUTE(E7,"?",""),"!",""),"#",""),"+",""),"x",""),"-","–"),"½–½",""),"1–0",""),"0–1","")) -> ed5 | G7: =IF(EXACT(LEFT(F7,1),UPPER(LEFT(F7,1))),LEFT(F7,1),"P") -> P | H7: =CODE(UPPER(MID(F7,LEN(F7)-1,1)))-64 -> 4 | I7: =RIGHT(F7,1)*1 -> 5 | J7: =IF(LEN(F7)=4-(G7="P"),MID(F7,2-(G7="P"),1),"") -> e | K7: =MID(A7,D7+1,9) -> exd5 | L7: =TRIM(SUBSTITUTE(SUBSTITUTE(SUBSTITUTE(SUBSTITUTE(SUBSTITUTE(SUBSTITUTE(SUBSTITUTE(SUBSTITUTE(SUBSTITUTE(K7,"?",""),"!",""),"#",""),"+",""),"x",""),"-","–"),"½–½",""),"1–0",""),"0–1","")) -> ed5 | M7: =IF(EXACT(LEFT(L7,1),UPPER(LEFT(L7,1))),LEFT(L7,1),"P") -> P | N7: =CODE(UPPER(MID(L7,LEN(L7)-1,1)))-64 -> 4 | O7: =RIGHT(L7,1)*1 -> 5 | P7: =IF(LEN(L7)=4-(M7="P"),MID(L7,2-(M7="P"),1),"") -> e | R7: 5 | S7: =CODE(UPPER(R7)) -> 53 | T7: -5
A8: =INDEX(Games!$A8:$AC8,$A$1)&"" -> 6. 0-0 Nf6 | B8: =LEFT(A8,FIND(".",A8)-1)*1 -> 6 | C8: =FIND(" ",A8) -> 3 | D8: =IFERROR(FIND(" ",A8,C8+1),LEN(A8)+1) -> 7 | E8: =MID(A8,C8+1,D8-C8-1) -> 0-0 | F8: =TRIM(SUBSTITUTE(SUBSTITUTE(SUBSTITUTE(SUBSTITUTE(SUBSTITUTE(SUBSTITUTE(SUBSTITUTE(SUBSTITUTE(SUBSTITUTE(E8,"?",""),"!",""),"#",""),"+",""),"x",""),"-","–"),"½–½",""),"1–0",""),"0–1","")) -> 0–0 | G8: =IF(EXACT(LEFT(F8,1),UPPER(LEFT(F8,1))),LEFT(F8,1),"P") -> 0 | H8: =CODE(UPPER(MID(F8,LEN(F8)-1,1)))-64 -> 86 | I8: =RIGHT(F8,1)*1 -> 0 | J8: =IF(LEN(F8)=4-(G8="P"),MID(F8,2-(G8="P"),1),"") | K8: =MID(A8,D8+1,9) -> Nf6 | L8: =TRIM(SUBSTITUTE(SUBSTITUTE(SUBSTITUTE(SUBSTITUTE(SUBSTITUTE(SUBSTITUTE(SUBSTITUTE(SUBSTITUTE(SUBSTITUTE(K8,"?",""),"!",""),"#",""),"+",""),"x",""),"-","–"),"½–½",""),"1–0",""),"0–1","")) -> Nf6 | M8: =IF(EXACT(LEFT(L8,1),UPPER(LEFT(L8,1))),LEFT(L8,1),"P") -> N | N8: =CODE(UPPER(MID(L8,LEN(L8)-1,1)))-64 -> 6 | O8: =RIGHT(L8,1)*1 -> 6 | P8: =IF(LEN(L8)=4-(M8="P"),MID(L8,2-(M8="P"),1),"") | R8: 6 | S8: =CODE(UPPER(R8)) -> 54 | T8: -6
A9: =INDEX(Games!$A9:$AC9,$A$1)&"" -> 7. d4 Be7 | B9: =LEFT(A9,FIND(".",A9)-1)*1 -> 7 | C9: =FIND(" ",A9) -> 3 | D9: =IFERROR(FIND(" ",A9,C9+1),LEN(A9)+1) -> 6 | E9: =MID(A9,C9+1,D9-C9-1) -> d4 | F9: =TRIM(SUBSTITUTE(SUBSTITUTE(SUBSTITUTE(SUBSTITUTE(SUBSTITUTE(SUBSTITUTE(SUBSTITUTE(SUBSTITUTE(SUBSTITUTE(E9,"?",""),"!",""),"#",""),"+",""),"x",""),"-","–"),"½–½",""),"1–0",""),"0–1","")) -> d4 | G9: =IF(EXACT(LEFT(F9,1),UPPER(LEFT(F9,1))),LEFT(F9,1),"P") -> P | H9: =CODE(UPPER(MID(F9,LEN(F9)-1,1)))-64 -> 4 | I9: =RIGHT(F9,1)*1 -> 4 | J9: =IF(LEN(F9)=4-(G9="P"),MID(F9,2-(G9="P"),1),"") | K9: =MID(A9,D9+1,9) -> Be7 | L9: =TRIM(SUBSTITUTE(SUBSTITUTE(SUBSTITUTE(SUBSTITUTE(SUBSTITUTE(SUBSTITUTE(SUBSTITUTE(SUBSTITUTE(SUBSTITUTE(K9,"?",""),"!",""),"#",""),"+",""),"x",""),"-","–"),"½–½",""),"1–0",""),"0–1","")) -> Be7 | M9: =IF(EXACT(LEFT(L9,1),UPPER(LEFT(L9,1))),LEFT(L9,1),"P") -> B | N9: =CODE(UPPER(MID(L9,LEN(L9)-1,1)))-64 -> 5 | O9: =RIGHT(L9,1)*1 -> 7 | P9: =IF(LEN(L9)=4-(M9="P"),MID(L9,2-(M9="P"),1),"") | R9: 7 | S9: =CODE(UPPER(R9)) -> 55 | T9: -7
A10: =INDEX(Games!$A10:$AC10,$A$1)&"" -> 8. Be3 cxd4 | B10: =LEFT(A10,FIND(".",A10)-1)*1 -> 8 | C10: =FIND(" ",A10) -> 3 | D10: =IFERROR(FIND(" ",A10,C10+1),LEN(A10)+1) -> 7 | E10: =MID(A10,C10+1,D10-C10-1) -> Be3 | F10: =TRIM(SUBSTITUTE(SUBSTITUTE(SUBSTITUTE(SUBSTITUTE(SUBSTITUTE(SUBSTITUTE(SUBSTITUTE(SUBSTITUTE(SUBSTITUTE(E10,"?",""),"!",""),"#",""),"+",""),"x",""),"-","–"),"½–½",""),"1–0",""),"0–1","")) -> Be3 | G10: =IF(EXACT(LEFT(F10,1),UPPER(LEFT(F10,1))),LEFT(F10,1),"P") -> B | H10: =CODE(UPPER(MID(F10,LEN(F10)-1,1)))-64 -> 5 | I10: =RIGHT(F10,1)*1 -> 3 | J10: =IF(LEN(F10)=4-(G10="P"),MID(F10,2-(G10="P"),1),"") | K10: =MID(A10,D10+1,9) -> cxd4 | L10: =TRIM(SUBSTITUTE(SUBSTITUTE(SUBSTITUTE(SUBSTITUTE(SUBSTITUTE(SUBSTITUTE(SUBSTITUTE(SUBSTITUTE(SUBSTITUTE(K10,"?",""),"!",""),"#",""),"+",""),"x",""),"-","–"),"½–½",""),"1–0",""),"0–1","")) -> cd4 | M10: =IF(EXACT(LEFT(L10,1),UPPER(LEFT(L10,1))),LEFT(L10,1),"P") -> P | N10: =CODE(UPPER(MID(L10,LEN(L10)-1,1)))-64 -> 4 | O10: =RIGHT(L10,1)*1 -> 4 | P10: =IF(LEN(L10)=4-(M10="P"),MID(L10,2-(M10="P"),1),"") -> c | R10: 8 | S10: =CODE(UPPER(R10)) -> 56 | T10: -8
A11: =INDEX(Games!$A11:$AC11,$A$1)&"" -> 9. Nxd4 Bg4 | B11: =LEFT(A11,FIND(".",A11)-1)*1 -> 9 | C11: =FIND(" ",A11) -> 3 | D11: =IFERROR(FIND(" ",A11,C11+1),LEN(A11)+1) -> 8 | E11: =MID(A11,C11+1,D11-C11-1) -> Nxd4 | F11: =TRIM(SUBSTITUTE(SUBSTITUTE(SUBSTITUTE(SUBSTITUTE(SUBSTITUTE(SUBSTITUTE(SUBSTITUTE(SUBSTITUTE(SUBSTITUTE(E11,"?",""),"!",""),"#",""),"+",""),"x",""),"-","–"),"½–½",""),"1–0",""),"0–1","")) -> Nd4 | G11: =IF(EXACT(LEFT(F11,1),UPPER(LEFT(F11,1))),LEFT(F11,1),"P") -> N | H11: =CODE(UPPER(MID(F11,LEN(F11)-1,1)))-64 -> 4 | I11: =RIGHT(F11,1)*1 -> 4 | J11: =IF(LEN(F11)=4-(G11="P"),MID(F11,2-(G11="P"),1),"") | K11: =MID(A11,D11+1,9) -> Bg4 | L11: =TRIM(SUBSTITUTE(SUBSTITUTE(SUBSTITUTE(SUBSTITUTE(SUBSTITUTE(SUBSTITUTE(SUBSTITUTE(SUBSTITUTE(SUBSTITUTE(K11,"?",""),"!",""),"#",""),"+",""),"x",""),"-","–"),"½–½",""),"1–0",""),"0–1","")) -> Bg4 | M11: =IF(EXACT(LEFT(L11,1),UPPER(LEFT(L11,1))),LEFT(L11,1),"P") -> B | N11: =CODE(UPPER(MID(L11,LEN(L11)-1,1)))-64 -> 7 | O11: =RIGHT(L11,1)*1 -> 4 | P11: =IF(LEN(L11)=4-(M11="P"),MID(L11,2-(M11="P"),1),"") | R11: a | S11: =CODE(UPPER(R11)) -> 65 | T11: 1
A12: =INDEX(Games!$A12:$AC12,$A$1)&"" -> 10. Qd3 Qd7 | B12: =LEFT(A12,FIND(".",A12)-1)*1 -> 10 | C12: =FIND(" ",A12) -> 4 | D12: =IFERROR(FIND(" ",A12,C12+1),LEN(A12)+1) -> 8 | E12: =MID(A12,C12+1,D12-C12-1) -> Qd3 | F12: =TRIM(SUBSTITUTE(SUBSTITUTE(SUBSTITUTE(SUBSTITUTE(SUBSTITUTE(SUBSTITUTE(SUBSTITUTE(SUBSTITUTE(SUBSTITUTE(E12,"?",""),"!",""),"#",""),"+",""),"x",""),"-","–"),"½–½",""),"1–0",""),"0–1","")) -> Qd3 | G12: =IF(EXACT(LEFT(F12,1),UPPER(LEFT(F12,1))),LEFT(F12,1),"P") -> Q | H12: =CODE(UPPER(MID(F12,LEN(F12)-1,1)))-64 -> 4 | I12: =RIGHT(F12,1)*1 -> 3 | J12: =IF(LEN(F12)=4-(G12="P"),MID(F12,2-(G12="P"),1),"") | K12: =MID(A12,D12+1,9) -> Qd7 | L12: =TRIM(SUBSTITUTE(SUBSTITUTE(SUBSTITUTE(SUBSTITUTE(SUBSTITUTE(SUBSTITUTE(SUBSTITUTE(SUBSTITUTE(SUBSTITUTE(K12,"?",""),"!",""),"#",""),"+",""),"x",""),"-","–"),"½–½",""),"1–0",""),"0–1","")) -> Qd7 | M12: =IF(EXACT(LEFT(L12,1),UPPER(LEFT(L12,1))),LEFT(L12,1),"P") -> Q | N12: =CODE(UPPER(MID(L12,LEN(L12)-1,1)))-64 -> 4 | O12: =RIGHT(L12,1)*1 -> 7 | P12: =IF(LEN(L12)=4-(M12="P"),MID(L12,2-(M12="P"),1),"") | R12: b | S12: =CODE(UPPER(R12)) -> 66 | T12: 2
A13: =INDEX(Games!$A13:$AC13,$A$1)&"" -> 11. Nd2 0-0 | B13: =LEFT(A13,FIND(".",A13)-1)*1 -> 11 | C13: =FIND(" ",A13) -> 4 | D13: =IFERROR(FIND(" ",A13,C13+1),LEN(A13)+1) -> 8 | E13: =MID(A13,C13+1,D13-C13-1) -> Nd2 | F13: =TRIM(SUBSTITUTE(SUBSTITUTE(SUBSTITUTE(SUBSTITUTE(SUBSTITUTE(SUBSTITUTE(SUBSTITUTE(SUBSTITUTE(SUBSTITUTE(E13,"?",""),"!",""),"#",""),"+",""),"x",""),"-","–"),"½–½",""),"1–0",""),"0–1","")) -> Nd2 | G13: =IF(EXACT(LEFT(F13,1),UPPER(LEFT(F13,1))),LEFT(F13,1),"P") -> N | H13: =CODE(UPPER(MID(F13,LEN(F13)-1,1)))-64 -> 4 | I13: =RIGHT(F13,1)*1 -> 2 | J13: =IF(LEN(F13)=4-(G13="P"),MID(F13,2-(G13="P"),1),"") | K13: =MID(A13,D13+1,9) -> 0-0 | L13: =TRIM(SUBSTITUTE(SUBSTITUTE(SUBSTITUTE(SUBSTITUTE(SUBSTITUTE(SUBSTITUTE(SUBSTITUTE(SUBSTITUTE(SUBSTITUTE(K13,"?",""),"!",""),"#",""),"+",""),"x",""),"-","–"),"½–½",""),"1–0",""),"0–1","")) -> 0–0 | M13: =IF(EXACT(LEFT(L13,1),UPPER(LEFT(L13,1))),LEFT(L13,1),"P") -> 0 | N13: =CODE(UPPER(MID(L13,LEN(L13)-1,1)))-64 -> 86 | O13: =RIGHT(L13,1)*1 -> 0 | P13: =IF(LEN(L13)=4-(M13="P"),MID(L13,2-(M13="P"),1),"") | R13: c | S13: =CODE(UPPER(R13)) -> 67 | T13: 3
A14: =INDEX(Games!$A14:$AC14,$A$1)&"" -> 12. N2f3 Rfe8 | B14: =LEFT(A14,FIND(".",A14)-1)*1 -> 12 | C14: =FIND(" ",A14) -> 4 | D14: =IFERROR(FIND(" ",A14,C14+1),LEN(A14)+1) -> 9 | E14: =MID(A14,C14+1,D14-C14-1) -> N2f3 | F14: =TRIM(SUBSTITUTE(SUBSTITUTE(SUBSTITUTE(SUBSTITUTE(SUBSTITUTE(SUBSTITUTE(SUBSTITUTE(SUBSTITUTE(SUBSTITUTE(E14,"?",""),"!",""),"#",""),"+",""),"x",""),"-","–"),"½–½",""),"1–0",""),"0–1","")) -> N2f3 | G14: =IF(EXACT(LEFT(F14,1),UPPER(LEFT(F14,1))),LEFT(F14,1),"P") -> N | H14: =CODE(UPPER(MID(F14,LEN(F14)-1,1)))-64 -> 6 | I14: =RIGHT(F14,1)*1 -> 3 | J14: =IF(LEN(F14)=4-(G14="P"),MID(F14,2-(G14="P"),1),"") -> 2 | K14: =MID(A14,D14+1,9) -> Rfe8 | L14: =TRIM(SUBSTITUTE(SUBSTITUTE(SUBSTITUTE(SUBSTITUTE(SUBSTITUTE(SUBSTITUTE(SUBSTITUTE(SUBSTITUTE(SUBSTITUTE(K14,"?",""),"!",""),"#",""),"+",""),"x",""),"-","–"),"½–½",""),"1–0",""),"0–1","")) -> Rfe8 | M14: =IF(EXACT(LEFT(L14,1),UPPER(LEFT(L14,1))),LEFT(L14,1),"P") -> R | N14: =CODE(UPPER(MID(L14,LEN(L14)-1,1)))-64 -> 5 | O14: =RIGHT(L14,1)*1 -> 8 | P14: =IF(LEN(L14)=4-(M14="P"),MID(L14,2-(M14="P"),1),"") -> f | R14: d | S14: =CODE(UPPER(R14)) -> 68 | T14: 4
A15: =INDEX(Games!$A15:$AC15,$A$1)&"" -> 13. Rfe1 Bd6 | B15: =LEFT(A15,FIND(".",A15)-1)*1 -> 13 | C15: =FIND(" ",A15) -> 4 | D15: =IFERROR(FIND(" ",A15,C15+1),LEN(A15)+1) -> 9 | E15: =MID(A15,C15+1,D15-C15-1) -> Rfe1 | F15: =TRIM(SUBSTITUTE(SUBSTITUTE(SUBSTITUTE(SUBSTITUTE(SUBSTITUTE(SUBSTITUTE(SUBSTITUTE(SUBSTITUTE(SUBSTITUTE(E15,"?",""),"!",""),"#",""),"+",""),"x",""),"-","–"),"½–½",""),"1–0",""),"0–1","")) -> Rfe1 | G15: =IF(EXACT(LEFT(F15,1),UPPER(LEFT(F15,1))),LEFT(F15,1),"P") -> R | H15: =CODE(UPPER(MID(F15,LEN(F15)-1,1)))-64 -> 5 | I15: =RIGHT(F15,1)*1 -> 1 | J15: =IF(LEN(F15)=4-(G15="P"),MID(F15,2-(G15="P"),1),"") -> f | K15: =MID(A15,D15+1,9) -> Bd6 | L15: =TRIM(SUBSTITUTE(SUBSTITUTE(SUBSTITUTE(SUBSTITUTE(SUBSTITUTE(SUBSTITUTE(SUBSTITUTE(SUBSTITUTE(SUBSTITUTE(K15,"?",""),"!",""),"#",""),"+",""),"x",""),"-","–"),"½–½",""),"1–0",""),"0–1","")) -> Bd6 | M15: =IF(EXACT(LEFT(L15,1),UPPER(LEFT(L15,1))),LEFT(L15,1),"P") -> B | N15: =CODE(UPPER(MID(L15,LEN(L15)-1,1)))-64 -> 4 | O15: =RIGHT(L15,1)*1 -> 6 | P15: =IF(LEN(L15)=4-(M15="P"),MID(L15,2-(M15="P"),1),"") | R15: e | S15: =CODE(UPPER(R15)) -> 69 | T15: 5
A16: =INDEX(Games!$A16:$AC16,$A$1)&"" -> 14. c3 h6 | B16: =LEFT(A16,FIND(".",A16)-1)*1 -> 14 | C16: =FIND(" ",A16) -> 4 | D16: =IFERROR(FIND(" ",A16,C16+1),LEN(A16)+1) -> 7 | E16: =MID(A16,C16+1,D16-C16-1) -> c3 | F16: =TRIM(SUBSTITUTE(SUBSTITUTE(SUBSTITUTE(SUBSTITUTE(SUBSTITUTE(SUBSTITUTE(SUBSTITUTE(SUBSTITUTE(SUBSTITUTE(E16,"?",""),"!",""),"#",""),"+",""),"x",""),"-","–"),"½–½",""),"1–0",""),"0–1","")) -> c3 | G16: =IF(EXACT(LEFT(F16,1),UPPER(LEFT(F16,1))),LEFT(F16,1),"P") -> P | H16: =CODE(UPPER(MID(F16,LEN(F16)-1,1)))-64 -> 3 | I16: =RIGHT(F16,1)*1 -> 3 | J16: =IF(LEN(F16)=4-(G16="P"),MID(F16,2-(G16="P"),1),"") | K16: =MID(A16,D16+1,9) -> h6 | L16: =TRIM(SUBSTITUTE(SUBSTITUTE(SUBSTITUTE(SUBSTITUTE(SUBSTITUTE(SUBSTITUTE(SUBSTITUTE(SUBSTITUTE(SUBSTITUTE(K16,"?",""),"!",""),"#",""),"+",""),"x",""),"-","–"),"½–½",""),"1–0",""),"0–1","")) -> h6 | M16: =IF(EXACT(LEFT(L16,1),UPPER(LEFT(L16,1))),LEFT(L16,1),"P") -> P | N16: =CODE(UPPER(MID(L16,LEN(L16)-1,1)))-64 -> 8 | O16: =RIGHT(L16,1)*1 -> 6 | P16: =IF(LEN(L16)=4-(M16="P"),MID(L16,2-(M16="P"),1),"") | R16: f | S16: =CODE(UPPER(R16)) -> 70 | T16: 6
A17: =INDEX(Games!$A17:$AC17,$A$1)&"" -> 15. Qf1 Bh5 | B17: =LEFT(A17,FIND(".",A17)-1)*1 -> 15 | C17: =FIND(" ",A17) -> 4 | D17: =IFERROR(FIND(" ",A17,C17+1),LEN(A17)+1) -> 8 | E17: =MID(A17,C17+1,D17-C17-1) -> Qf1 | F17: =TRIM(SUBSTITUTE(SUBSTITUTE(SUBSTITUTE(SUBSTITUTE(SUBSTITUTE(SUBSTITUTE(SUBSTITUTE(SUBSTITUTE(SUBSTITUTE(E17,"?",""),"!",""),"#",""),"+",""),"x",""),"-","–"),"½–½",""),"1–0",""),"0–1","")) -> Qf1 | G17: =IF(EXACT(LEFT(F17,1),UPPER(LEFT(F17,1))),LEFT(F17,1),"P") -> Q | H17: =CODE(UPPER(MID(F17,LEN(F17)-1,1)))-64 -> 6 | I17: =RIGHT(F17,1)*1 -> 1 | J17: =IF(LEN(F17)=4-(G17="P"),MID(F17,2-(G17="P"),1),"") | K17: =MID(A17,D17+1,9) -> Bh5 | L17: =TRIM(SUBSTITUTE(SUBSTITUTE(SUBSTITUTE(SUBSTITUTE(SUBSTITUTE(SUBSTITUTE(SUBSTITUTE(SUBSTITUTE(SUBSTITUTE(K17,"?",""),"!",""),"#",""),"+",""),"x",""),"-","–"),"½–½",""),"1–0",""),"0–1","")) -> Bh5 | M17: =IF(EXACT(LEFT(L17,1),UPPER(LEFT(L17,1))),LEFT(L17,1),"P") -> B | N17: =CODE(UPPER(MID(L17,LEN(L17)-1,1)))-64 -> 8 | O17: =RIGHT(L17,1)*1 -> 5 | P17: =IF(LEN(L17)=4-(M17="P"),MID(L17,2-(M17="P"),1),"") | R17: g | S17: =CODE(UPPER(R17)) -> 71 | T17: 7
A18: =INDEX(Games!$A18:$AC18,$A$1)&"" -> 16. h3 Bg6 | B18: =LEFT(A18,FIND(".",A18)-1)*1 -> 16 | C18: =FIND(" ",A18) -> 4 | D18: =IFERROR(FIND(" ",A18,C18+1),LEN(A18)+1) -> 7 | E18: =MID(A18,C18+1,D18-C18-1) -> h3 | F18: =TRIM(SUBSTITUTE(SUBSTITUTE(SUBSTITUTE(SUBSTITUTE(SUBSTITUTE(SUBSTITUTE(SUBSTITUTE(SUBSTITUTE(SUBSTITUTE(E18,"?",""),"!",""),"#",""),"+",""),"x",""),"-","–"),"½–½",""),"1–0",""),"0–1","")) -> h3 | G18: =IF(EXACT(LEFT(F18,1),UPPER(LEFT(F18,1))),LEFT(F18,1),"P") -> P | H18: =CODE(UPPER(MID(F18,LEN(F18)-1,1)))-64 -> 8 | I18: =RIGHT(F18,1)*1 -> 3 | J18: =IF(LEN(F18)=4-(G18="P"),MID(F18,2-(G18="P"),1),"") | K18: =MID(A18,D18+1,9) -> Bg6 | L18: =TRIM(SUBSTITUTE(SUBSTITUTE(SUBSTITUTE(SUBSTITUTE(SUBSTITUTE(SUBSTITUTE(SUBSTITUTE(SUBSTITUTE(SUBSTITUTE(K18,"?",""),"!",""),"#",""),"+",""),"x",""),"-","–"),"½–½",""),"1–0",""),"0–1","")) -> Bg6 | M18: =IF(EXACT(LEFT(L18,1),UPPER(LEFT(L18,1))),LEFT(L18,1),"P") -> B | N18: =CODE(UPPER(MID(L18,LEN(L18)-1,1)))-64 -> 7 | O18: =RIGHT(L18,1)*1 -> 6 | P18: =IF(LEN(L18)=4-(M18="P"),MID(L18,2-(M18="P"),1),"") | R18: h | S18: =CODE(UPPER(R18)) -> 72 | T18: 8
A19: =INDEX(Games!$A19:$AC19,$A$1)&"" -> 17. Rad1 Rad8 | B19: =LEFT(A19,FIND(".",A19)-1)*1 -> 17 | C19: =FIND(" ",A19) -> 4 | D19: =IFERROR(FIND(" ",A19,C19+1),LEN(A19)+1) -> 9 | E19: =MID(A19,C19+1,D19-C19-1) -> Rad1 | F19: =TRIM(SUBSTITUTE(SUBSTITUTE(SUBSTITUTE(SUBSTITUTE(SUBSTITUTE(SUBSTITUTE(SUBSTITUTE(SUBSTITUTE(SUBSTITUTE(E19,"?",""),"!",""),"#",""),"+",""),"x",""),"-","–"),"½–½",""),"1–0",""),"0–1","")) -> Rad1 | G19: =IF(EXACT(LEFT(F19,1),UPPER(LEFT(F19,1))),LEFT(F19,1),"P") -> R | H19: =CODE(UPPER(MID(F19,LEN(F19)-1,1)))-64 -> 4 | I19: =RIGHT(F19,1)*1 -> 1 | J19: =IF(LEN(F19)=4-(G19="P"),MID(F19,2-(G19="P"),1),"") -> a | K19: =MID(A19,D19+1,9) -> Rad8 | L19: =TRIM(SUBSTITUTE(SUBSTITUTE(SUBSTITUTE(SUBSTITUTE(SUBSTITUTE(SUBSTITUTE(SUBSTITUTE(SUBSTITUTE(SUBSTITUTE(K19,"?",""),"!",""),"#",""),"+",""),"x",""),"-","–"),"½–½",""),"1–0",""),"0–1","")) -> Rad8 | M19: =IF(EXACT(LEFT(L19,1),UPPER(LEFT(L19,1))),LEFT(L19,1),"P") -> R | N19: =CODE(UPPER(MID(L19,LEN(L19)-1,1)))-64 -> 4 | O19: =RIGHT(L19,1)*1 -> 8 | P19: =IF(LEN(L19)=4-(M19="P"),MID(L19,2-(M19="P"),1),"") -> a
A20: =INDEX(Games!$A20:$AC20,$A$1)&"" -> 18. Nxc6 bxc6 | B20: =LEFT(A20,FIND(".",A20)-1)*1 -> 18 | C20: =FIND(" ",A20) -> 4 | D20: =IFERROR(FIND(" ",A20,C20+1),LEN(A20)+1) -> 9 | E20: =MID(A20,C20+1,D20-C20-1) -> Nxc6 | F20: =TRIM(SUBSTITUTE(SUBSTITUTE(SUBSTITUTE(SUBSTITUTE(SUBSTITUTE(SUBSTITUTE(SUBSTITUTE(SUBSTITUTE(SUBSTITUTE(E20,"?",""),"!",""),"#",""),"+",""),"x",""),"-","–"),"½–½",""),"1–0",""),"0–1","")) -> Nc6 | G20: =IF(EXACT(LEFT(F20,1),UPPER(LEFT(F20,1))),LEFT(F20,1),"P") -> N | H20: =CODE(UPPER(MID(F20,LEN(F20)-1,1)))-64 -> 3 | I20: =RIGHT(F20,1)*1 -> 6 | J20: =IF(LEN(F20)=4-(G20="P"),MID(F20,2-(G20="P"),1),"") | K20: =MID(A20,D20+1,9) -> bxc6 | L20: =TRIM(SUBSTITUTE(SUBSTITUTE(SUBSTITUTE(SUBSTITUTE(SUBSTITUTE(SUBSTITUTE(SUBSTITUTE(SUBSTITUTE(SUBSTITUTE(K20,"?",""),"!",""),"#",""),"+",""),"x",""),"-","–"),"½–½",""),"1–0",""),"0–1","")) -> bc6 | M20: =IF(EXACT(LEFT(L20,1),UPPER(LEFT(L20,1))),LEFT(L20,1),"P") -> P | N20: =CODE(UPPER(MID(L20,LEN(L20)-1,1)))-64 -> 3 | O20: =RIGHT(L20,1)*1 -> 6 | P20: =IF(LEN(L20)=4-(M20="P"),MID(L20,2-(M20="P"),1),"") -> b
A21: =INDEX(Games!$A21:$AC21,$A$1)&"" -> 19. c4 Be4 | B21: =LEFT(A21,FIND(".",A21)-1)*1 -> 19 | C21: =FIND(" ",A21) -> 4 | D21: =IFERROR(FIND(" ",A21,C21+1),LEN(A21)+1) -> 7 | E21: =MID(A21,C21+1,D21-C21-1) -> c4 | F21: =TRIM(SUBSTITUTE(SUBSTITUTE(SUBSTITUTE(SUBSTITUTE(SUBSTITUTE(SUBSTITUTE(SUBSTITUTE(SUBSTITUTE(SUBSTITUTE(E21,"?",""),"!",""),"#",""),"+",""),"x",""),"-","–"),"½–½",""),"1–0",""),"0–1","")) -> c4 | G21: =IF(EXACT(LEFT(F21,1),UPPER(LEFT(F21,1))),LEFT(F21,1),"P") -> P | H21: =CODE(UPPER(MID(F21,LEN(F21)-1,1)))-64 -> 3 | I21: =RIGHT(F21,1)*1 -> 4 | J21: =IF(LEN(F21)=4-(G21="P"),MID(F21,2-(G21="P"),1),"") | K21: =MID(A21,D21+1,9) -> Be4 | L21: =TRIM(SUBSTITUTE(SUBSTITUTE(SUBSTITUTE(SUBSTITUTE(SUBSTITUTE(SUBSTITUTE(SUBSTITUTE(SUBSTITUTE(SUBSTITUTE(K21,"?",""),"!",""),"#",""),"+",""),"x",""),"-","–"),"½–½",""),"1–0",""),"0–1","")) -> Be4 | M21: =IF(EXACT(LEFT(L21,1),UPPER(LEFT(L21,1))),LEFT(L21,1),"P") -> B | N21: =CODE(UPPER(MID(L21,LEN(L21)-1,1)))-64 -> 5 | O21: =RIGHT(L21,1)*1 -> 4 | P21: =IF(LEN(L21)=4-(M21="P"),MID(L21,2-(M21="P"),1),"")
A22: =INDEX(Games!$A22:$AC22,$A$1)&"" -> 20. Bd4 Nh7 | B22: =LEFT(A22,FIND(".",A22)-1)*1 -> 20 | C22: =FIND(" ",A22) -> 4 | D22: =IFERROR(FIND(" ",A22,C22+1),LEN(A22)+1) -> 8 | E22: =MID(A22,C22+1,D22-C22-1) -> Bd4 | F22: =TRIM(SUBSTITUTE(SUBSTITUTE(SUBSTITUTE(SUBSTITUTE(SUBSTITUTE(SUBSTITUTE(SUBSTITUTE(SUBSTITUTE(SUBSTITUTE(E22,"?",""),"!",""),"#",""),"+",""),"x",""),"-","–"),"½–½",""),"1–0",""),"0–1","")) -> Bd4 | G22: =IF(EXACT(LEFT(F22,1),UPPER(LEFT(F22,1))),LEFT(F22,1),"P") -> B | H22: =CODE(UPPER(MID(F22,LEN(F22)-1,1)))-64 -> 4 | I22: =RIGHT(F22,1)*1 -> 4 | J22: =IF(LEN(F22)=4-(G22="P"),MID(F22,2-(G22="P"),1),"") | K22: =MID(A22,D22+1,9) -> Nh7 | L22: =TRIM(SUBSTITUTE(SUBSTITUTE(SUBSTITUTE(SUBSTITUTE(SUBSTITUTE(SUBSTITUTE(SUBSTITUTE(SUBSTITUTE(SUBSTITUTE(K22,"?",""),"!",""),"#",""),"+",""),"x",""),"-","–"),"½–½",""),"1–0",""),"0–1","")) -> Nh7 | M22: =IF(EXACT(LEFT(L22,1),UPPER(LEFT(L22,1))),LEFT(L22,1),"P") -> N | N22: =CODE(UPPER(MID(L22,LEN(L22)-1,1)))-64 -> 8 | O22: =RIGHT(L22,1)*1 -> 7 | P22: =IF(LEN(L22)=4-(M22="P"),MID(L22,2-(M22="P"),1),"")
A23: =INDEX(Games!$A23:$AC23,$A$1)&"" -> 21. cxd5 Bxd5 | B23: =LEFT(A23,FIND(".",A23)-1)*1 -> 21 | C23: =FIND(" ",A23) -> 4 | D23: =IFERROR(FIND(" ",A23,C23+1),LEN(A23)+1) -> 9 | E23: =MID(A23,C23+1,D23-C23-1) -> cxd5 | F23: =TRIM(SUBSTITUTE(SUBSTITUTE(SUBSTITUTE(SUBSTITUTE(SUBSTITUTE(SUBSTITUTE(SUBSTITUTE(SUBSTITUTE(SUBSTITUTE(E23,"?",""),"!",""),"#",""),"+",""),"x",""),"-","–"),"½–½",""),"1–0",""),"0–1","")) -> cd5 | G23: =IF(EXACT(LEFT(F23,1),UPPER(LEFT(F23,1))),LEFT(F23,1),"P") -> P | H23: =CODE(UPPER(MID(F23,LEN(F23)-1,1)))-64 -> 4 | I23: =RIGHT(F23,1)*1 -> 5 | J23: =IF(LEN(F23)=4-(G23="P"),MID(F23,2-(G23="P"),1),"") -> c | K23: =MID(A23,D23+1,9) -> Bxd5 | L23: =TRIM(SUBSTITUTE(SUBSTITUTE(SUBSTITUTE(SUBSTITUTE(SUBSTITUTE(SUBSTITUTE(SUBSTITUTE(SUBSTITUTE(SUBSTITUTE(K23,"?",""),"!",""),"#",""),"+",""),"x",""),"-","–"),"½–½",""),"1–0",""),"0–1","")) -> Bd5 | M23: =IF(EXACT(LEFT(L23,1),UPPER(LEFT(L23,1))),LEFT(L23,1),"P") -> B | N23: =CODE(UPPER(MID(L23,LEN(L23)-1,1)))-64 -> 4 | O23: =RIGHT(L23,1)*1 -> 5 | P23: =IF(LEN(L23)=4-(M23="P"),MID(L23,2-(M23="P"),1),"")
A24: =INDEX(Games!$A24:$AC24,$A$1)&"" -> 22. Rxe8+ Rxe8 | B24: =LEFT(A24,FIND(".",A24)-1)*1 -> 22 | C24: =FIND(" ",A24) -> 4 | D24: =IFERROR(FIND(" ",A24,C24+1),LEN(A24)+1) -> 10 | E24: =MID(A24,C24+1,D24-C24-1) -> Rxe8+ | F24: =TRIM(SUBSTITUTE(SUBSTITUTE(SUBSTITUTE(SUBSTITUTE(SUBSTITUTE(SUBSTITUTE(SUBSTITUTE(SUBSTITUTE(SUBSTITUTE(E24,"?",""),"!",""),"#",""),"+",""),"x",""),"-","–"),"½–½",""),"1–0",""),"0–1","")) -> Re8 | G24: =IF(EXACT(LEFT(F24,1),UPPER(LEFT(F24,1))),LEFT(F24,1),"P") -> R | H24: =CODE(UPPER(MID(F24,LEN(F24)-1,1)))-64 -> 5 | I24: =RIGHT(F24,1)*1 -> 8 | J24: =IF(LEN(F24)=4-(G24="P"),MID(F24,2-(G24="P"),1),"") | K24: =MID(A24,D24+1,9) -> Rxe8 | L24: =TRIM(SUBSTITUTE(SUBSTITUTE(SUBSTITUTE(SUBSTITUTE(SUBSTITUTE(SUBSTITUTE(SUBSTITUTE(SUBSTITUTE(SUBSTITUTE(K24,"?",""),"!",""),"#",""),"+",""),"x",""),"-","–"),"½–½",""),"1–0",""),"0–1","")) -> Re8 | M24: =IF(EXACT(LEFT(L24,1),UPPER(LEFT(L24,1))),LEFT(L24,1),"P") -> R | N24: =CODE(UPPER(MID(L24,LEN(L24)-1,1)))-64 -> 5 | O24: =RIGHT(L24,1)*1 -> 8 | P24: =IF(LEN(L24)=4-(M24="P"),MID(L24,2-(M24="P"),1),"")
A25: =INDEX(Games!$A25:$AC25,$A$1)&"" -> 23. Qd3 Nf8 | B25: =LEFT(A25,FIND(".",A25)-1)*1 -> 23 | C25: =FIND(" ",A25) -> 4 | D25: =IFERROR(FIND(" ",A25,C25+1),LEN(A25)+1) -> 8 | E25: =MID(A25,C25+1,D25-C25-1) -> Qd3 | F25: =TRIM(SUBSTITUTE(SUBSTITUTE(SUBSTITUTE(SUBSTITUTE(SUBSTITUTE(SUBSTITUTE(SUBSTITUTE(SUBSTITUTE(SUBSTITUTE(E25,"?",""),"!",""),"#",""),"+",""),"x",""),"-","–"),"½–½",""),"1–0",""),"0–1","")) -> Qd3 | G25: =IF(EXACT(LEFT(F25,1),UPPER(LEFT(F25,1))),LEFT(F25,1),"P") -> Q | H25: =CODE(UPPER(MID(F25,LEN(F25)-1,1)))-64 -> 4 | I25: =RIGHT(F25,1)*1 -> 3 | J25: =IF(LEN(F25)=4-(G25="P"),MID(F25,2-(G25="P"),1),"") | K25: =MID(A25,D25+1,9) -> Nf8 | L25: =TRIM(SUBSTITUTE(SUBSTITUTE(SUBSTITUTE(SUBSTITUTE(SUBSTITUTE(SUBSTITUTE(SUBSTITUTE(SUBSTITUTE(SUBSTITUTE(K25,"?",""),"!",""),"#",""),"+",""),"x",""),"-","–"),"½–½",""),"1–0",""),"0–1","")) -> Nf8 | M25: =IF(EXACT(LEFT(L25,1),UPPER(LEFT(L25,1))),LEFT(L25,1),"P") -> N | N25: =CODE(UPPER(MID(L25,LEN(L25)-1,1)))-64 -> 6 | O25: =RIGHT(L25,1)*1 -> 8 | P25: =IF(LEN(L25)=4-(M25="P"),MID(L25,2-(M25="P"),1),"")
A26: =INDEX(Games!$A26:$AC26,$A$1)&"" -> 24. Nh4 Be5 | B26: =LEFT(A26,FIND(".",A26)-1)*1 -> 24 | C26: =FIND(" ",A26) -> 4 | D26: =IFERROR(FIND(" ",A26,C26+1),LEN(A26)+1) -> 8 | E26: =MID(A26,C26+1,D26-C26-1) -> Nh4 | F26: =TRIM(SUBSTITUTE(SUBSTITUTE(SUBSTITUTE(SUBSTITUTE(SUBSTITUTE(SUBSTITUTE(SUBSTITUTE(SUBSTITUTE(SUBSTITUTE(E26,"?",""),"!",""),"#",""),"+",""),"x",""),"-","–"),"½–½",""),"1–0",""),"0–1","")) -> Nh4 | G26: =IF(EXACT(LEFT(F26,1),UPPER(LEFT(F26,1))),LEFT(F26,1),"P") -> N | H26: =CODE(UPPER(MID(F26,LEN(F26)-1,1)))-64 -> 8 | I26: =RIGHT(F26,1)*1 -> 4 | J26: =IF(LEN(F26)=4-(G26="P"),MID(F26,2-(G26="P"),1),"") | K26: =MID(A26,D26+1,9) -> Be5 | L26: =TRIM(SUBSTITUTE(SUBSTITUTE(SUBSTITUTE(SUBSTITUTE(SUBSTITUTE(SUBSTITUTE(SUBSTITUTE(SUBSTITUTE(SUBSTITUTE(K26,"?",""),"!",""),"#",""),"+",""),"x",""),"-","–"),"½–½",""),"1–0",""),"0–1","")) -> Be5 | M26: =IF(EXACT(LEFT(L26,1),UPPER(LEFT(L26,1))),LEFT(L26,1),"P") -> B | N26: =CODE(UPPER(MID(L26,LEN(L26)-1,1)))-64 -> 5 | O26: =RIGHT(L26,1)*1 -> 5 | P26: =IF(LEN(L26)=4-(M26="P"),MID(L26,2-(M26="P"),1),"")
A27: =INDEX(Games!$A27:$AC27,$A$1)&"" -> 25. Bxd5 Qxd5 | B27: =LEFT(A27,FIND(".",A27)-1)*1 -> 25 | C27: =FIND(" ",A27) -> 4 | D27: =IFERROR(FIND(" ",A27,C27+1),LEN(A27)+1) -> 9 | E27: =MID(A27,C27+1,D27-C27-1) -> Bxd5 | F27: =TRIM(SUBSTITUTE(SUBSTITUTE(SUBSTITUTE(SUBSTITUTE(SUBSTITUTE(SUBSTITUTE(SUBSTITUTE(SUBSTITUTE(SUBSTITUTE(E27,"?",""),"!",""),"#",""),"+",""),"x",""),"-","–"),"½–½",""),"1–0",""),"0–1","")) -> Bd5 | G27: =IF(EXACT(LEFT(F27,1),UPPER(LEFT(F27,1))),LEFT(F27,1),"P") -> B | H27: =CODE(UPPER(MID(F27,LEN(F27)-1,1)))-64 -> 4 | I27: =RIGHT(F27,1)*1 -> 5 | J27: =IF(LEN(F27)=4-(G27="P"),MID(F27,2-(G27="P"),1),"") | K27: =MID(A27,D27+1,9) -> Qxd5 | L27: =TRIM(SUBSTITUTE(SUBSTITUTE(SUBSTITUTE(SUBSTITUTE(SUBSTITUTE(SUBSTITUTE(SUBSTITUTE(SUBSTITUTE(SUBSTITUTE(K27,"?",""),"!",""),"#",""),"+",""),"x",""),"-","–"),"½–½",""),"1–0",""),"0–1","")) -> Qd5 | M27: =IF(EXACT(LEFT(L27,1),UPPER(LEFT(L27,1))),LEFT(L27,1),"P") -> Q | N27: =CODE(UPPER(MID(L27,LEN(L27)-1,1)))-64 -> 4 | O27: =RIGHT(L27,1)*1 -> 5 | P27: =IF(LEN(L27)=4-(M27="P"),MID(L27,2-(M27="P"),1),"")
A28: =INDEX(Games!$A28:$AC28,$A$1)&"" -> 26. Bxe5 Qxe5 | B28: =LEFT(A28,FIND(".",A28)-1)*1 -> 26 | C28: =FIND(" ",A28) -> 4 | D28: =IFERROR(FIND(" ",A28,C28+1),LEN(A28)+1) -> 9 | E28: =MID(A28,C28+1,D28-C28-1) -> Bxe5 | F28: =TRIM(SUBSTITUTE(SUBSTITUTE(SUBSTITUTE(SUBSTITUTE(SUBSTITUTE(SUBSTITUTE(SUBSTITUTE(SUBSTITUTE(SUBSTITUTE(E28,"?",""),"!",""),"#",""),"+",""),"x",""),"-","–"),"½–½",""),"1–0",""),"0–1","")) -> Be5 | G28: =IF(EXACT(LEFT(F28,1),UPPER(LEFT(F28,1))),LEFT(F28,1),"P") -> B | H28: =CODE(UPPER(MID(F28,LEN(F28)-1,1)))-64 -> 5 | I28: =RIGHT(F28,1)*1 -> 5 | J28: =IF(LEN(F28)=4-(G28="P"),MID(F28,2-(G28="P"),1),"") | K28: =MID(A28,D28+1,9) -> Qxe5 | L28: =TRIM(SUBSTITUTE(SUBSTITUTE(SUBSTITUTE(SUBSTITUTE(SUBSTITUTE(SUBSTITUTE(SUBSTITUTE(SUBSTITUTE(SUBSTITUTE(K28,"?",""),"!",""),"#",""),"+",""),"x",""),"-","–"),"½–½",""),"1–0",""),"0–1","")) -> Qe5 | M28: =IF(EXACT(LEFT(L28,1),UPPER(LEFT(L28,1))),LEFT(L28,1),"P") -> Q | N28: =CODE(UPPER(MID(L28,LEN(L28)-1,1)))-64 -> 5 | O28: =RIGHT(L28,1)*1 -> 5 | P28: =IF(LEN(L28)=4-(M28="P"),MID(L28,2-(M28="P"),1),"")
A29: =INDEX(Games!$A29:$AC29,$A$1)&"" -> 27. b3 Ne6 | B29: =LEFT(A29,FIND(".",A29)-1)*1 -> 27 | C29: =FIND(" ",A29) -> 4 | D29: =IFERROR(FIND(" ",A29,C29+1),LEN(A29)+1) -> 7 | E29: =MID(A29,C29+1,D29-C29-1) -> b3 | F29: =TRIM(SUBSTITUTE(SUBSTITUTE(SUBSTITUTE(SUBSTITUTE(SUBSTITUTE(SUBSTITUTE(SUBSTITUTE(SUBSTITUTE(SUBSTITUTE(E29,"?",""),"!",""),"#",""),"+",""),"x",""),"-","–"),"½–½",""),"1–0",""),"0–1","")) -> b3 | G29: =IF(EXACT(LEFT(F29,1),UPPER(LEFT(F29,1))),LEFT(F29,1),"P") -> P | H29: =CODE(UPPER(MID(F29,LEN(F29)-1,1)))-64 -> 2 | I29: =RIGHT(F29,1)*1 -> 3 | J29: =IF(LEN(F29)=4-(G29="P"),MID(F29,2-(G29="P"),1),"") | K29: =MID(A29,D29+1,9) -> Ne6 | L29: =TRIM(SUBSTITUTE(SUBSTITUTE(SUBSTITUTE(SUBSTITUTE(SUBSTITUTE(SUBSTITUTE(SUBSTITUTE(SUBSTITUTE(SUBSTITUTE(K29,"?",""),"!",""),"#",""),"+",""),"x",""),"-","–"),"½–½",""),"1–0",""),"0–1","")) -> Ne6 | M29: =IF(EXACT(LEFT(L29,1),UPPER(LEFT(L29,1))),LEFT(L29,1),"P") -> N | N29: =CODE(UPPER(MID(L29,LEN(L29)-1,1)))-64 -> 5 | O29: =RIGHT(L29,1)*1 -> 6 | P29: =IF(LEN(L29)=4-(M29="P"),MID(L29,2-(M29="P"),1),"")
A30: =INDEX(Games!$A30:$AC30,$A$1)&"" -> 28. Nf3 Qf6 | B30: =LEFT(A30,FIND(".",A30)-1)*1 -> 28 | C30: =FIND(" ",A30) -> 4 | D30: =IFERROR(FIND(" ",A30,C30+1),LEN(A30)+1) -> 8 | E30: =MID(A30,C30+1,D30-C30-1) -> Nf3 | F30: =TRIM(SUBSTITUTE(SUBSTITUTE(SUBSTITUTE(SUBSTITUTE(SUBSTITUTE(SUBSTITUTE(SUBSTITUTE(SUBSTITUTE(SUBSTITUTE(E30,"?",""),"!",""),"#",""),"+",""),"x",""),"-","–"),"½–½",""),"1–0",""),"0–1","")) -> Nf3 | G30: =IF(EXACT(LEFT(F30,1),UPPER(LEFT(F30,1))),LEFT(F30,1),"P") -> N | H30: =CODE(UPPER(MID(F30,LEN(F30)-1,1)))-64 -> 6 | I30: =RIGHT(F30,1)*1 -> 3 | J30: =IF(LEN(F30)=4-(G30="P"),MID(F30,2-(G30="P"),1),"") | K30: =MID(A30,D30+1,9) -> Qf6 | L30: =TRIM(SUBSTITUTE(SUBSTITUTE(SUBSTITUTE(SUBSTITUTE(SUBSTITUTE(SUBSTITUTE(SUBSTITUTE(SUBSTITUTE(SUBSTITUTE(K30,"?",""),"!",""),"#",""),"+",""),"x",""),"-","–"),"½–½",""),"1–0",""),"0–1","")) -> Qf6 | M30: =IF(EXACT(LEFT(L30,1),UPPER(LEFT(L30,1))),LEFT(L30,1),"P") -> Q | N30: =CODE(UPPER(MID(L30,LEN(L30)-1,1)))-64 -> 6 | O30: =RIGHT(L30,1)*1 -> 6 | P30: =IF(LEN(L30)=4-(M30="P"),MID(L30,2-(M30="P"),1),"")
... A152: =INDEX(Games!$A152:$AC152,$A$1)&"" | B152: =LEFT(A152,FIND(".",A152)-1)*1 -> #VALUE! | C152: =FIND(" ",A152) -> #VALUE! | D152: =IFERROR(FIND(" ",A152,C152+1),LEN(A152)+1) -> 1 | E152: =MID(A152,C152+1,D152-C152-1) -> #VALUE! | F152: =TRIM(SUBSTITUTE(SUBSTITUTE(SUBSTITUTE(SUBSTITUTE(SUBSTITUTE(SUBSTITUTE(SUBSTITUTE(SUBSTITUTE(SUBSTITUTE(E152,"?",""),"!",""),"#",""),"+",""),"x",""),"-","–"),"½–½",""),"1–0",""),"0–1","")) -> #VALUE! | G152: =IF(EXACT(LEFT(F152,1),UPPER(LEFT(F152,1))),LEFT(F152,1),"P") -> #VALUE! | H152: =CODE(UPPER(MID(F152,LEN(F152)-1,1)))-64 -> #VALUE! | I152: =RIGHT(F152,1)*1 -> #VALUE! | J152: =IF(LEN(F152)=4-(G152="P"),MID(F152,2-(G152="P"),1),"") -> #VALUE! | K152: =MID(A152,D152+1,9) | L152: =TRIM(SUBSTITUTE(SUBSTITUTE(SUBSTITUTE(SUBSTITUTE(SUBSTITUTE(SUBSTITUTE(SUBSTITUTE(SUBSTITUTE(SUBSTITUTE(K152,"?",""),"!",""),"#",""),"+",""),"x",""),"-","–"),"½–½",""),"1–0",""),"0–1","")) | M152: =IF(EXACT(LEFT(L152,1),UPPER(LEFT(L152,1))),LEFT(L152,1),"P") | N152: =CODE(UPPER(MID(L152,LEN(L152)-1,1)))-64 -> #VALUE! | O152: =RIGHT(L152,1)*1 -> #VALUE! | P152: =IF(LEN(L152)=4-(M152="P"),MID(L152,2-(M152="P"),1),"")

Sheet Positions
B1: Move | G1: =C1+1 -> 1 | K1: =G1+1 -> 2 | O1: =K1+1 -> 3 | S1: =O1+1 -> 4 | W1: =S1+1 -> 5 | AA1: =W1+1 -> 6 | AE1: =AA1+1 -> 7 | AI1: =AE1+1 -> 8 | AM1: =AI1+1 -> 9 | AQ1: =AM1+1 -> 10 | AU1: =AQ1+1 -> 11 | AY1: =AU1+1 -> 12 | BC1: =AY1+1 -> 13 | BG1: =BC1+1 -> 14 | BK1: =BG1+1 -> 15 | BO1: =BK1+1 -> 16 | BS1: =BO1+1 -> 17 | BW1: =BS1+1 -> 18 | CA1: =BW1+1 -> 19 | CE1: =CA1+1 -> 20 | CI1: =CE1+1 -> 21 | CM1: =CI1+1 -> 22 | CQ1: =CM1+1 -> 23 | CU1: =CQ1+1 -> 24 | CY1: =CU1+1 -> 25 | DC1: =CY1+1 -> 26 | DG1: =DC1+1 -> 27 | DK1: =DG1+1 -> 28 | DO1: =DK1+1 -> 29 | DS1: =DO1+1 -> 30 | DW1: =DS1+1 -> 31 | EA1: =DW1+1 -> 32 | EE1: =EA1+1 -> 33 | EI1: =EE1+1 -> 34 | EM1: =EI1+1 -> 35 | EQ1: =EM1+1 -> 36 | EU1: =EQ1+1 -> 37 | EY1: =EU1+1 -> 38 | FC1: =EY1+1 -> 39 | FG1: =FC1+1 -> 40 | FK1: =FG1+1 -> 41 | FO1: =FK1+1 -> 42 | FS1: =FO1+1 -> 43 | FW1: =FS1+1 -> 44 | GA1: =FW1+1 -> 45 | GE1: =GA1+1 -> 46 | GI1: =GE1+1 -> 47 | GM1: =GI1+1 -> 48 | GQ1: =GM1+1 -> 49 | GU1: =GQ1+1 -> 50 | GY1: =GU1+1 -> 51 | HC1: =GY1+1 -> 52 | HG1: =HC1+1 -> 53 | HK1: =HG1+1 -> 54 | HO1: =HK1+1 -> 55 | HS1: =HO1+1 -> 56 | HW1: =HS1+1 -> 57 | IA1: =HW1+1 -> 58 | IE1: =IA1+1 -> 59 | II1: =IE1+1 -> 60 | IM1: =II1+1 -> 61 | IQ1: =IM1+1 -> 62 | IU1: =IQ1+1 -> 63 | IY1: =IU1+1 -> 64 | JC1: =IY1+1 -> 65 | JG1: =JC1+1 -> 66 | JK1: =JG1+1 -> 67 | JO1: =JK1+1 -> 68 | JS1: =JO1+1 -> 69 | JW1: =JS1+1 -> 70 | KA1: =JW1+1 -> 71 | KE1: =KA1+1 -> 72 | KI1: =KE1+1 -> 73 | KM1: =KI1+1 -> 74 | KQ1: =KM1+1 -> 75 | KU1: =KQ1+1 -> 76 | KY1: =KU1+1 -> 77 | LC1: =KY1+1 -> 78 | LG1: =LC1+1 -> 79 | LK1: =LG1+1 -> 80 | LO1: =LK1+1 -> 81 | LS1: =LO1+1 -> 82 | LW1: =LS1+1 -> 83 | MA1: =LW1+1 -> 84 | ME1: =MA1+1 -> 85 | MI1: =ME1+1 -> 86 | MM1: =MI1+1 -> 87 | MQ1: =MM1+1 -> 88 | MU1: =MQ1+1 -> 89 | MY1: =MU1+1 -> 90 | NC1: =MY1+1 -> 91 | NG1: =NC1+1 -> 92 | NK1: =NG1+1 -> 93 | NO1: =NK1+1 -> 94 | NS1: =NO1+1 -> 95 | NW1: =NS1+1 -> 96 | OA1: =NW1+1 -> 97 | OE1: =OA1+1 -> 98 | OI1: =OE1+1 -> 99 | OM1: =OI1+1 -> 100 | OQ1: =OM1+1 -> 101 | OU1: =OQ1+1 -> 102 | OY1: =OU1+1 -> 103 | PC1: =OY1+1 -> 104 | PG1: =PC1+1 -> 105 | PK1: =PG1+1 -> 106 | PO1: =PK1+1 -> 107 | PS1: =PO1+1 -> 108 | PW1: =PS1+1 -> 109 | QA1: =PW1+1 -> 110 | QE1: =QA1+1 -> 111 | QI1: =QE1+1 -> 112 | QM1: =QI1+1 -> 113 | QQ1: =QM1+1 -> 114 | QU1: =QQ1+1 -> 115 | QY1: =QU1+1 -> 116 | RC1: =QY1+1 -> 117 | RG1: =RC1+1 -> 118 | RK1: =RG1+1 -> 119 | RO1: =RK1+1 -> 120 | RS1: =RO1+1 -> 121 | RW1: =RS1+1 -> 122 | SA1: =RW1+1 -> 123 | SE1: =SA1+1 -> 124 | SI1: =SE1+1 -> 125 | SM1: =SI1+1 -> 126 | SQ1: =SM1+1 -> 127 | SU1: =SQ1+1 -> 128 | SY1: =SU1+1 -> 129 | TC1: =SY1+1 -> 130 | TG1: =TC1+1 -> 131 | TK1: =TG1+1 -> 132 | TO1: =TK1+1 -> 133 | TS1: =TO1+1 -> 134 | TW1: =TS1+1 -> 135 | UA1: =TW1+1 -> 136 | UE1: =UA1+1 -> 137 | UI1: =UE1+1 -> 138 | UM1: =UI1+1 -> 139 | UQ1: =UM1+1 -> 140 | UU1: =UQ1+1 -> 141 | UY1: =UU1+1 -> 142 | VC1: =UY1+1 -> 143 | VG1: =VC1+1 -> 144 | VK1: =VG1+1 -> 145 | VO1: =VK1+1 -> 146 | VS1: =VO1+1 -> 147 | VW1: =VS1+1 -> 148 | WA1: =VW1+1 -> 149 | WE1: =WA1+1 -> 150 | WI1: =WE1+1 -> 151 | WM1: =WI1+1 -> 152 | WQ1: =WM1+1 -> 153 | WU1: =WQ1+1 -> 154 | WY1: =WU1+1 -> 155 | XC1: =WY1+1 -> 156 | XG1: =XC1+1 -> 157 | XK1: =XG1+1 -> 158 | XO1: =XK1+1 -> 159 | XS1: =XO1+1 -> 160 | XW1: =XS1+1 -> 161 | YA1: =XW1+1 -> 162 | YE1: =YA1+1 -> 163 | YI1: =YE1+1 -> 164 | YM1: =YI1+1 -> 165 | YQ1: =YM1+1 -> 166 | YU1: =YQ1+1 -> 167 | YY1: =YU1+1 -> 168 | ZC1: =YY1+1 -> 169 | ZG1: =ZC1+1 -> 170 | ZK1: =ZG1+1 -> 171 | ZO1: =ZK1+1 -> 172 | ZS1: =ZO1+1 -> 173 | ZW1: =ZS1+1 -> 174 | AAA1: =ZW1+1 -> 175 | AAE1: =AAA1+1 -> 176 | AAI1: =AAE1+1 -> 177 | AAM1: =AAI1+1 -> 178 | AAQ1: =AAM1+1 -> 179 | AAU1: =AAQ1+1 -> 180 | AAY1: =AAU1+1 -> 181 | ABC1: =AAY1+1 -> 182 | ABG1: =ABC1+1 -> 183 | ABK1: =ABG1+1 -> 184 | ABO1: =ABK1+1 -> 185 | ABS1: =ABO1+1 -> 186 | ABW1: =ABS1+1 -> 187 | ACA1: =ABW1+1 -> 188 | ACE1: =ACA1+1 -> 189 | ACI1: =ACE1+1 -> 190 | ACM1: =ACI1+1 -> 191 | ACQ1: =ACM1+1 -> 192 | ACU1: =ACQ1+1 -> 193 | ACY1: =ACU1+1 -> 194 | ADC1: =ACY1+1 -> 195 | ADG1: =ADC1+1 -> 196 | ADK1: =ADG1+1 -> 197 | ADO1: =ADK1+1 -> 198 | ADS1: =ADO1+1 -> 199 | ADW1: =ADS1+1 -> 200 | AEA1: =ADW1+1 -> 201 | AEE1: =AEA1+1 -> 202 | AEI1: =AEE1+1 -> 203 | AEM1: =AEI1+1 -> 204 | AEQ1: =AEM1+1 -> 205 | AEU1: =AEQ1+1 -> 206 | AEY1: =AEU1+1 -> 207 | AFC1: =AEY1+1 -> 208 | AFG1: =AFC1+1 -> 209 | AFK1: =AFG1+1 -> 210 | AFO1: =AFK1+1 -> 211 | AFS1: =AFO1+1 -> 212 | AFW1: =AFS1+1 -> 213 | AGA1: =AFW1+1 -> 214 | AGE1: =AGA1+1 -> 215 | AGI1: =AGE1+1 -> 216 | AGM1: =AGI1+1 -> 217 | AGQ1: =AGM1+1 -> 218 | AGU1: =AGQ1+1 -> 219 | AGY1: =AGU1+1 -> 220 | AHC1: =AGY1+1 -> 221 | AHG1: =AHC1+1 -> 222 | AHK1: =AHG1+1 -> 223 | AHO1: =AHK1+1 -> 224 | AHS1: =AHO1+1 -> 225 | AHW1: =AHS1+1 -> 226 | AIA1: =AHW1+1 -> 227 | AIE1: =AIA1+1 -> 228 | AII1: =AIE1+1 -> 229 | AIM1: =AII1+1 -> 230 | AIQ1: =AIM1+1 -> 231 | AIU1: =AIQ1+1 -> 232 | AIY1: =AIU1+1 -> 233 | AJC1: =AIY1+1 -> 234 | AJG1: =AJC1+1 -> 235 | AJK1: =AJG1+1 -> 236 | AJO1: =AJK1+1 -> 237 | AJS1: =AJO1+1 -> 238 | AJW1: =AJS1+1 -> 239 | AKA1: =AJW1+1 -> 240 | AKE1: =AKA1+1 -> 241 | AKI1: =AKE1+1 -> 242 | AKM1: =AKI1+1 -> 243 | AKQ1: =AKM1+1 -> 244 | AKU1: =AKQ1+1 -> 245 | AKY1: =AKU1+1 -> 246 | ALC1: =AKY1+1 -> 247 | ALG1: =ALC1+1 -> 248 | ALK1: =ALG1+1 -> 249 | ALO1: =ALK1+1 -> 250 | ALS1: =ALO1+1 -> 251 | ALW1: =ALS1+1 -> 252 | AMA1: =ALW1+1 -> 253 | AME1: =AMA1+1 -> 254 | AMI1: =AME1+1 -> 255 | AMM1: =AMI1+1 -> 256 | AMQ1: =AMM1+1 -> 257 | AMU1: =AMQ1+1 -> 258 | AMY1: =AMU1+1 -> 259 | ANC1: =AMY1+1 -> 260 | ANG1: =ANC1+1 -> 261 | ANK1: =ANG1+1 -> 262 | ANO1: =ANK1+1 -> 263 | ANS1: =ANO1+1 -> 264 | ANW1: =ANS1+1 -> 265 | AOA1: =ANW1+1 -> 266 | AOE1: =AOA1+1 -> 267 | AOI1: =AOE1+1 -> 268 | AOM1: =AOI1+1 -> 269 | AOQ1: =AOM1+1 -> 270 | AOU1: =AOQ1+1 -> 271 | AOY1: =AOU1+1 -> 272 | APC1: =AOY1+1 -> 273 | APG1: =APC1+1 -> 274 | APK1: =APG1+1 -> 275 | APO1: =APK1+1 -> 276 | APS1: =APO1+1 -> 277 | APW1: =APS1+1 -> 278 | AQA1: =APW1+1 -> 279 | AQE1: =AQA1+1 -> 280 | AQI1: =AQE1+1 -> 281 | AQM1: =AQI1+1 -> 282 | AQQ1: =AQM1+1 -> 283 | AQU1: =AQQ1+1 -> 284 | AQY1: =AQU1+1 -> 285 | ARC1: =AQY1+1 -> 286 | ARG1: =ARC1+1 -> 287 | ARK1: =ARG1+1 -> 288 | ARO1: =ARK1+1 -> 289 | ARS1: =ARO1+1 -> 290 | ARW1: =ARS1+1 -> 291 | ASA1: =ARW1+1 -> 292 | ASE1: =ASA1+1 -> 293 | ASI1: =ASE1+1 -> 294 | ASM1: =ASI1+1 -> 295 | ASQ1: =ASM1+1 -> 296 | ASU1: =ASQ1+1 -> 297 | ASY1: =ASU1+1 -> 298 | ATC1: =ASY1+1 -> 299 | ATG1: =ATC1+1 -> 300
B2: Piece | G2: =INDEX(IF(MOD(G$1,2),Moves!$G$3:$G$152,Moves!$M$3:$M$152),ROUNDUP(G$1/2,0)) -> P | K2: =INDEX(IF(MOD(K$1,2),Moves!$G$3:$G$152,Moves!$M$3:$M$152),ROUNDUP(K$1/2,0)) -> P | O2: =INDEX(IF(MOD(O$1,2),Moves!$G$3:$G$152,Moves!$M$3:$M$152),ROUNDUP(O$1/2,0)) -> N | S2: =INDEX(IF(MOD(S$1,2),Moves!$G$3:$G$152,Moves!$M$3:$M$152),ROUNDUP(S$1/2,0)) -> P | W2: =INDEX(IF(MOD(W$1,2),Moves!$G$3:$G$152,Moves!$M$3:$M$152),ROUNDUP(W$1/2,0)) -> P | AA2: =INDEX(IF(MOD(AA$1,2),Moves!$G$3:$G$152,Moves!$M$3:$M$152),ROUNDUP(AA$1/2,0)) -> N | AE2: =INDEX(IF(MOD(AE$1,2),Moves!$G$3:$G$152,Moves!$M$3:$M$152),ROUNDUP(AE$1/2,0)) -> B | AI2: =INDEX(IF(MOD(AI$1,2),Moves!$G$3:$G$152,Moves!$M$3:$M$152),ROUNDUP(AI$1/2,0)) -> P | AM2: =INDEX(IF(MOD(AM$1,2),Moves!$G$3:$G$152,Moves!$M$3:$M$152),ROUNDUP(AM$1/2,0)) -> P | AQ2: =INDEX(IF(MOD(AQ$1,2),Moves!$G$3:$G$152,Moves!$M$3:$M$152),ROUNDUP(AQ$1/2,0)) -> P | AU2: =INDEX(IF(MOD(AU$1,2),Moves!$G$3:$G$152,Moves!$M$3:$M$152),ROUNDUP(AU$1/2,0)) -> 0 | AY2: =INDEX(IF(MOD(AY$1,2),Moves!$G$3:$G$152,Moves!$M$3:$M$152),ROUNDUP(AY$1/2,0)) -> N | BC2: =INDEX(IF(MOD(BC$1,2),Moves!$G$3:$G$152,Moves!$M$3:$M$152),ROUNDUP(BC$1/2,0)) -> P | BG2: =INDEX(IF(MOD(BG$1,2),Moves!$G$3:$G$152,Moves!$M$3:$M$152),ROUNDUP(BG$1/2,0)) -> B | BK2: =INDEX(IF(MOD(BK$1,2),Moves!$G$3:$G$152,Moves!$M$3:$M$152),ROUNDUP(BK$1/2,0)) -> B | BO2: =INDEX(IF(MOD(BO$1,2),Moves!$G$3:$G$152,Moves!$M$3:$M$152),ROUNDUP(BO$1/2,0)) -> P | BS2: =INDEX(IF(MOD(BS$1,2),Moves!$G$3:$G$152,Moves!$M$3:$M$152),ROUNDUP(BS$1/2,0)) -> N | BW2: =INDEX(IF(MOD(BW$1,2),Moves!$G$3:$G$152,Moves!$M$3:$M$152),ROUNDUP(BW$1/2,0)) -> B | CA2: =INDEX(IF(MOD(CA$1,2),Moves!$G$3:$G$152,Moves!$M$3:$M$152),ROUNDUP(CA$1/2,0)) -> Q | CE2: =INDEX(IF(MOD(CE$1,2),Moves!$G$3:$G$152,Moves!$M$3:$M$152),ROUNDUP(CE$1/2,0)) -> Q | CI2: =INDEX(IF(MOD(CI$1,2),Moves!$G$3:$G$152,Moves!$M$3:$M$152),ROUNDUP(CI$1/2,0)) -> N | CM2: =INDEX(IF(MOD(CM$1,2),Moves!$G$3:$G$152,Moves!$M$3:$M$152),ROUNDUP(CM$1/2,0)) -> 0 | CQ2: =INDEX(IF(MOD(CQ$1,2),Moves!$G$3:$G$152,Moves!$M$3:$M$152),ROUNDUP(CQ$1/2,0)) -> N | CU2: =INDEX(IF(MOD(CU$1,2),Moves!$G$3:$G$152,Moves!$M$3:$M$152),ROUNDUP(CU$1/2,0)) -> R | CY2: =INDEX(IF(MOD(CY$1,2),Moves!$G$3:$G$152,Moves!$M$3:$M$152),ROUNDUP(CY$1/2,0)) -> R | DC2: =INDEX(IF(MOD(DC$1,2),Moves!$G$3:$G$152,Moves!$M$3:$M$152),ROUNDUP(DC$1/2,0)) -> B | DG2: =INDEX(IF(MOD(DG$1,2),Moves!$G$3:$G$152,Moves!$M$3:$M$152),ROUNDUP(DG$1/2,0)) -> P | DK2: =INDEX(IF(MOD(DK$1,2),Moves!$G$3:$G$152,Moves!$M$3:$M$152),ROUNDUP(DK$1/2,0)) -> P | DO2: =INDEX(IF(MOD(DO$1,2),Moves!$G$3:$G$152,Moves!$M$3:$M$152),ROUNDUP(DO$1/2,0)) -> Q | DS2: =INDEX(IF(MOD(DS$1,2),Moves!$G$3:$G$152,Moves!$M$3:$M$152),ROUNDUP(DS$1/2,0)) -> B | DW2: =INDEX(IF(MOD(DW$1,2),Moves!$G$3:$G$152,Moves!$M$3:$M$152),ROUNDUP(DW$1/2,0)) -> P | EA2: =INDEX(IF(MOD(EA$1,2),Moves!$G$3:$G$152,Moves!$M$3:$M$152),ROUNDUP(EA$1/2,0)) -> B | EE2: =INDEX(IF(MOD(EE$1,2),Moves!$G$3:$G$152,Moves!$M$3:$M$152),ROUNDUP(EE$1/2,0)) -> R | EI2: =INDEX(IF(MOD(EI$1,2),Moves!$G$3:$G$152,Moves!$M$3:$M$152),ROUNDUP(EI$1/2,0)) -> R | EM2: =INDEX(IF(MOD(EM$1,2),Moves!$G$3:$G$152,Moves!$M$3:$M$152),ROUNDUP(EM$1/2,0)) -> N | EQ2: =INDEX(IF(MOD(EQ$1,2),Moves!$G$3:$G$152,Moves!$M$3:$M$152),ROUNDUP(EQ$1/2,0)) -> P | EU2: =INDEX(IF(MOD(EU$1,2),Moves!$G$3:$G$152,Moves!$M$3:$M$152),ROUNDUP(EU$1/2,0)) -> P | EY2: =INDEX(IF(MOD(EY$1,2),Moves!$G$3:$G$152,Moves!$M$3:$M$152),ROUNDUP(EY$1/2,0)) -> B | FC2: =INDEX(IF(MOD(FC$1,2),Moves!$G$3:$G$152,Moves!$M$3:$M$152),ROUNDUP(FC$1/2,0)) -> B | FG2: =INDEX(IF(MOD(FG$1,2),Moves!$G$3:$G$152,Moves!$M$3:$M$152),ROUNDUP(FG$1/2,0)) -> N | FK2: =INDEX(IF(MOD(FK$1,2),Moves!$G$3:$G$152,Moves!$M$3:$M$152),ROUNDUP(FK$1/2,0)) -> P | FO2: =INDEX(IF(MOD(FO$1,2),Moves!$G$3:$G$152,Moves!$M$3:$M$152),ROUNDUP(FO$1/2,0)) -> B | FS2: =INDEX(IF(MOD(FS$1,2),Moves!$G$3:$G$152,Moves!$M$3:$M$152),ROUNDUP(FS$1/2,0)) -> R | FW2: =INDEX(IF(MOD(FW$1,2),Moves!$G$3:$G$152,Moves!$M$3:$M$152),ROUNDUP(FW$1/2,0)) -> R | GA2: =INDEX(IF(MOD(GA$1,2),Moves!$G$3:$G$152,Moves!$M$3:$M$152),ROUNDUP(GA$1/2,0)) -> Q | GE2: =INDEX(IF(MOD(GE$1,2),Moves!$G$3:$G$152,Moves!$M$3:$M$152),ROUNDUP(GE$1/2,0)) -> N | GI2: =INDEX(IF(MOD(GI$1,2),Moves!$G$3:$G$152,Moves!$M$3:$M$152),ROUNDUP(GI$1/2,0)) -> N | GM2: =INDEX(IF(MOD(GM$1,2),Moves!$G$3:$G$152,Moves!$M$3:$M$152),ROUNDUP(GM$1/2,0)) -> B | GQ2: =INDEX(IF(MOD(GQ$1,2),Moves!$G$3:$G$152,Moves!$M$3:$M$152),ROUNDUP(GQ$1/2,0)) -> B | GU2: =INDEX(IF(MOD(GU$1,2),Moves!$G$3:$G$152,Moves!$M$3:$M$152),ROUNDUP(GU$1/2,0)) -> Q | GY2: =INDEX(IF(MOD(GY$1,2),Moves!$G$3:$G$152,Moves!$M$3:$M$152),ROUNDUP(GY$1/2,0)) -> B | HC2: =INDEX(IF(MOD(HC$1,2),Moves!$G$3:$G$152,Moves!$M$3:$M$152),ROUNDUP(HC$1/2,0)) -> Q | HG2: =INDEX(IF(MOD(HG$1,2),Moves!$G$3:$G$152,Moves!$M$3:$M$152),ROUNDUP(HG$1/2,0)) -> P | HK2: =INDEX(IF(MOD(HK$1,2),Moves!$G$3:$G$152,Moves!$M$3:$M$152),ROUNDUP(HK$1/2,0)) -> N | HO2: =INDEX(IF(MOD(HO$1,2),Moves!$G$3:$G$152,Moves!$M$3:$M$152),ROUNDUP(HO$1/2,0)) -> N | HS2: =INDEX(IF(MOD(HS$1,2),Moves!$G$3:$G$152,Moves!$M$3:$M$152),ROUNDUP(HS$1/2,0)) -> Q | HW2: =INDEX(IF(MOD(HW$1,2),Moves!$G$3:$G$152,Moves!$M$3:$M$152),ROUNDUP(HW$1/2,0)) -> K | IA2: =INDEX(IF(MOD(IA$1,2),Moves!$G$3:$G$152,Moves!$M$3:$M$152),ROUNDUP(IA$1/2,0)) -> R | IE2: =INDEX(IF(MOD(IE$1,2),Moves!$G$3:$G$152,Moves!$M$3:$M$152),ROUNDUP(IE$1/2,0)) -> Q | II2: =INDEX(IF(MOD(II$1,2),Moves!$G$3:$G$152,Moves!$M$3:$M$152),ROUNDUP(II$1/2,0)) -> R | IM2: =INDEX(IF(MOD(IM$1,2),Moves!$G$3:$G$152,Moves!$M$3:$M$152),ROUNDUP(IM$1/2,0)) -> R | IQ2: =INDEX(IF(MOD(IQ$1,2),Moves!$G$3:$G$152,Moves!$M$3:$M$152),ROUNDUP(IQ$1/2,0)) -> P | IU2: =INDEX(IF(MOD(IU$1,2),Moves!$G$3:$G$152,Moves!$M$3:$M$152),ROUNDUP(IU$1/2,0)) -> N | IY2: =INDEX(IF(MOD(IY$1,2),Moves!$G$3:$G$152,Moves!$M$3:$M$152),ROUNDUP(IY$1/2,0)) -> Q | JC2: =INDEX(IF(MOD(JC$1,2),Moves!$G$3:$G$152,Moves!$M$3:$M$152),ROUNDUP(JC$1/2,0)) -> N | JG2: =INDEX(IF(MOD(JG$1,2),Moves!$G$3:$G$152,Moves!$M$3:$M$152),ROUNDUP(JG$1/2,0)) -> N | JK2: =INDEX(IF(MOD(JK$1,2),Moves!$G$3:$G$152,Moves!$M$3:$M$152),ROUNDUP(JK$1/2,0)) -> P | JO2: =INDEX(IF(MOD(JO$1,2),Moves!$G$3:$G$152,Moves!$M$3:$M$152),ROUNDUP(JO$1/2,0)) -> Q | JS2: =INDEX(IF(MOD(JS$1,2),Moves!$G$3:$G$152,Moves!$M$3:$M$152),ROUNDUP(JS$1/2,0)) -> Q | JW2: =INDEX(IF(MOD(JW$1,2),Moves!$G$3:$G$152,Moves!$M$3:$M$152),ROUNDUP(JW$1/2,0)) -> N | KA2: =INDEX(IF(MOD(KA$1,2),Moves!$G$3:$G$152,Moves!$M$3:$M$152),ROUNDUP(KA$1/2,0)) -> K | KE2: =INDEX(IF(MOD(KE$1,2),Moves!$G$3:$G$152,Moves!$M$3:$M$152),ROUNDUP(KE$1/2,0)) -> Q | KI2: =INDEX(IF(MOD(KI$1,2),Moves!$G$3:$G$152,Moves!$M$3:$M$152),ROUNDUP(KI$1/2,0)) -> N | KM2: =INDEX(IF(MOD(KM$1,2),Moves!$G$3:$G$152,Moves!$M$3:$M$152),ROUNDUP(KM$1/2,0)) -> N | KQ2: =INDEX(IF(MOD(KQ$1,2),Moves!$G$3:$G$152,Moves!$M$3:$M$152),ROUNDUP(KQ$1/2,0)) -> K | KU2: =INDEX(IF(MOD(KU$1,2),Moves!$G$3:$G$152,Moves!$M$3:$M$152),ROUNDUP(KU$1/2,0)) -> Q | KY2: =INDEX(IF(MOD(KY$1,2),Moves!$G$3:$G$152,Moves!$M$3:$M$152),ROUNDUP(KY$1/2,0)) -> K | LC2: =INDEX(IF(MOD(LC$1,2),Moves!$G$3:$G$152,Moves!$M$3:$M$152),ROUNDUP(LC$1/2,0)) -> P | LG2: =INDEX(IF(MOD(LG$1,2),Moves!$G$3:$G$152,Moves!$M$3:$M$152),ROUNDUP(LG$1/2,0)) -> Q | LK2: =INDEX(IF(MOD(LK$1,2),Moves!$G$3:$G$152,Moves!$M$3:$M$152),ROUNDUP(LK$1/2,0)) -> K | LO2: =INDEX(IF(MOD(LO$1,2),Moves!$G$3:$G$152,Moves!$M$3:$M$152),ROUNDUP(LO$1/2,0)) -> Q | LS2: =INDEX(IF(MOD(LS$1,2),Moves!$G$3:$G$152,Moves!$M$3:$M$152),ROUNDUP(LS$1/2,0)) -> Q | LW2: =INDEX(IF(MOD(LW$1,2),Moves!$G$3:$G$152,Moves!$M$3:$M$152),ROUNDUP(LW$1/2,0)) -> Q | MA2: =INDEX(IF(MOD(MA$1,2),Moves!$G$3:$G$152,Moves!$M$3:$M$152),ROUNDUP(MA$1/2,0)) -> K | ME2: =INDEX(IF(MOD(ME$1,2),Moves!$G$3:$G$152,Moves!$M$3:$M$152),ROUNDUP(ME$1/2,0)) -> P | MI2: =INDEX(IF(MOD(MI$1,2),Moves!$G$3:$G$152,Moves!$M$3:$M$152),ROUNDUP(MI$1/2,0)) -> Q | MM2: =INDEX(IF(MOD(MM$1,2),Moves!$G$3:$G$152,Moves!$M$3:$M$152),ROUNDUP(MM$1/2,0)) -> Q | MQ2: =INDEX(IF(MOD(MQ$1,2),Moves!$G$3:$G$152,Moves!$M$3:$M$152),ROUNDUP(MQ$1/2,0)) -> Q | MU2: =INDEX(IF(MOD(MU$1,2),Moves!$G$3:$G$152,Moves!$M$3:$M$152),ROUNDUP(MU$1/2,0)) -> Q | MY2: =INDEX(IF(MOD(MY$1,2),Moves!$G$3:$G$152,Moves!$M$3:$M$152),ROUNDUP(MY$1/2,0)) -> K | NC2: =INDEX(IF(MOD(NC$1,2),Moves!$G$3:$G$152,Moves!$M$3:$M$152),ROUNDUP(NC$1/2,0)) -> Q | NG2: =INDEX(IF(MOD(NG$1,2),Moves!$G$3:$G$152,Moves!$M$3:$M$152),ROUNDUP(NG$1/2,0)) -> K | NK2: =INDEX(IF(MOD(NK$1,2),Moves!$G$3:$G$152,Moves!$M$3:$M$152),ROUNDUP(NK$1/2,0)) -> Q | NO2: =INDEX(IF(MOD(NO$1,2),Moves!$G$3:$G$152,Moves!$M$3:$M$152),ROUNDUP(NO$1/2,0)) -> K | NS2: =INDEX(IF(MOD(NS$1,2),Moves!$G$3:$G$152,Moves!$M$3:$M$152),ROUNDUP(NS$1/2,0)) -> #VALUE! | NW2: =INDEX(IF(MOD(NW$1,2),Moves!$G$3:$G$152,Moves!$M$3:$M$152),ROUNDUP(NW$1/2,0)) | OA2: =INDEX(IF(MOD(OA$1,2),Moves!$G$3:$G$152,Moves!$M$3:$M$152),ROUNDUP(OA$1/2,0)) -> #VALUE! | OE2: =INDEX(IF(MOD(OE$1,2),Moves!$G$3:$G$152,Moves!$M$3:$M$152),ROUNDUP(OE$1/2,0)) | OI2: =INDEX(IF(MOD(OI$1,2),Moves!$G$3:$G$152,Moves!$M$3:$M$152),ROUNDUP(OI$1/2,0)) -> #VALUE! | OM2: =INDEX(IF(MOD(OM$1,2),Moves!$G$3:$G$152,Moves!$M$3:$M$152),ROUNDUP(OM$1/2,0)) | OQ2: =INDEX(IF(MOD(OQ$1,2),Moves!$G$3:$G$152,Moves!$M$3:$M$152),ROUNDUP(OQ$1/2,0)) -> #VALUE! | OU2: =INDEX(IF(MOD(OU$1,2),Moves!$G$3:$G$152,Moves!$M$3:$M$152),ROUNDUP(OU$1/2,0)) | OY2: =INDEX(IF(MOD(OY$1,2),Moves!$G$3:$G$152,Moves!$M$3:$M$152),ROUNDUP(OY$1/2,0)) -> #VALUE! | PC2: =INDEX(IF(MOD(PC$1,2),Moves!$G$3:$G$152,Moves!$M$3:$M$152),ROUNDUP(PC$1/2,0)) | PG2: =INDEX(IF(MOD(PG$1,2),Moves!$G$3:$G$152,Moves!$M$3:$M$152),ROUNDUP(PG$1/2,0)) -> #VALUE! | PK2: =INDEX(IF(MOD(PK$1,2),Moves!$G$3:$G$152,Moves!$M$3:$M$152),ROUNDUP(PK$1/2,0)) | PO2: =INDEX(IF(MOD(PO$1,2),Moves!$G$3:$G$152,Moves!$M$3:$M$152),ROUNDUP(PO$1/2,0)) -> #VALUE! | PS2: =INDEX(IF(MOD(PS$1,2),Moves!$G$3:$G$152,Moves!$M$3:$M$152),ROUNDUP(PS$1/2,0)) | PW2: =INDEX(IF(MOD(PW$1,2),Moves!$G$3:$G$152,Moves!$M$3:$M$152),ROUNDUP(PW$1/2,0)) -> #VALUE! | QA2: =INDEX(IF(MOD(QA$1,2),Moves!$G$3:$G$152,Moves!$M$3:$M$152),ROUNDUP(QA$1/2,0)) | QE2: =INDEX(IF(MOD(QE$1,2),Moves!$G$3:$G$152,Moves!$M$3:$M$152),ROUNDUP(QE$1/2,0)) -> #VALUE! | QI2: =INDEX(IF(MOD(QI$1,2),Moves!$G$3:$G$152,Moves!$M$3:$M$152),ROUNDUP(QI$1/2,0)) | QM2: =INDEX(IF(MOD(QM$1,2),Moves!$G$3:$G$152,Moves!$M$3:$M$152),ROUNDUP(QM$1/2,0)) -> #VALUE! | QQ2: =INDEX(IF(MOD(QQ$1,2),Moves!$G$3:$G$152,Moves!$M$3:$M$152),ROUNDUP(QQ$1/2,0)) | QU2: =INDEX(IF(MOD(QU$1,2),Moves!$G$3:$G$152,Moves!$M$3:$M$152),ROUNDUP(QU$1/2,0)) -> #VALUE! | QY2: =INDEX(IF(MOD(QY$1,2),Moves!$G$3:$G$152,Moves!$M$3:$M$152),ROUNDUP(QY$1/2,0)) | RC2: =INDEX(IF(MOD(RC$1,2),Moves!$G$3:$G$152,Moves!$M$3:$M$152),ROUNDUP(RC$1/2,0)) -> #VALUE! | RG2: =INDEX(IF(MOD(RG$1,2),Moves!$G$3:$G$152,Moves!$M$3:$M$152),ROUNDUP(RG$1/2,0)) | RK2: =INDEX(IF(MOD(RK$1,2),Moves!$G$3:$G$152,Moves!$M$3:$M$152),ROUNDUP(RK$1/2,0)) -> #VALUE! | RO2: =INDEX(IF(MOD(RO$1,2),Moves!$G$3:$G$152,Moves!$M$3:$M$152),ROUNDUP(RO$1/2,0)) | RS2: =INDEX(IF(MOD(RS$1,2),Moves!$G$3:$G$152,Moves!$M$3:$M$152),ROUNDUP(RS$1/2,0)) -> #VALUE! | RW2: =INDEX(IF(MOD(RW$1,2),Moves!$G$3:$G$152,Moves!$M$3:$M$152),ROUNDUP(RW$1/2,0)) | SA2: =INDEX(IF(MOD(SA$1,2),Moves!$G$3:$G$152,Moves!$M$3:$M$152),ROUNDUP(SA$1/2,0)) -> #VALUE! | SE2: =INDEX(IF(MOD(SE$1,2),Moves!$G$3:$G$152,Moves!$M$3:$M$152),ROUNDUP(SE$1/2,0)) | SI2: =INDEX(IF(MOD(SI$1,2),Moves!$G$3:$G$152,Moves!$M$3:$M$152),ROUNDUP(SI$1/2,0)) -> #VALUE! | SM2: =INDEX(IF(MOD(SM$1,2),Moves!$G$3:$G$152,Moves!$M$3:$M$152),ROUNDUP(SM$1/2,0)) | SQ2: =INDEX(IF(MOD(SQ$1,2),Moves!$G$3:$G$152,Moves!$M$3:$M$152),ROUNDUP(SQ$1/2,0)) -> #VALUE! | SU2: =INDEX(IF(MOD(SU$1,2),Moves!$G$3:$G$152,Moves!$M$3:$M$152),ROUNDUP(SU$1/2,0)) | SY2: =INDEX(IF(MOD(SY$1,2),Moves!$G$3:$G$152,Moves!$M$3:$M$152),ROUNDUP(SY$1/2,0)) -> #VALUE! | TC2: =INDEX(IF(MOD(TC$1,2),Moves!$G$3:$G$152,Moves!$M$3:$M$152),ROUNDUP(TC$1/2,0)) | TG2: =INDEX(IF(MOD(TG$1,2),Moves!$G$3:$G$152,Moves!$M$3:$M$152),ROUNDUP(TG$1/2,0)) -> #VALUE! | TK2: =INDEX(IF(MOD(TK$1,2),Moves!$G$3:$G$152,Moves!$M$3:$M$152),ROUNDUP(TK$1/2,0)) | TO2: =INDEX(IF(MOD(TO$1,2),Moves!$G$3:$G$152,Moves!$M$3:$M$152),ROUNDUP(TO$1/2,0)) -> #VALUE! | TS2: =INDEX(IF(MOD(TS$1,2),Moves!$G$3:$G$152,Moves!$M$3:$M$152),ROUNDUP(TS$1/2,0)) | TW2: =INDEX(IF(MOD(TW$1,2),Moves!$G$3:$G$152,Moves!$M$3:$M$152),ROUNDUP(TW$1/2,0)) -> #VALUE! | UA2: =INDEX(IF(MOD(UA$1,2),Moves!$G$3:$G$152,Moves!$M$3:$M$152),ROUNDUP(UA$1/2,0)) | UE2: =INDEX(IF(MOD(UE$1,2),Moves!$G$3:$G$152,Moves!$M$3:$M$152),ROUNDUP(UE$1/2,0)) -> #VALUE! | UI2: =INDEX(IF(MOD(UI$1,2),Moves!$G$3:$G$152,Moves!$M$3:$M$152),ROUNDUP(UI$1/2,0)) | UM2: =INDEX(IF(MOD(UM$1,2),Moves!$G$3:$G$152,Moves!$M$3:$M$152),ROUNDUP(UM$1/2,0)) -> #VALUE! | UQ2: =INDEX(IF(MOD(UQ$1,2),Moves!$G$3:$G$152,Moves!$M$3:$M$152),ROUNDUP(UQ$1/2,0)) | UU2: =INDEX(IF(MOD(UU$1,2),Moves!$G$3:$G$152,Moves!$M$3:$M$152),ROUNDUP(UU$1/2,0)) -> #VALUE! | UY2: =INDEX(IF(MOD(UY$1,2),Moves!$G$3:$G$152,Moves!$M$3:$M$152),ROUNDUP(UY$1/2,0)) | VC2: =INDEX(IF(MOD(VC$1,2),Moves!$G$3:$G$152,Moves!$M$3:$M$152),ROUNDUP(VC$1/2,0)) -> #VALUE! | VG2: =INDEX(IF(MOD(VG$1,2),Moves!$G$3:$G$152,Moves!$M$3:$M$152),ROUNDUP(VG$1/2,0)) | VK2: =INDEX(IF(MOD(VK$1,2),Moves!$G$3:$G$152,Moves!$M$3:$M$152),ROUNDUP(VK$1/2,0)) -> #VALUE! | VO2: =INDEX(IF(MOD(VO$1,2),Moves!$G$3:$G$152,Moves!$M$3:$M$152),ROUNDUP(VO$1/2,0)) | VS2: =INDEX(IF(MOD(VS$1,2),Moves!$G$3:$G$152,Moves!$M$3:$M$152),ROUNDUP(VS$1/2,0)) -> #VALUE! | VW2: =INDEX(IF(MOD(VW$1,2),Moves!$G$3:$G$152,Moves!$M$3:$M$152),ROUNDUP(VW$1/2,0)) | WA2: =INDEX(IF(MOD(WA$1,2),Moves!$G$3:$G$152,Moves!$M$3:$M$152),ROUNDUP(WA$1/2,0)) -> #VALUE! | WE2: =INDEX(IF(MOD(WE$1,2),Moves!$G$3:$G$152,Moves!$M$3:$M$152),ROUNDUP(WE$1/2,0)) | WI2: =INDEX(IF(MOD(WI$1,2),Moves!$G$3:$G$152,Moves!$M$3:$M$152),ROUNDUP(WI$1/2,0)) -> #VALUE! | WM2: =INDEX(IF(MOD(WM$1,2),Moves!$G$3:$G$152,Moves!$M$3:$M$152),ROUNDUP(WM$1/2,0)) | WQ2: =INDEX(IF(MOD(WQ$1,2),Moves!$G$3:$G$152,Moves!$M$3:$M$152),ROUNDUP(WQ$1/2,0)) -> #VALUE! | WU2: =INDEX(IF(MOD(WU$1,2),Moves!$G$3:$G$152,Moves!$M$3:$M$152),ROUNDUP(WU$1/2,0)) | WY2: =INDEX(IF(MOD(WY$1,2),Moves!$G$3:$G$152,Moves!$M$3:$M$152),ROUNDUP(WY$1/2,0)) -> #VALUE! | XC2: =INDEX(IF(MOD(XC$1,2),Moves!$G$3:$G$152,Moves!$M$3:$M$152),ROUNDUP(XC$1/2,0)) | XG2: =INDEX(IF(MOD(XG$1,2),Moves!$G$3:$G$152,Moves!$M$3:$M$152),ROUNDUP(XG$1/2,0)) -> #VALUE! | XK2: =INDEX(IF(MOD(XK$1,2),Moves!$G$3:$G$152,Moves!$M$3:$M$152),ROUNDUP(XK$1/2,0)) | XO2: =INDEX(IF(MOD(XO$1,2),Moves!$G$3:$G$152,Moves!$M$3:$M$152),ROUNDUP(XO$1/2,0)) -> #VALUE! | XS2: =INDEX(IF(MOD(XS$1,2),Moves!$G$3:$G$152,Moves!$M$3:$M$152),ROUNDUP(XS$1/2,0)) | XW2: =INDEX(IF(MOD(XW$1,2),Moves!$G$3:$G$152,Moves!$M$3:$M$152),ROUNDUP(XW$1/2,0)) -> #VALUE! | YA2: =INDEX(IF(MOD(YA$1,2),Moves!$G$3:$G$152,Moves!$M$3:$M$152),ROUNDUP(YA$1/2,0)) | YE2: =INDEX(IF(MOD(YE$1,2),Moves!$G$3:$G$152,Moves!$M$3:$M$152),ROUNDUP(YE$1/2,0)) -> #VALUE! | YI2: =INDEX(IF(MOD(YI$1,2),Moves!$G$3:$G$152,Moves!$M$3:$M$152),ROUNDUP(YI$1/2,0)) | YM2: =INDEX(IF(MOD(YM$1,2),Moves!$G$3:$G$152,Moves!$M$3:$M$152),ROUNDUP(YM$1/2,0)) -> #VALUE! | YQ2: =INDEX(IF(MOD(YQ$1,2),Moves!$G$3:$G$152,Moves!$M$3:$M$152),ROUNDUP(YQ$1/2,0)) | YU2: =INDEX(IF(MOD(YU$1,2),Moves!$G$3:$G$152,Moves!$M$3:$M$152),ROUNDUP(YU$1/2,0)) -> #VALUE! | YY2: =INDEX(IF(MOD(YY$1,2),Moves!$G$3:$G$152,Moves!$M$3:$M$152),ROUNDUP(YY$1/2,0)) | ZC2: =INDEX(IF(MOD(ZC$1,2),Moves!$G$3:$G$152,Moves!$M$3:$M$152),ROUNDUP(ZC$1/2,0)) -> #VALUE! | ZG2: =INDEX(IF(MOD(ZG$1,2),Moves!$G$3:$G$152,Moves!$M$3:$M$152),ROUNDUP(ZG$1/2,0)) | ZK2: =INDEX(IF(MOD(ZK$1,2),Moves!$G$3:$G$152,Moves!$M$3:$M$152),ROUNDUP(ZK$1/2,0)) -> #VALUE! | ZO2: =INDEX(IF(MOD(ZO$1,2),Moves!$G$3:$G$152,Moves!$M$3:$M$152),ROUNDUP(ZO$1/2,0)) | ZS2: =INDEX(IF(MOD(ZS$1,2),Moves!$G$3:$G$152,Moves!$M$3:$M$152),ROUNDUP(ZS$1/2,0)) -> #VALUE! | ZW2: =INDEX(IF(MOD(ZW$1,2),Moves!$G$3:$G$152,Moves!$M$3:$M$152),ROUNDUP(ZW$1/2,0)) | AAA2: =INDEX(IF(MOD(AAA$1,2),Moves!$G$3:$G$152,Moves!$M$3:$M$152),ROUNDUP(AAA$1/2,0)) -> #VALUE! | AAE2: =INDEX(IF(MOD(AAE$1,2),Moves!$G$3:$G$152,Moves!$M$3:$M$152),ROUNDUP(AAE$1/2,0)) | AAI2: =INDEX(IF(MOD(AAI$1,2),Moves!$G$3:$G$152,Moves!$M$3:$M$152),ROUNDUP(AAI$1/2,0)) -> #VALUE! | AAM2: =INDEX(IF(MOD(AAM$1,2),Moves!$G$3:$G$152,Moves!$M$3:$M$152),ROUNDUP(AAM$1/2,0)) | AAQ2: =INDEX(IF(MOD(AAQ$1,2),Moves!$G$3:$G$152,Moves!$M$3:$M$152),ROUNDUP(AAQ$1/2,0)) -> #VALUE! | AAU2: =INDEX(IF(MOD(AAU$1,2),Moves!$G$3:$G$152,Moves!$M$3:$M$152),ROUNDUP(AAU$1/2,0)) | AAY2: =INDEX(IF(MOD(AAY$1,2),Moves!$G$3:$G$152,Moves!$M$3:$M$152),ROUNDUP(AAY$1/2,0)) -> #VALUE! | ABC2: =INDEX(IF(MOD(ABC$1,2),Moves!$G$3:$G$152,Moves!$M$3:$M$152),ROUNDUP(ABC$1/2,0)) | ABG2: =INDEX(IF(MOD(ABG$1,2),Moves!$G$3:$G$152,Moves!$M$3:$M$152),ROUNDUP(ABG$1/2,0)) -> #VALUE! | ABK2: =INDEX(IF(MOD(ABK$1,2),Moves!$G$3:$G$152,Moves!$M$3:$M$152),ROUNDUP(ABK$1/2,0)) | ABO2: =INDEX(IF(MOD(ABO$1,2),Moves!$G$3:$G$152,Moves!$M$3:$M$152),ROUNDUP(ABO$1/2,0)) -> #VALUE! | ABS2: =INDEX(IF(MOD(ABS$1,2),Moves!$G$3:$G$152,Moves!$M$3:$M$152),ROUNDUP(ABS$1/2,0)) | ABW2: =INDEX(IF(MOD(ABW$1,2),Moves!$G$3:$G$152,Moves!$M$3:$M$152),ROUNDUP(ABW$1/2,0)) -> #VALUE! | ACA2: =INDEX(IF(MOD(ACA$1,2),Moves!$G$3:$G$152,Moves!$M$3:$M$152),ROUNDUP(ACA$1/2,0)) | ACE2: =INDEX(IF(MOD(ACE$1,2),Moves!$G$3:$G$152,Moves!$M$3:$M$152),ROUNDUP(ACE$1/2,0)) -> #VALUE! | ACI2: =INDEX(IF(MOD(ACI$1,2),Moves!$G$3:$G$152,Moves!$M$3:$M$152),ROUNDUP(ACI$1/2,0)) | ACM2: =INDEX(IF(MOD(ACM$1,2),Moves!$G$3:$G$152,Moves!$M$3:$M$152),ROUNDUP(ACM$1/2,0)) -> #VALUE! | ACQ2: =INDEX(IF(MOD(ACQ$1,2),Moves!$G$3:$G$152,Moves!$M$3:$M$152),ROUNDUP(ACQ$1/2,0)) | ACU2: =INDEX(IF(MOD(ACU$1,2),Moves!$G$3:$G$152,Moves!$M$3:$M$152),ROUNDUP(ACU$1/2,0)) -> #VALUE! | ACY2: =INDEX(IF(MOD(ACY$1,2),Moves!$G$3:$G$152,Moves!$M$3:$M$152),ROUNDUP(ACY$1/2,0)) | ADC2: =INDEX(IF(MOD(ADC$1,2),Moves!$G$3:$G$152,Moves!$M$3:$M$152),ROUNDUP(ADC$1/2,0)) -> #VALUE! | ADG2: =INDEX(IF(MOD(ADG$1,2),Moves!$G$3:$G$152,Moves!$M$3:$M$152),ROUNDUP(ADG$1/2,0)) | ADK2: =INDEX(IF(MOD(ADK$1,2),Moves!$G$3:$G$152,Moves!$M$3:$M$152),ROUNDUP(ADK$1/2,0)) -> #VALUE! | ADO2: =INDEX(IF(MOD(ADO$1,2),Moves!$G$3:$G$152,Moves!$M$3:$M$152),ROUNDUP(ADO$1/2,0)) | ADS2: =INDEX(IF(MOD(ADS$1,2),Moves!$G$3:$G$152,Moves!$M$3:$M$152),ROUNDUP(ADS$1/2,0)) -> #VALUE! | ADW2: =INDEX(IF(MOD(ADW$1,2),Moves!$G$3:$G$152,Moves!$M$3:$M$152),ROUNDUP(ADW$1/2,0)) | AEA2: =INDEX(IF(MOD(AEA$1,2),Moves!$G$3:$G$152,Moves!$M$3:$M$152),ROUNDUP(AEA$1/2,0)) -> #VALUE! | AEE2: =INDEX(IF(MOD(AEE$1,2),Moves!$G$3:$G$152,Moves!$M$3:$M$152),ROUNDUP(AEE$1/2,0)) | AEI2: =INDEX(IF(MOD(AEI$1,2),Moves!$G$3:$G$152,Moves!$M$3:$M$152),ROUNDUP(AEI$1/2,0)) -> #VALUE! | AEM2: =INDEX(IF(MOD(AEM$1,2),Moves!$G$3:$G$152,Moves!$M$3:$M$152),ROUNDUP(AEM$1/2,0)) | AEQ2: =INDEX(IF(MOD(AEQ$1,2),Moves!$G$3:$G$152,Moves!$M$3:$M$152),ROUNDUP(AEQ$1/2,0)) -> #VALUE! | AEU2: =INDEX(IF(MOD(AEU$1,2),Moves!$G$3:$G$152,Moves!$M$3:$M$152),ROUNDUP(AEU$1/2,0)) | AEY2: =INDEX(IF(MOD(AEY$1,2),Moves!$G$3:$G$152,Moves!$M$3:$M$152),ROUNDUP(AEY$1/2,0)) -> #VALUE! | AFC2: =INDEX(IF(MOD(AFC$1,2),Moves!$G$3:$G$152,Moves!$M$3:$M$152),ROUNDUP(AFC$1/2,0)) | AFG2: =INDEX(IF(MOD(AFG$1,2),Moves!$G$3:$G$152,Moves!$M$3:$M$152),ROUNDUP(AFG$1/2,0)) -> #VALUE! | AFK2: =INDEX(IF(MOD(AFK$1,2),Moves!$G$3:$G$152,Moves!$M$3:$M$152),ROUNDUP(AFK$1/2,0)) | AFO2: =INDEX(IF(MOD(AFO$1,2),Moves!$G$3:$G$152,Moves!$M$3:$M$152),ROUNDUP(AFO$1/2,0)) -> #VALUE! | AFS2: =INDEX(IF(MOD(AFS$1,2),Moves!$G$3:$G$152,Moves!$M$3:$M$152),ROUNDUP(AFS$1/2,0)) | AFW2: =INDEX(IF(MOD(AFW$1,2),Moves!$G$3:$G$152,Moves!$M$3:$M$152),ROUNDUP(AFW$1/2,0)) -> #VALUE! | AGA2: =INDEX(IF(MOD(AGA$1,2),Moves!$G$3:$G$152,Moves!$M$3:$M$152),ROUNDUP(AGA$1/2,0)) | AGE2: =INDEX(IF(MOD(AGE$1,2),Moves!$G$3:$G$152,Moves!$M$3:$M$152),ROUNDUP(AGE$1/2,0)) -> #VALUE! | AGI2: =INDEX(IF(MOD(AGI$1,2),Moves!$G$3:$G$152,Moves!$M$3:$M$152),ROUNDUP(AGI$1/2,0)) | AGM2: =INDEX(IF(MOD(AGM$1,2),Moves!$G$3:$G$152,Moves!$M$3:$M$152),ROUNDUP(AGM$1/2,0)) -> #VALUE! | AGQ2: =INDEX(IF(MOD(AGQ$1,2),Moves!$G$3:$G$152,Moves!$M$3:$M$152),ROUNDUP(AGQ$1/2,0)) | AGU2: =INDEX(IF(MOD(AGU$1,2),Moves!$G$3:$G$152,Moves!$M$3:$M$152),ROUNDUP(AGU$1/2,0)) -> #VALUE! | AGY2: =INDEX(IF(MOD(AGY$1,2),Moves!$G$3:$G$152,Moves!$M$3:$M$152),ROUNDUP(AGY$1/2,0)) | AHC2: =INDEX(IF(MOD(AHC$1,2),Moves!$G$3:$G$152,Moves!$M$3:$M$152),ROUNDUP(AHC$1/2,0)) -> #VALUE! | AHG2: =INDEX(IF(MOD(AHG$1,2),Moves!$G$3:$G$152,Moves!$M$3:$M$152),ROUNDUP(AHG$1/2,0)) | AHK2: =INDEX(IF(MOD(AHK$1,2),Moves!$G$3:$G$152,Moves!$M$3:$M$152),ROUNDUP(AHK$1/2,0)) -> #VALUE! | AHO2: =INDEX(IF(MOD(AHO$1,2),Moves!$G$3:$G$152,Moves!$M$3:$M$152),ROUNDUP(AHO$1/2,0)) | AHS2: =INDEX(IF(MOD(AHS$1,2),Moves!$G$3:$G$152,Moves!$M$3:$M$152),ROUNDUP(AHS$1/2,0)) -> #VALUE! | AHW2: =INDEX(IF(MOD(AHW$1,2),Moves!$G$3:$G$152,Moves!$M$3:$M$152),ROUNDUP(AHW$1/2,0)) | AIA2: =INDEX(IF(MOD(AIA$1,2),Moves!$G$3:$G$152,Moves!$M$3:$M$152),ROUNDUP(AIA$1/2,0)) -> #VALUE! | AIE2: =INDEX(IF(MOD(AIE$1,2),Moves!$G$3:$G$152,Moves!$M$3:$M$152),ROUNDUP(AIE$1/2,0)) | AII2: =INDEX(IF(MOD(AII$1,2),Moves!$G$3:$G$152,Moves!$M$3:$M$152),ROUNDUP(AII$1/2,0)) -> #VALUE! | AIM2: =INDEX(IF(MOD(AIM$1,2),Moves!$G$3:$G$152,Moves!$M$3:$M$152),ROUNDUP(AIM$1/2,0)) | AIQ2: =INDEX(IF(MOD(AIQ$1,2),Moves!$G$3:$G$152,Moves!$M$3:$M$152),ROUNDUP(AIQ$1/2,0)) -> #VALUE! | AIU2: =INDEX(IF(MOD(AIU$1,2),Moves!$G$3:$G$152,Moves!$M$3:$M$152),ROUNDUP(AIU$1/2,0)) | AIY2: =INDEX(IF(MOD(AIY$1,2),Moves!$G$3:$G$152,Moves!$M$3:$M$152),ROUNDUP(AIY$1/2,0)) -> #VALUE! | AJC2: =INDEX(IF(MOD(AJC$1,2),Moves!$G$3:$G$152,Moves!$M$3:$M$152),ROUNDUP(AJC$1/2,0)) | AJG2: =INDEX(IF(MOD(AJG$1,2),Moves!$G$3:$G$152,Moves!$M$3:$M$152),ROUNDUP(AJG$1/2,0)) -> #VALUE! | AJK2: =INDEX(IF(MOD(AJK$1,2),Moves!$G$3:$G$152,Moves!$M$3:$M$152),ROUNDUP(AJK$1/2,0)) | AJO2: =INDEX(IF(MOD(AJO$1,2),Moves!$G$3:$G$152,Moves!$M$3:$M$152),ROUNDUP(AJO$1/2,0)) -> #VALUE! | AJS2: =INDEX(IF(MOD(AJS$1,2),Moves!$G$3:$G$152,Moves!$M$3:$M$152),ROUNDUP(AJS$1/2,0)) | AJW2: =INDEX(IF(MOD(AJW$1,2),Moves!$G$3:$G$152,Moves!$M$3:$M$152),ROUNDUP(AJW$1/2,0)) -> #VALUE! | AKA2: =INDEX(IF(MOD(AKA$1,2),Moves!$G$3:$G$152,Moves!$M$3:$M$152),ROUNDUP(AKA$1/2,0)) | AKE2: =INDEX(IF(MOD(AKE$1,2),Moves!$G$3:$G$152,Moves!$M$3:$M$152),ROUNDUP(AKE$1/2,0)) -> #VALUE! | AKI2: =INDEX(IF(MOD(AKI$1,2),Moves!$G$3:$G$152,Moves!$M$3:$M$152),ROUNDUP(AKI$1/2,0)) | AKM2: =INDEX(IF(MOD(AKM$1,2),Moves!$G$3:$G$152,Moves!$M$3:$M$152),ROUNDUP(AKM$1/2,0)) -> #VALUE! | AKQ2: =INDEX(IF(MOD(AKQ$1,2),Moves!$G$3:$G$152,Moves!$M$3:$M$152),ROUNDUP(AKQ$1/2,0)) | AKU2: =INDEX(IF(MOD(AKU$1,2),Moves!$G$3:$G$152,Moves!$M$3:$M$152),ROUNDUP(AKU$1/2,0)) -> #VALUE! | AKY2: =INDEX(IF(MOD(AKY$1,2),Moves!$G$3:$G$152,Moves!$M$3:$M$152),ROUNDUP(AKY$1/2,0)) | ALC2: =INDEX(IF(MOD(ALC$1,2),Moves!$G$3:$G$152,Moves!$M$3:$M$152),ROUNDUP(ALC$1/2,0)) -> #VALUE! | ALG2: =INDEX(IF(MOD(ALG$1,2),Moves!$G$3:$G$152,Moves!$M$3:$M$152),ROUNDUP(ALG$1/2,0)) | ALK2: =INDEX(IF(MOD(ALK$1,2),Moves!$G$3:$G$152,Moves!$M$3:$M$152),ROUNDUP(ALK$1/2,0)) -> #VALUE! | ALO2: =INDEX(IF(MOD(ALO$1,2),Moves!$G$3:$G$152,Moves!$M$3:$M$152),ROUNDUP(ALO$1/2,0)) | ALS2: =INDEX(IF(MOD(ALS$1,2),Moves!$G$3:$G$152,Moves!$M$3:$M$152),ROUNDUP(ALS$1/2,0)) -> #VALUE! | ALW2: =INDEX(IF(MOD(ALW$1,2),Moves!$G$3:$G$152,Moves!$M$3:$M$152),ROUNDUP(ALW$1/2,0)) | AMA2: =INDEX(IF(MOD(AMA$1,2),Moves!$G$3:$G$152,Moves!$M$3:$M$152),ROUNDUP(AMA$1/2,0)) -> #VALUE! | AME2: =INDEX(IF(MOD(AME$1,2),Moves!$G$3:$G$152,Moves!$M$3:$M$152),ROUNDUP(AME$1/2,0)) | AMI2: =INDEX(IF(MOD(AMI$1,2),Moves!$G$3:$G$152,Moves!$M$3:$M$152),ROUNDUP(AMI$1/2,0)) -> #VALUE! | AMM2: =INDEX(IF(MOD(AMM$1,2),Moves!$G$3:$G$152,Moves!$M$3:$M$152),ROUNDUP(AMM$1/2,0)) | AMQ2: =INDEX(IF(MOD(AMQ$1,2),Moves!$G$3:$G$152,Moves!$M$3:$M$152),ROUNDUP(AMQ$1/2,0)) -> #VALUE! | AMU2: =INDEX(IF(MOD(AMU$1,2),Moves!$G$3:$G$152,Moves!$M$3:$M$152),ROUNDUP(AMU$1/2,0)) | AMY2: =INDEX(IF(MOD(AMY$1,2),Moves!$G$3:$G$152,Moves!$M$3:$M$152),ROUNDUP(AMY$1/2,0)) -> #VALUE! | ANC2: =INDEX(IF(MOD(ANC$1,2),Moves!$G$3:$G$152,Moves!$M$3:$M$152),ROUNDUP(ANC$1/2,0)) | ANG2: =INDEX(IF(MOD(ANG$1,2),Moves!$G$3:$G$152,Moves!$M$3:$M$152),ROUNDUP(ANG$1/2,0)) -> #VALUE! | ANK2: =INDEX(IF(MOD(ANK$1,2),Moves!$G$3:$G$152,Moves!$M$3:$M$152),ROUNDUP(ANK$1/2,0)) | ANO2: =INDEX(IF(MOD(ANO$1,2),Moves!$G$3:$G$152,Moves!$M$3:$M$152),ROUNDUP(ANO$1/2,0)) -> #VALUE! | ANS2: =INDEX(IF(MOD(ANS$1,2),Moves!$G$3:$G$152,Moves!$M$3:$M$152),ROUNDUP(ANS$1/2,0)) | ANW2: =INDEX(IF(MOD(ANW$1,2),Moves!$G$3:$G$152,Moves!$M$3:$M$152),ROUNDUP(ANW$1/2,0)) -> #VALUE! | AOA2: =INDEX(IF(MOD(AOA$1,2),Moves!$G$3:$G$152,Moves!$M$3:$M$152),ROUNDUP(AOA$1/2,0)) | AOE2: =INDEX(IF(MOD(AOE$1,2),Moves!$G$3:$G$152,Moves!$M$3:$M$152),ROUNDUP(AOE$1/2,0)) -> #VALUE! | AOI2: =INDEX(IF(MOD(AOI$1,2),Moves!$G$3:$G$152,Moves!$M$3:$M$152),ROUNDUP(AOI$1/2,0)) | AOM2: =INDEX(IF(MOD(AOM$1,2),Moves!$G$3:$G$152,Moves!$M$3:$M$152),ROUNDUP(AOM$1/2,0)) -> #VALUE! | AOQ2: =INDEX(IF(MOD(AOQ$1,2),Moves!$G$3:$G$152,Moves!$M$3:$M$152),ROUNDUP(AOQ$1/2,0)) | AOU2: =INDEX(IF(MOD(AOU$1,2),Moves!$G$3:$G$152,Moves!$M$3:$M$152),ROUNDUP(AOU$1/2,0)) -> #VALUE! | AOY2: =INDEX(IF(MOD(AOY$1,2),Moves!$G$3:$G$152,Moves!$M$3:$M$152),ROUNDUP(AOY$1/2,0)) | APC2: =INDEX(IF(MOD(APC$1,2),Moves!$G$3:$G$152,Moves!$M$3:$M$152),ROUNDUP(APC$1/2,0)) -> #VALUE! | APG2: =INDEX(IF(MOD(APG$1,2),Moves!$G$3:$G$152,Moves!$M$3:$M$152),ROUNDUP(APG$1/2,0)) | APK2: =INDEX(IF(MOD(APK$1,2),Moves!$G$3:$G$152,Moves!$M$3:$M$152),ROUNDUP(APK$1/2,0)) -> #VALUE! | APO2: =INDEX(IF(MOD(APO$1,2),Moves!$G$3:$G$152,Moves!$M$3:$M$152),ROUNDUP(APO$1/2,0)) | APS2: =INDEX(IF(MOD(APS$1,2),Moves!$G$3:$G$152,Moves!$M$3:$M$152),ROUNDUP(APS$1/2,0)) -> #VALUE! | APW2: =INDEX(IF(MOD(APW$1,2),Moves!$G$3:$G$152,Moves!$M$3:$M$152),ROUNDUP(APW$1/2,0)) | AQA2: =INDEX(IF(MOD(AQA$1,2),Moves!$G$3:$G$152,Moves!$M$3:$M$152),ROUNDUP(AQA$1/2,0)) -> #VALUE! | AQE2: =INDEX(IF(MOD(AQE$1,2),Moves!$G$3:$G$152,Moves!$M$3:$M$152),ROUNDUP(AQE$1/2,0)) | AQI2: =INDEX(IF(MOD(AQI$1,2),Moves!$G$3:$G$152,Moves!$M$3:$M$152),ROUNDUP(AQI$1/2,0)) -> #VALUE! | AQM2: =INDEX(IF(MOD(AQM$1,2),Moves!$G$3:$G$152,Moves!$M$3:$M$152),ROUNDUP(AQM$1/2,0)) | AQQ2: =INDEX(IF(MOD(AQQ$1,2),Moves!$G$3:$G$152,Moves!$M$3:$M$152),ROUNDUP(AQQ$1/2,0)) -> #VALUE! | AQU2: =INDEX(IF(MOD(AQU$1,2),Moves!$G$3:$G$152,Moves!$M$3:$M$152),ROUNDUP(AQU$1/2,0)) | AQY2: =INDEX(IF(MOD(AQY$1,2),Moves!$G$3:$G$152,Moves!$M$3:$M$152),ROUNDUP(AQY$1/2,0)) -> #VALUE! | ARC2: =INDEX(IF(MOD(ARC$1,2),Moves!$G$3:$G$152,Moves!$M$3:$M$152),ROUNDUP(ARC$1/2,0)) | ARG2: =INDEX(IF(MOD(ARG$1,2),Moves!$G$3:$G$152,Moves!$M$3:$M$152),ROUNDUP(ARG$1/2,0)) -> #VALUE! | ARK2: =INDEX(IF(MOD(ARK$1,2),Moves!$G$3:$G$152,Moves!$M$3:$M$152),ROUNDUP(ARK$1/2,0)) | ARO2: =INDEX(IF(MOD(ARO$1,2),Moves!$G$3:$G$152,Moves!$M$3:$M$152),ROUNDUP(ARO$1/2,0)) -> #VALUE! | ARS2: =INDEX(IF(MOD(ARS$1,2),Moves!$G$3:$G$152,Moves!$M$3:$M$152),ROUNDUP(ARS$1/2,0)) | ARW2: =INDEX(IF(MOD(ARW$1,2),Moves!$G$3:$G$152,Moves!$M$3:$M$152),ROUNDUP(ARW$1/2,0)) -> #VALUE! | ASA2: =INDEX(IF(MOD(ASA$1,2),Moves!$G$3:$G$152,Moves!$M$3:$M$152),ROUNDUP(ASA$1/2,0)) | ASE2: =INDEX(IF(MOD(ASE$1,2),Moves!$G$3:$G$152,Moves!$M$3:$M$152),ROUNDUP(ASE$1/2,0)) -> #VALUE! | ASI2: =INDEX(IF(MOD(ASI$1,2),Moves!$G$3:$G$152,Moves!$M$3:$M$152),ROUNDUP(ASI$1/2,0)) | ASM2: =INDEX(IF(MOD(ASM$1,2),Moves!$G$3:$G$152,Moves!$M$3:$M$152),ROUNDUP(ASM$1/2,0)) -> #VALUE! | ASQ2: =INDEX(IF(MOD(ASQ$1,2),Moves!$G$3:$G$152,Moves!$M$3:$M$152),ROUNDUP(ASQ$1/2,0)) | ASU2: =INDEX(IF(MOD(ASU$1,2),Moves!$G$3:$G$152,Moves!$M$3:$M$152),ROUNDUP(ASU$1/2,0)) -> #VALUE! | ASY2: =INDEX(IF(MOD(ASY$1,2),Moves!$G$3:$G$152,Moves!$M$3:$M$152),ROUNDUP(ASY$1/2,0)) | ATC2: =INDEX(IF(MOD(ATC$1,2),Moves!$G$3:$G$152,Moves!$M$3:$M$152),ROUNDUP(ATC$1/2,0)) -> #VALUE! | ATG2: =INDEX(IF(MOD(ATG$1,2),Moves!$G$3:$G$152,Moves!$M$3:$M$152),ROUNDUP(ATG$1/2,0))
B3: X | G3: =INDEX(IF(MOD(G$1,2),Moves!$H$3:$H$152,Moves!$N$3:$N$152),ROUNDUP(G$1/2,0)) -> 5 | K3: =INDEX(IF(MOD(K$1,2),Moves!$H$3:$H$152,Moves!$N$3:$N$152),ROUNDUP(K$1/2,0)) -> 3 | O3: =INDEX(IF(MOD(O$1,2),Moves!$H$3:$H$152,Moves!$N$3:$N$152),ROUNDUP(O$1/2,0)) -> 6 | S3: =INDEX(IF(MOD(S$1,2),Moves!$H$3:$H$152,Moves!$N$3:$N$152),ROUNDUP(S$1/2,0)) -> 5 | W3: =INDEX(IF(MOD(W$1,2),Moves!$H$3:$H$152,Moves!$N$3:$N$152),ROUNDUP(W$1/2,0)) -> 7 | AA3: =INDEX(IF(MOD(AA$1,2),Moves!$H$3:$H$152,Moves!$N$3:$N$152),ROUNDUP(AA$1/2,0)) -> 3 | AE3: =INDEX(IF(MOD(AE$1,2),Moves!$H$3:$H$152,Moves!$N$3:$N$152),ROUNDUP(AE$1/2,0)) -> 7 | AI3: =INDEX(IF(MOD(AI$1,2),Moves!$H$3:$H$152,Moves!$N$3:$N$152),ROUNDUP(AI$1/2,0)) -> 4 | AM3: =INDEX(IF(MOD(AM$1,2),Moves!$H$3:$H$152,Moves!$N$3:$N$152),ROUNDUP(AM$1/2,0)) -> 4 | AQ3: =INDEX(IF(MOD(AQ$1,2),Moves!$H$3:$H$152,Moves!$N$3:$N$152),ROUNDUP(AQ$1/2,0)) -> 4 | AU3: =INDEX(IF(MOD(AU$1,2),Moves!$H$3:$H$152,Moves!$N$3:$N$152),ROUNDUP(AU$1/2,0)) -> 86 | AY3: =INDEX(IF(MOD(AY$1,2),Moves!$H$3:$H$152,Moves!$N$3:$N$152),ROUNDUP(AY$1/2,0)) -> 6 | BC3: =INDEX(IF(MOD(BC$1,2),Moves!$H$3:$H$152,Moves!$N$3:$N$152),ROUNDUP(BC$1/2,0)) -> 4 | BG3: =INDEX(IF(MOD(BG$1,2),Moves!$H$3:$H$152,Moves!$N$3:$N$152),ROUNDUP(BG$1/2,0)) -> 5 | BK3: =INDEX(IF(MOD(BK$1,2),Moves!$H$3:$H$152,Moves!$N$3:$N$152),ROUNDUP(BK$1/2,0)) -> 5 | BO3: =INDEX(IF(MOD(BO$1,2),Moves!$H$3:$H$152,Moves!$N$3:$N$152),ROUNDUP(BO$1/2,0)) -> 4 | BS3: =INDEX(IF(MOD(BS$1,2),Moves!$H$3:$H$152,Moves!$N$3:$N$152),ROUNDUP(BS$1/2,0)) -> 4 | BW3: =INDEX(IF(MOD(BW$1,2),Moves!$H$3:$H$152,Moves!$N$3:$N$152),ROUNDUP(BW$1/2,0)) -> 7 | CA3: =INDEX(IF(MOD(CA$1,2),Moves!$H$3:$H$152,Moves!$N$3:$N$152),ROUNDUP(CA$1/2,0)) -> 4 | CE3: =INDEX(IF(MOD(CE$1,2),Moves!$H$3:$H$152,Moves!$N$3:$N$152),ROUNDUP(CE$1/2,0)) -> 4 | CI3: =INDEX(IF(MOD(CI$1,2),Moves!$H$3:$H$152,Moves!$N$3:$N$152),ROUNDUP(CI$1/2,0)) -> 4 | CM3: =INDEX(IF(MOD(CM$1,2),Moves!$H$3:$H$152,Moves!$N$3:$N$152),ROUNDUP(CM$1/2,0)) -> 86 | CQ3: =INDEX(IF(MOD(CQ$1,2),Moves!$H$3:$H$152,Moves!$N$3:$N$152),ROUNDUP(CQ$1/2,0)) -> 6 | CU3: =INDEX(IF(MOD(CU$1,2),Moves!$H$3:$H$152,Moves!$N$3:$N$152),ROUNDUP(CU$1/2,0)) -> 5 | CY3: =INDEX(IF(MOD(CY$1,2),Moves!$H$3:$H$152,Moves!$N$3:$N$152),ROUNDUP(CY$1/2,0)) -> 5 | DC3: =INDEX(IF(MOD(DC$1,2),Moves!$H$3:$H$152,Moves!$N$3:$N$152),ROUNDUP(DC$1/2,0)) -> 4 | DG3: =INDEX(IF(MOD(DG$1,2),Moves!$H$3:$H$152,Moves!$N$3:$N$152),ROUNDUP(DG$1/2,0)) -> 3 | DK3: =INDEX(IF(MOD(DK$1,2),Moves!$H$3:$H$152,Moves!$N$3:$N$152),ROUNDUP(DK$1/2,0)) -> 8 | DO3: =INDEX(IF(MOD(DO$1,2),Moves!$H$3:$H$152,Moves!$N$3:$N$152),ROUNDUP(DO$1/2,0)) -> 6 | DS3: =INDEX(IF(MOD(DS$1,2),Moves!$H$3:$H$152,Moves!$N$3:$N$152),ROUNDUP(DS$1/2,0)) -> 8 | DW3: =INDEX(IF(MOD(DW$1,2),Moves!$H$3:$H$152,Moves!$N$3:$N$152),ROUNDUP(DW$1/2,0)) -> 8 | EA3: =INDEX(IF(MOD(EA$1,2),Moves!$H$3:$H$152,Moves!$N$3:$N$152),ROUNDUP(EA$1/2,0)) -> 7 | EE3: =INDEX(IF(MOD(EE$1,2),Moves!$H$3:$H$152,Moves!$N$3:$N$152),ROUNDUP(EE$1/2,0)) -> 4 | EI3: =INDEX(IF(MOD(EI$1,2),Moves!$H$3:$H$152,Moves!$N$3:$N$152),ROUNDUP(EI$1/2,0)) -> 4 | EM3: =INDEX(IF(MOD(EM$1,2),Moves!$H$3:$H$152,Moves!$N$3:$N$152),ROUNDUP(EM$1/2,0)) -> 3 | EQ3: =INDEX(IF(MOD(EQ$1,2),Moves!$H$3:$H$152,Moves!$N$3:$N$152),ROUNDUP(EQ$1/2,0)) -> 3 | EU3: =INDEX(IF(MOD(EU$1,2),Moves!$H$3:$H$152,Moves!$N$3:$N$152),ROUNDUP(EU$1/2,0)) -> 3 | EY3: =INDEX(IF(MOD(EY$1,2),Moves!$H$3:$H$152,Moves!$N$3:$N$152),ROUNDUP(EY$1/2,0)) -> 5 | FC3: =INDEX(IF(MOD(FC$1,2),Moves!$H$3:$H$152,Moves!$N$3:$N$152),ROUNDUP(FC$1/2,0)) -> 4 | FG3: =INDEX(IF(MOD(FG$1,2),Moves!$H$3:$H$152,Moves!$N$3:$N$152),ROUNDUP(FG$1/2,0)) -> 8 | FK3: =INDEX(IF(MOD(FK$1,2),Moves!$H$3:$H$152,Moves!$N$3:$N$152),ROUNDUP(FK$1/2,0)) -> 4 | FO3: =INDEX(IF(MOD(FO$1,2),Moves!$H$3:$H$152,Moves!$N$3:$N$152),ROUNDUP(FO$1/2,0)) -> 4 | FS3: =INDEX(IF(MOD(FS$1,2),Moves!$H$3:$H$152,Moves!$N$3:$N$152),ROUNDUP(FS$1/2,0)) -> 5 | FW3: =INDEX(IF(MOD(FW$1,2),Moves!$H$3:$H$152,Moves!$N$3:$N$152),ROUNDUP(FW$1/2,0)) -> 5 | GA3: =INDEX(IF(MOD(GA$1,2),Moves!$H$3:$H$152,Moves!$N$3:$N$152),ROUNDUP(GA$1/2,0)) -> 4 | GE3: =INDEX(IF(MOD(GE$1,2),Moves!$H$3:$H$152,Moves!$N$3:$N$152),ROUNDUP(GE$1/2,0)) -> 6 | GI3: =INDEX(IF(MOD(GI$1,2),Moves!$H$3:$H$152,Moves!$N$3:$N$152),ROUNDUP(GI$1/2,0)) -> 8 | GM3: =INDEX(IF(MOD(GM$1,2),Moves!$H$3:$H$152,Moves!$N$3:$N$152),ROUNDUP(GM$1/2,0)) -> 5 | GQ3: =INDEX(IF(MOD(GQ$1,2),Moves!$H$3:$H$152,Moves!$N$3:$N$152),ROUNDUP(GQ$1/2,0)) -> 4 | GU3: =INDEX(IF(MOD(GU$1,2),Moves!$H$3:$H$152,Moves!$N$3:$N$152),ROUNDUP(GU$1/2,0)) -> 4 | GY3: =INDEX(IF(MOD(GY$1,2),Moves!$H$3:$H$152,Moves!$N$3:$N$152),ROUNDUP(GY$1/2,0)) -> 5 | HC3: =INDEX(IF(MOD(HC$1,2),Moves!$H$3:$H$152,Moves!$N$3:$N$152),ROUNDUP(HC$1/2,0)) -> 5 | HG3: =INDEX(IF(MOD(HG$1,2),Moves!$H$3:$H$152,Moves!$N$3:$N$152),ROUNDUP(HG$1/2,0)) -> 2 | HK3: =INDEX(IF(MOD(HK$1,2),Moves!$H$3:$H$152,Moves!$N$3:$N$152),ROUNDUP(HK$1/2,0)) -> 5 | HO3: =INDEX(IF(MOD(HO$1,2),Moves!$H$3:$H$152,Moves!$N$3:$N$152),ROUNDUP(HO$1/2,0)) -> 6 | HS3: =INDEX(IF(MOD(HS$1,2),Moves!$H$3:$H$152,Moves!$N$3:$N$152),ROUNDUP(HS$1/2,0)) -> 6 | HW3: =INDEX(IF(MOD(HW$1,2),Moves!$H$3:$H$152,Moves!$N$3:$N$152),ROUNDUP(HW$1/2,0)) -> 7 | IA3: =INDEX(IF(MOD(IA$1,2),Moves!$H$3:$H$152,Moves!$N$3:$N$152),ROUNDUP(IA$1/2,0)) -> 4 | IE3: =INDEX(IF(MOD(IE$1,2),Moves!$H$3:$H$152,Moves!$N$3:$N$152),ROUNDUP(IE$1/2,0)) -> 5 | II3: =INDEX(IF(MOD(II$1,2),Moves!$H$3:$H$152,Moves!$N$3:$N$152),ROUNDUP(II$1/2,0)) -> 4 | IM3: =INDEX(IF(MOD(IM$1,2),Moves!$H$3:$H$152,Moves!$N$3:$N$152),ROUNDUP(IM$1/2,0)) -> 4 | IQ3: =INDEX(IF(MOD(IQ$1,2),Moves!$H$3:$H$152,Moves!$N$3:$N$152),ROUNDUP(IQ$1/2,0)) -> 4 | IU3: =INDEX(IF(MOD(IU$1,2),Moves!$H$3:$H$152,Moves!$N$3:$N$152),ROUNDUP(IU$1/2,0)) -> 5 | IY3: =INDEX(IF(MOD(IY$1,2),Moves!$H$3:$H$152,Moves!$N$3:$N$152),ROUNDUP(IY$1/2,0)) -> 6 | JC3: =INDEX(IF(MOD(JC$1,2),Moves!$H$3:$H$152,Moves!$N$3:$N$152),ROUNDUP(JC$1/2,0)) -> 4 | JG3: =INDEX(IF(MOD(JG$1,2),Moves!$H$3:$H$152,Moves!$N$3:$N$152),ROUNDUP(JG$1/2,0)) -> 4 | JK3: =INDEX(IF(MOD(JK$1,2),Moves!$H$3:$H$152,Moves!$N$3:$N$152),ROUNDUP(JK$1/2,0)) -> 7 | JO3: =INDEX(IF(MOD(JO$1,2),Moves!$H$3:$H$152,Moves!$N$3:$N$152),ROUNDUP(JO$1/2,0)) -> 4 | JS3: =INDEX(IF(MOD(JS$1,2),Moves!$H$3:$H$152,Moves!$N$3:$N$152),ROUNDUP(JS$1/2,0)) -> 5 | JW3: =INDEX(IF(MOD(JW$1,2),Moves!$H$3:$H$152,Moves!$N$3:$N$152),ROUNDUP(JW$1/2,0)) -> 5 | KA3: =INDEX(IF(MOD(KA$1,2),Moves!$H$3:$H$152,Moves!$N$3:$N$152),ROUNDUP(KA$1/2,0)) -> 7 | KE3: =INDEX(IF(MOD(KE$1,2),Moves!$H$3:$H$152,Moves!$N$3:$N$152),ROUNDUP(KE$1/2,0)) -> 2 | KI3: =INDEX(IF(MOD(KI$1,2),Moves!$H$3:$H$152,Moves!$N$3:$N$152),ROUNDUP(KI$1/2,0)) -> 6 | KM3: =INDEX(IF(MOD(KM$1,2),Moves!$H$3:$H$152,Moves!$N$3:$N$152),ROUNDUP(KM$1/2,0)) -> 6 | KQ3: =INDEX(IF(MOD(KQ$1,2),Moves!$H$3:$H$152,Moves!$N$3:$N$152),ROUNDUP(KQ$1/2,0)) -> 6 | KU3: =INDEX(IF(MOD(KU$1,2),Moves!$H$3:$H$152,Moves!$N$3:$N$152),ROUNDUP(KU$1/2,0)) -> 2 | KY3: =INDEX(IF(MOD(KY$1,2),Moves!$H$3:$H$152,Moves!$N$3:$N$152),ROUNDUP(KY$1/2,0)) -> 6 | LC3: =INDEX(IF(MOD(LC$1,2),Moves!$H$3:$H$152,Moves!$N$3:$N$152),ROUNDUP(LC$1/2,0)) -> 4 | LG3: =INDEX(IF(MOD(LG$1,2),Moves!$H$3:$H$152,Moves!$N$3:$N$152),ROUNDUP(LG$1/2,0)) -> 5 | LK3: =INDEX(IF(MOD(LK$1,2),Moves!$H$3:$H$152,Moves!$N$3:$N$152),ROUNDUP(LK$1/2,0)) -> 8 | LO3: =INDEX(IF(MOD(LO$1,2),Moves!$H$3:$H$152,Moves!$N$3:$N$152),ROUNDUP(LO$1/2,0)) -> 6 | LS3: =INDEX(IF(MOD(LS$1,2),Moves!$H$3:$H$152,Moves!$N$3:$N$152),ROUNDUP(LS$1/2,0)) -> 4 | LW3: =INDEX(IF(MOD(LW$1,2),Moves!$H$3:$H$152,Moves!$N$3:$N$152),ROUNDUP(LW$1/2,0)) -> 6 | MA3: =INDEX(IF(MOD(MA$1,2),Moves!$H$3:$H$152,Moves!$N$3:$N$152),ROUNDUP(MA$1/2,0)) -> 8 | ME3: =INDEX(IF(MOD(ME$1,2),Moves!$H$3:$H$152,Moves!$N$3:$N$152),ROUNDUP(ME$1/2,0)) -> 8 | MI3: =INDEX(IF(MOD(MI$1,2),Moves!$H$3:$H$152,Moves!$N$3:$N$152),ROUNDUP(MI$1/2,0)) -> 1 | MM3: =INDEX(IF(MOD(MM$1,2),Moves!$H$3:$H$152,Moves!$N$3:$N$152),ROUNDUP(MM$1/2,0)) -> 5 | MQ3: =INDEX(IF(MOD(MQ$1,2),Moves!$H$3:$H$152,Moves!$N$3:$N$152),ROUNDUP(MQ$1/2,0)) -> 4 | MU3: =INDEX(IF(MOD(MU$1,2),Moves!$H$3:$H$152,Moves!$N$3:$N$152),ROUNDUP(MU$1/2,0)) -> 5 | MY3: =INDEX(IF(MOD(MY$1,2),Moves!$H$3:$H$152,Moves!$N$3:$N$152),ROUNDUP(MY$1/2,0)) -> 8 | NC3: =INDEX(IF(MOD(NC$1,2),Moves!$H$3:$H$152,Moves!$N$3:$N$152),ROUNDUP(NC$1/2,0)) -> 5 | NG3: =INDEX(IF(MOD(NG$1,2),Moves!$H$3:$H$152,Moves!$N$3:$N$152),ROUNDUP(NG$1/2,0)) -> 8 | NK3: =INDEX(IF(MOD(NK$1,2),Moves!$H$3:$H$152,Moves!$N$3:$N$152),ROUNDUP(NK$1/2,0)) -> 5 | NO3: =INDEX(IF(MOD(NO$1,2),Moves!$H$3:$H$152,Moves!$N$3:$N$152),ROUNDUP(NO$1/2,0)) -> 8 | NS3: =INDEX(IF(MOD(NS$1,2),Moves!$H$3:$H$152,Moves!$N$3:$N$152),ROUNDUP(NS$1/2,0)) -> #VALUE! | NW3: =INDEX(IF(MOD(NW$1,2),Moves!$H$3:$H$152,Moves!$N$3:$N$152),ROUNDUP(NW$1/2,0)) -> #VALUE! | OA3: =INDEX(IF(MOD(OA$1,2),Moves!$H$3:$H$152,Moves!$N$3:$N$152),ROUNDUP(OA$1/2,0)) -> #VALUE! | OE3: =INDEX(IF(MOD(OE$1,2),Moves!$H$3:$H$152,Moves!$N$3:$N$152),ROUNDUP(OE$1/2,0)) -> #VALUE! | OI3: =INDEX(IF(MOD(OI$1,2),Moves!$H$3:$H$152,Moves!$N$3:$N$152),ROUNDUP(OI$1/2,0)) -> #VALUE! | OM3: =INDEX(IF(MOD(OM$1,2),Moves!$H$3:$H$152,Moves!$N$3:$N$152),ROUNDUP(OM$1/2,0)) -> #VALUE! | OQ3: =INDEX(IF(MOD(OQ$1,2),Moves!$H$3:$H$152,Moves!$N$3:$N$152),ROUNDUP(OQ$1/2,0)) -> #VALUE! | OU3: =INDEX(IF(MOD(OU$1,2),Moves!$H$3:$H$152,Moves!$N$3:$N$152),ROUNDUP(OU$1/2,0)) -> #VALUE! | OY3: =INDEX(IF(MOD(OY$1,2),Moves!$H$3:$H$152,Moves!$N$3:$N$152),ROUNDUP(OY$1/2,0)) -> #VALUE! | PC3: =INDEX(IF(MOD(PC$1,2),Moves!$H$3:$H$152,Moves!$N$3:$N$152),ROUNDUP(PC$1/2,0)) -> #VALUE! | PG3: =INDEX(IF(MOD(PG$1,2),Moves!$H$3:$H$152,Moves!$N$3:$N$152),ROUNDUP(PG$1/2,0)) -> #VALUE! | PK3: =INDEX(IF(MOD(PK$1,2),Moves!$H$3:$H$152,Moves!$N$3:$N$152),ROUNDUP(PK$1/2,0)) -> #VALUE! | PO3: =INDEX(IF(MOD(PO$1,2),Moves!$H$3:$H$152,Moves!$N$3:$N$152),ROUNDUP(PO$1/2,0)) -> #VALUE! | PS3: =INDEX(IF(MOD(PS$1,2),Moves!$H$3:$H$152,Moves!$N$3:$N$152),ROUNDUP(PS$1/2,0)) -> #VALUE! | PW3: =INDEX(IF(MOD(PW$1,2),Moves!$H$3:$H$152,Moves!$N$3:$N$152),ROUNDUP(PW$1/2,0)) -> #VALUE! | QA3: =INDEX(IF(MOD(QA$1,2),Moves!$H$3:$H$152,Moves!$N$3:$N$152),ROUNDUP(QA$1/2,0)) -> #VALUE! | QE3: =INDEX(IF(MOD(QE$1,2),Moves!$H$3:$H$152,Moves!$N$3:$N$152),ROUNDUP(QE$1/2,0)) -> #VALUE! | QI3: =INDEX(IF(MOD(QI$1,2),Moves!$H$3:$H$152,Moves!$N$3:$N$152),ROUNDUP(QI$1/2,0)) -> #VALUE! | QM3: =INDEX(IF(MOD(QM$1,2),Moves!$H$3:$H$152,Moves!$N$3:$N$152),ROUNDUP(QM$1/2,0)) -> #VALUE! | QQ3: =INDEX(IF(MOD(QQ$1,2),Moves!$H$3:$H$152,Moves!$N$3:$N$152),ROUNDUP(QQ$1/2,0)) -> #VALUE! | QU3: =INDEX(IF(MOD(QU$1,2),Moves!$H$3:$H$152,Moves!$N$3:$N$152),ROUNDUP(QU$1/2,0)) -> #VALUE! | QY3: =INDEX(IF(MOD(QY$1,2),Moves!$H$3:$H$152,Moves!$N$3:$N$152),ROUNDUP(QY$1/2,0)) -> #VALUE! | RC3: =INDEX(IF(MOD(RC$1,2),Moves!$H$3:$H$152,Moves!$N$3:$N$152),ROUNDUP(RC$1/2,0)) -> #VALUE! | RG3: =INDEX(IF(MOD(RG$1,2),Moves!$H$3:$H$152,Moves!$N$3:$N$152),ROUNDUP(RG$1/2,0)) -> #VALUE! | RK3: =INDEX(IF(MOD(RK$1,2),Moves!$H$3:$H$152,Moves!$N$3:$N$152),ROUNDUP(RK$1/2,0)) -> #VALUE! | RO3: =INDEX(IF(MOD(RO$1,2),Moves!$H$3:$H$152,Moves!$N$3:$N$152),ROUNDUP(RO$1/2,0)) -> #VALUE! | RS3: =INDEX(IF(MOD(RS$1,2),Moves!$H$3:$H$152,Moves!$N$3:$N$152),ROUNDUP(RS$1/2,0)) -> #VALUE! | RW3: =INDEX(IF(MOD(RW$1,2),Moves!$H$3:$H$152,Moves!$N$3:$N$152),ROUNDUP(RW$1/2,0)) -> #VALUE! | SA3: =INDEX(IF(MOD(SA$1,2),Moves!$H$3:$H$152,Moves!$N$3:$N$152),ROUNDUP(SA$1/2,0)) -> #VALUE! | SE3: =INDEX(IF(MOD(SE$1,2),Moves!$H$3:$H$152,Moves!$N$3:$N$152),ROUNDUP(SE$1/2,0)) -> #VALUE! | SI3: =INDEX(IF(MOD(SI$1,2),Moves!$H$3:$H$152,Moves!$N$3:$N$152),ROUNDUP(SI$1/2,0)) -> #VALUE! | SM3: =INDEX(IF(MOD(SM$1,2),Moves!$H$3:$H$152,Moves!$N$3:$N$152),ROUNDUP(SM$1/2,0)) -> #VALUE! | SQ3: =INDEX(IF(MOD(SQ$1,2),Moves!$H$3:$H$152,Moves!$N$3:$N$152),ROUNDUP(SQ$1/2,0)) -> #VALUE! | SU3: =INDEX(IF(MOD(SU$1,2),Moves!$H$3:$H$152,Moves!$N$3:$N$152),ROUNDUP(SU$1/2,0)) -> #VALUE! | SY3: =INDEX(IF(MOD(SY$1,2),Moves!$H$3:$H$152,Moves!$N$3:$N$152),ROUNDUP(SY$1/2,0)) -> #VALUE! | TC3: =INDEX(IF(MOD(TC$1,2),Moves!$H$3:$H$152,Moves!$N$3:$N$152),ROUNDUP(TC$1/2,0)) -> #VALUE! | TG3: =INDEX(IF(MOD(TG$1,2),Moves!$H$3:$H$152,Moves!$N$3:$N$152),ROUNDUP(TG$1/2,0)) -> #VALUE! | TK3: =INDEX(IF(MOD(TK$1,2),Moves!$H$3:$H$152,Moves!$N$3:$N$152),ROUNDUP(TK$1/2,0)) -> #VALUE! | TO3: =INDEX(IF(MOD(TO$1,2),Moves!$H$3:$H$152,Moves!$N$3:$N$152),ROUNDUP(TO$1/2,0)) -> #VALUE! | TS3: =INDEX(IF(MOD(TS$1,2),Moves!$H$3:$H$152,Moves!$N$3:$N$152),ROUNDUP(TS$1/2,0)) -> #VALUE! | TW3: =INDEX(IF(MOD(TW$1,2),Moves!$H$3:$H$152,Moves!$N$3:$N$152),ROUNDUP(TW$1/2,0)) -> #VALUE! | UA3: =INDEX(IF(MOD(UA$1,2),Moves!$H$3:$H$152,Moves!$N$3:$N$152),ROUNDUP(UA$1/2,0)) -> #VALUE! | UE3: =INDEX(IF(MOD(UE$1,2),Moves!$H$3:$H$152,Moves!$N$3:$N$152),ROUNDUP(UE$1/2,0)) -> #VALUE! | UI3: =INDEX(IF(MOD(UI$1,2),Moves!$H$3:$H$152,Moves!$N$3:$N$152),ROUNDUP(UI$1/2,0)) -> #VALUE! | UM3: =INDEX(IF(MOD(UM$1,2),Moves!$H$3:$H$152,Moves!$N$3:$N$152),ROUNDUP(UM$1/2,0)) -> #VALUE! | UQ3: =INDEX(IF(MOD(UQ$1,2),Moves!$H$3:$H$152,Moves!$N$3:$N$152),ROUNDUP(UQ$1/2,0)) -> #VALUE! | UU3: =INDEX(IF(MOD(UU$1,2),Moves!$H$3:$H$152,Moves!$N$3:$N$152),ROUNDUP(UU$1/2,0)) -> #VALUE! | UY3: =INDEX(IF(MOD(UY$1,2),Moves!$H$3:$H$152,Moves!$N$3:$N$152),ROUNDUP(UY$1/2,0)) -> #VALUE! | VC3: =INDEX(IF(MOD(VC$1,2),Moves!$H$3:$H$152,Moves!$N$3:$N$152),ROUNDUP(VC$1/2,0)) -> #VALUE! | VG3: =INDEX(IF(MOD(VG$1,2),Moves!$H$3:$H$152,Moves!$N$3:$N$152),ROUNDUP(VG$1/2,0)) -> #VALUE! | VK3: =INDEX(IF(MOD(VK$1,2),Moves!$H$3:$H$152,Moves!$N$3:$N$152),ROUNDUP(VK$1/2,0)) -> #VALUE! | VO3: =INDEX(IF(MOD(VO$1,2),Moves!$H$3:$H$152,Moves!$N$3:$N$152),ROUNDUP(VO$1/2,0)) -> #VALUE! | VS3: =INDEX(IF(MOD(VS$1,2),Moves!$H$3:$H$152,Moves!$N$3:$N$152),ROUNDUP(VS$1/2,0)) -> #VALUE! | VW3: =INDEX(IF(MOD(VW$1,2),Moves!$H$3:$H$152,Moves!$N$3:$N$152),ROUNDUP(VW$1/2,0)) -> #VALUE! | WA3: =INDEX(IF(MOD(WA$1,2),Moves!$H$3:$H$152,Moves!$N$3:$N$152),ROUNDUP(WA$1/2,0)) -> #VALUE! | WE3: =INDEX(IF(MOD(WE$1,2),Moves!$H$3:$H$152,Moves!$N$3:$N$152),ROUNDUP(WE$1/2,0)) -> #VALUE! | WI3: =INDEX(IF(MOD(WI$1,2),Moves!$H$3:$H$152,Moves!$N$3:$N$152),ROUNDUP(WI$1/2,0)) -> #VALUE! | WM3: =INDEX(IF(MOD(WM$1,2),Moves!$H$3:$H$152,Moves!$N$3:$N$152),ROUNDUP(WM$1/2,0)) -> #VALUE! | WQ3: =INDEX(IF(MOD(WQ$1,2),Moves!$H$3:$H$152,Moves!$N$3:$N$152),ROUNDUP(WQ$1/2,0)) -> #VALUE! | WU3: =INDEX(IF(MOD(WU$1,2),Moves!$H$3:$H$152,Moves!$N$3:$N$152),ROUNDUP(WU$1/2,0)) -> #VALUE! | WY3: =INDEX(IF(MOD(WY$1,2),Moves!$H$3:$H$152,Moves!$N$3:$N$152),ROUNDUP(WY$1/2,0)) -> #VALUE! | XC3: =INDEX(IF(MOD(XC$1,2),Moves!$H$3:$H$152,Moves!$N$3:$N$152),ROUNDUP(XC$1/2,0)) -> #VALUE! | XG3: =INDEX(IF(MOD(XG$1,2),Moves!$H$3:$H$152,Moves!$N$3:$N$152),ROUNDUP(XG$1/2,0)) -> #VALUE! | XK3: =INDEX(IF(MOD(XK$1,2),Moves!$H$3:$H$152,Moves!$N$3:$N$152),ROUNDUP(XK$1/2,0)) -> #VALUE! | XO3: =INDEX(IF(MOD(XO$1,2),Moves!$H$3:$H$152,Moves!$N$3:$N$152),ROUNDUP(XO$1/2,0)) -> #VALUE! | XS3: =INDEX(IF(MOD(XS$1,2),Moves!$H$3:$H$152,Moves!$N$3:$N$152),ROUNDUP(XS$1/2,0)) -> #VALUE! | XW3: =INDEX(IF(MOD(XW$1,2),Moves!$H$3:$H$152,Moves!$N$3:$N$152),ROUNDUP(XW$1/2,0)) -> #VALUE! | YA3: =INDEX(IF(MOD(YA$1,2),Moves!$H$3:$H$152,Moves!$N$3:$N$152),ROUNDUP(YA$1/2,0)) -> #VALUE! | YE3: =INDEX(IF(MOD(YE$1,2),Moves!$H$3:$H$152,Moves!$N$3:$N$152),ROUNDUP(YE$1/2,0)) -> #VALUE! | YI3: =INDEX(IF(MOD(YI$1,2),Moves!$H$3:$H$152,Moves!$N$3:$N$152),ROUNDUP(YI$1/2,0)) -> #VALUE! | YM3: =INDEX(IF(MOD(YM$1,2),Moves!$H$3:$H$152,Moves!$N$3:$N$152),ROUNDUP(YM$1/2,0)) -> #VALUE! | YQ3: =INDEX(IF(MOD(YQ$1,2),Moves!$H$3:$H$152,Moves!$N$3:$N$152),ROUNDUP(YQ$1/2,0)) -> #VALUE! | YU3: =INDEX(IF(MOD(YU$1,2),Moves!$H$3:$H$152,Moves!$N$3:$N$152),ROUNDUP(YU$1/2,0)) -> #VALUE! | YY3: =INDEX(IF(MOD(YY$1,2),Moves!$H$3:$H$152,Moves!$N$3:$N$152),ROUNDUP(YY$1/2,0)) -> #VALUE! | ZC3: =INDEX(IF(MOD(ZC$1,2),Moves!$H$3:$H$152,Moves!$N$3:$N$152),ROUNDUP(ZC$1/2,0)) -> #VALUE! | ZG3: =INDEX(IF(MOD(ZG$1,2),Moves!$H$3:$H$152,Moves!$N$3:$N$152),ROUNDUP(ZG$1/2,0)) -> #VALUE! | ZK3: =INDEX(IF(MOD(ZK$1,2),Moves!$H$3:$H$152,Moves!$N$3:$N$152),ROUNDUP(ZK$1/2,0)) -> #VALUE! | ZO3: =INDEX(IF(MOD(ZO$1,2),Moves!$H$3:$H$152,Moves!$N$3:$N$152),ROUNDUP(ZO$1/2,0)) -> #VALUE! | ZS3: =INDEX(IF(MOD(ZS$1,2),Moves!$H$3:$H$152,Moves!$N$3:$N$152),ROUNDUP(ZS$1/2,0)) -> #VALUE! | ZW3: =INDEX(IF(MOD(ZW$1,2),Moves!$H$3:$H$152,Moves!$N$3:$N$152),ROUNDUP(ZW$1/2,0)) -> #VALUE! | AAA3: =INDEX(IF(MOD(AAA$1,2),Moves!$H$3:$H$152,Moves!$N$3:$N$152),ROUNDUP(AAA$1/2,0)) -> #VALUE! | AAE3: =INDEX(IF(MOD(AAE$1,2),Moves!$H$3:$H$152,Moves!$N$3:$N$152),ROUNDUP(AAE$1/2,0)) -> #VALUE! | AAI3: =INDEX(IF(MOD(AAI$1,2),Moves!$H$3:$H$152,Moves!$N$3:$N$152),ROUNDUP(AAI$1/2,0)) -> #VALUE! | AAM3: =INDEX(IF(MOD(AAM$1,2),Moves!$H$3:$H$152,Moves!$N$3:$N$152),ROUNDUP(AAM$1/2,0)) -> #VALUE! | AAQ3: =INDEX(IF(MOD(AAQ$1,2),Moves!$H$3:$H$152,Moves!$N$3:$N$152),ROUNDUP(AAQ$1/2,0)) -> #VALUE! | AAU3: =INDEX(IF(MOD(AAU$1,2),Moves!$H$3:$H$152,Moves!$N$3:$N$152),ROUNDUP(AAU$1/2,0)) -> #VALUE! | AAY3: =INDEX(IF(MOD(AAY$1,2),Moves!$H$3:$H$152,Moves!$N$3:$N$152),ROUNDUP(AAY$1/2,0)) -> #VALUE! | ABC3: =INDEX(IF(MOD(ABC$1,2),Moves!$H$3:$H$152,Moves!$N$3:$N$152),ROUNDUP(ABC$1/2,0)) -> #VALUE! | ABG3: =INDEX(IF(MOD(ABG$1,2),Moves!$H$3:$H$152,Moves!$N$3:$N$152),ROUNDUP(ABG$1/2,0)) -> #VALUE! | ABK3: =INDEX(IF(MOD(ABK$1,2),Moves!$H$3:$H$152,Moves!$N$3:$N$152),ROUNDUP(ABK$1/2,0)) -> #VALUE! | ABO3: =INDEX(IF(MOD(ABO$1,2),Moves!$H$3:$H$152,Moves!$N$3:$N$152),ROUNDUP(ABO$1/2,0)) -> #VALUE! | ABS3: =INDEX(IF(MOD(ABS$1,2),Moves!$H$3:$H$152,Moves!$N$3:$N$152),ROUNDUP(ABS$1/2,0)) -> #VALUE! | ABW3: =INDEX(IF(MOD(ABW$1,2),Moves!$H$3:$H$152,Moves!$N$3:$N$152),ROUNDUP(ABW$1/2,0)) -> #VALUE! | ACA3: =INDEX(IF(MOD(ACA$1,2),Moves!$H$3:$H$152,Moves!$N$3:$N$152),ROUNDUP(ACA$1/2,0)) -> #VALUE! | ACE3: =INDEX(IF(MOD(ACE$1,2),Moves!$H$3:$H$152,Moves!$N$3:$N$152),ROUNDUP(ACE$1/2,0)) -> #VALUE! | ACI3: =INDEX(IF(MOD(ACI$1,2),Moves!$H$3:$H$152,Moves!$N$3:$N$152),ROUNDUP(ACI$1/2,0)) -> #VALUE! | ACM3: =INDEX(IF(MOD(ACM$1,2),Moves!$H$3:$H$152,Moves!$N$3:$N$152),ROUNDUP(ACM$1/2,0)) -> #VALUE! | ACQ3: =INDEX(IF(MOD(ACQ$1,2),Moves!$H$3:$H$152,Moves!$N$3:$N$152),ROUNDUP(ACQ$1/2,0)) -> #VALUE! | ACU3: =INDEX(IF(MOD(ACU$1,2),Moves!$H$3:$H$152,Moves!$N$3:$N$152),ROUNDUP(ACU$1/2,0)) -> #VALUE! | ACY3: =INDEX(IF(MOD(ACY$1,2),Moves!$H$3:$H$152,Moves!$N$3:$N$152),ROUNDUP(ACY$1/2,0)) -> #VALUE! | ADC3: =INDEX(IF(MOD(ADC$1,2),Moves!$H$3:$H$152,Moves!$N$3:$N$152),ROUNDUP(ADC$1/2,0)) -> #VALUE! | ADG3: =INDEX(IF(MOD(ADG$1,2),Moves!$H$3:$H$152,Moves!$N$3:$N$152),ROUNDUP(ADG$1/2,0)) -> #VALUE! | ADK3: =INDEX(IF(MOD(ADK$1,2),Moves!$H$3:$H$152,Moves!$N$3:$N$152),ROUNDUP(ADK$1/2,0)) -> #VALUE! | ADO3: =INDEX(IF(MOD(ADO$1,2),Moves!$H$3:$H$152,Moves!$N$3:$N$152),ROUNDUP(ADO$1/2,0)) -> #VALUE! | ADS3: =INDEX(IF(MOD(ADS$1,2),Moves!$H$3:$H$152,Moves!$N$3:$N$152),ROUNDUP(ADS$1/2,0)) -> #VALUE! | ADW3: =INDEX(IF(MOD(ADW$1,2),Moves!$H$3:$H$152,Moves!$N$3:$N$152),ROUNDUP(ADW$1/2,0)) -> #VALUE! | AEA3: =INDEX(IF(MOD(AEA$1,2),Moves!$H$3:$H$152,Moves!$N$3:$N$152),ROUNDUP(AEA$1/2,0)) -> #VALUE! | AEE3: =INDEX(IF(MOD(AEE$1,2),Moves!$H$3:$H$152,Moves!$N$3:$N$152),ROUNDUP(AEE$1/2,0)) -> #VALUE! | AEI3: =INDEX(IF(MOD(AEI$1,2),Moves!$H$3:$H$152,Moves!$N$3:$N$152),ROUNDUP(AEI$1/2,0)) -> #VALUE! | AEM3: =INDEX(IF(MOD(AEM$1,2),Moves!$H$3:$H$152,Moves!$N$3:$N$152),ROUNDUP(AEM$1/2,0)) -> #VALUE! | AEQ3: =INDEX(IF(MOD(AEQ$1,2),Moves!$H$3:$H$152,Moves!$N$3:$N$152),ROUNDUP(AEQ$1/2,0)) -> #VALUE! | AEU3: =INDEX(IF(MOD(AEU$1,2),Moves!$H$3:$H$152,Moves!$N$3:$N$152),ROUNDUP(AEU$1/2,0)) -> #VALUE! | AEY3: =INDEX(IF(MOD(AEY$1,2),Moves!$H$3:$H$152,Moves!$N$3:$N$152),ROUNDUP(AEY$1/2,0)) -> #VALUE! | AFC3: =INDEX(IF(MOD(AFC$1,2),Moves!$H$3:$H$152,Moves!$N$3:$N$152),ROUNDUP(AFC$1/2,0)) -> #VALUE! | AFG3: =INDEX(IF(MOD(AFG$1,2),Moves!$H$3:$H$152,Moves!$N$3:$N$152),ROUNDUP(AFG$1/2,0)) -> #VALUE! | AFK3: =INDEX(IF(MOD(AFK$1,2),Moves!$H$3:$H$152,Moves!$N$3:$N$152),ROUNDUP(AFK$1/2,0)) -> #VALUE! | AFO3: =INDEX(IF(MOD(AFO$1,2),Moves!$H$3:$H$152,Moves!$N$3:$N$152),ROUNDUP(AFO$1/2,0)) -> #VALUE! | AFS3: =INDEX(IF(MOD(AFS$1,2),Moves!$H$3:$H$152,Moves!$N$3:$N$152),ROUNDUP(AFS$1/2,0)) -> #VALUE! | AFW3: =INDEX(IF(MOD(AFW$1,2),Moves!$H$3:$H$152,Moves!$N$3:$N$152),ROUNDUP(AFW$1/2,0)) -> #VALUE! | AGA3: =INDEX(IF(MOD(AGA$1,2),Moves!$H$3:$H$152,Moves!$N$3:$N$152),ROUNDUP(AGA$1/2,0)) -> #VALUE! | AGE3: =INDEX(IF(MOD(AGE$1,2),Moves!$H$3:$H$152,Moves!$N$3:$N$152),ROUNDUP(AGE$1/2,0)) -> #VALUE! | AGI3: =INDEX(IF(MOD(AGI$1,2),Moves!$H$3:$H$152,Moves!$N$3:$N$152),ROUNDUP(AGI$1/2,0)) -> #VALUE! | AGM3: =INDEX(IF(MOD(AGM$1,2),Moves!$H$3:$H$152,Moves!$N$3:$N$152),ROUNDUP(AGM$1/2,0)) -> #VALUE! | AGQ3: =INDEX(IF(MOD(AGQ$1,2),Moves!$H$3:$H$152,Moves!$N$3:$N$152),ROUNDUP(AGQ$1/2,0)) -> #VALUE! | AGU3: =INDEX(IF(MOD(AGU$1,2),Moves!$H$3:$H$152,Moves!$N$3:$N$152),ROUNDUP(AGU$1/2,0)) -> #VALUE! | AGY3: =INDEX(IF(MOD(AGY$1,2),Moves!$H$3:$H$152,Moves!$N$3:$N$152),ROUNDUP(AGY$1/2,0)) -> #VALUE! | AHC3: =INDEX(IF(MOD(AHC$1,2),Moves!$H$3:$H$152,Moves!$N$3:$N$152),ROUNDUP(AHC$1/2,0)) -> #VALUE! | AHG3: =INDEX(IF(MOD(AHG$1,2),Moves!$H$3:$H$152,Moves!$N$3:$N$152),ROUNDUP(AHG$1/2,0)) -> #VALUE! | AHK3: =INDEX(IF(MOD(AHK$1,2),Moves!$H$3:$H$152,Moves!$N$3:$N$152),ROUNDUP(AHK$1/2,0)) -> #VALUE! | AHO3: =INDEX(IF(MOD(AHO$1,2),Moves!$H$3:$H$152,Moves!$N$3:$N$152),ROUNDUP(AHO$1/2,0)) -> #VALUE! | AHS3: =INDEX(IF(MOD(AHS$1,2),Moves!$H$3:$H$152,Moves!$N$3:$N$152),ROUNDUP(AHS$1/2,0)) -> #VALUE! | AHW3: =INDEX(IF(MOD(AHW$1,2),Moves!$H$3:$H$152,Moves!$N$3:$N$152),ROUNDUP(AHW$1/2,0)) -> #VALUE! | AIA3: =INDEX(IF(MOD(AIA$1,2),Moves!$H$3:$H$152,Moves!$N$3:$N$152),ROUNDUP(AIA$1/2,0)) -> #VALUE! | AIE3: =INDEX(IF(MOD(AIE$1,2),Moves!$H$3:$H$152,Moves!$N$3:$N$152),ROUNDUP(AIE$1/2,0)) -> #VALUE! | AII3: =INDEX(IF(MOD(AII$1,2),Moves!$H$3:$H$152,Moves!$N$3:$N$152),ROUNDUP(AII$1/2,0)) -> #VALUE! | AIM3: =INDEX(IF(MOD(AIM$1,2),Moves!$H$3:$H$152,Moves!$N$3:$N$152),ROUNDUP(AIM$1/2,0)) -> #VALUE! | AIQ3: =INDEX(IF(MOD(AIQ$1,2),Moves!$H$3:$H$152,Moves!$N$3:$N$152),ROUNDUP(AIQ$1/2,0)) -> #VALUE! | AIU3: =INDEX(IF(MOD(AIU$1,2),Moves!$H$3:$H$152,Moves!$N$3:$N$152),ROUNDUP(AIU$1/2,0)) -> #VALUE! | AIY3: =INDEX(IF(MOD(AIY$1,2),Moves!$H$3:$H$152,Moves!$N$3:$N$152),ROUNDUP(AIY$1/2,0)) -> #VALUE! | AJC3: =INDEX(IF(MOD(AJC$1,2),Moves!$H$3:$H$152,Moves!$N$3:$N$152),ROUNDUP(AJC$1/2,0)) -> #VALUE! | AJG3: =INDEX(IF(MOD(AJG$1,2),Moves!$H$3:$H$152,Moves!$N$3:$N$152),ROUNDUP(AJG$1/2,0)) -> #VALUE! | AJK3: =INDEX(IF(MOD(AJK$1,2),Moves!$H$3:$H$152,Moves!$N$3:$N$152),ROUNDUP(AJK$1/2,0)) -> #VALUE! | AJO3: =INDEX(IF(MOD(AJO$1,2),Moves!$H$3:$H$152,Moves!$N$3:$N$152),ROUNDUP(AJO$1/2,0)) -> #VALUE! | AJS3: =INDEX(IF(MOD(AJS$1,2),Moves!$H$3:$H$152,Moves!$N$3:$N$152),ROUNDUP(AJS$1/2,0)) -> #VALUE! | AJW3: =INDEX(IF(MOD(AJW$1,2),Moves!$H$3:$H$152,Moves!$N$3:$N$152),ROUNDUP(AJW$1/2,0)) -> #VALUE! | AKA3: =INDEX(IF(MOD(AKA$1,2),Moves!$H$3:$H$152,Moves!$N$3:$N$152),ROUNDUP(AKA$1/2,0)) -> #VALUE! | AKE3: =INDEX(IF(MOD(AKE$1,2),Moves!$H$3:$H$152,Moves!$N$3:$N$152),ROUNDUP(AKE$1/2,0)) -> #VALUE! | AKI3: =INDEX(IF(MOD(AKI$1,2),Moves!$H$3:$H$152,Moves!$N$3:$N$152),ROUNDUP(AKI$1/2,0)) -> #VALUE! | AKM3: =INDEX(IF(MOD(AKM$1,2),Moves!$H$3:$H$152,Moves!$N$3:$N$152),ROUNDUP(AKM$1/2,0)) -> #VALUE! | AKQ3: =INDEX(IF(MOD(AKQ$1,2),Moves!$H$3:$H$152,Moves!$N$3:$N$152),ROUNDUP(AKQ$1/2,0)) -> #VALUE! | AKU3: =INDEX(IF(MOD(AKU$1,2),Moves!$H$3:$H$152,Moves!$N$3:$N$152),ROUNDUP(AKU$1/2,0)) -> #VALUE! | AKY3: =INDEX(IF(MOD(AKY$1,2),Moves!$H$3:$H$152,Moves!$N$3:$N$152),ROUNDUP(AKY$1/2,0)) -> #VALUE! | ALC3: =INDEX(IF(MOD(ALC$1,2),Moves!$H$3:$H$152,Moves!$N$3:$N$152),ROUNDUP(ALC$1/2,0)) -> #VALUE! | ALG3: =INDEX(IF(MOD(ALG$1,2),Moves!$H$3:$H$152,Moves!$N$3:$N$152),ROUNDUP(ALG$1/2,0)) -> #VALUE! | ALK3: =INDEX(IF(MOD(ALK$1,2),Moves!$H$3:$H$152,Moves!$N$3:$N$152),ROUNDUP(ALK$1/2,0)) -> #VALUE! | ALO3: =INDEX(IF(MOD(ALO$1,2),Moves!$H$3:$H$152,Moves!$N$3:$N$152),ROUNDUP(ALO$1/2,0)) -> #VALUE! | ALS3: =INDEX(IF(MOD(ALS$1,2),Moves!$H$3:$H$152,Moves!$N$3:$N$152),ROUNDUP(ALS$1/2,0)) -> #VALUE! | ALW3: =INDEX(IF(MOD(ALW$1,2),Moves!$H$3:$H$152,Moves!$N$3:$N$152),ROUNDUP(ALW$1/2,0)) -> #VALUE! | AMA3: =INDEX(IF(MOD(AMA$1,2),Moves!$H$3:$H$152,Moves!$N$3:$N$152),ROUNDUP(AMA$1/2,0)) -> #VALUE! | AME3: =INDEX(IF(MOD(AME$1,2),Moves!$H$3:$H$152,Moves!$N$3:$N$152),ROUNDUP(AME$1/2,0)) -> #VALUE! | AMI3: =INDEX(IF(MOD(AMI$1,2),Moves!$H$3:$H$152,Moves!$N$3:$N$152),ROUNDUP(AMI$1/2,0)) -> #VALUE! | AMM3: =INDEX(IF(MOD(AMM$1,2),Moves!$H$3:$H$152,Moves!$N$3:$N$152),ROUNDUP(AMM$1/2,0)) -> #VALUE! | AMQ3: =INDEX(IF(MOD(AMQ$1,2),Moves!$H$3:$H$152,Moves!$N$3:$N$152),ROUNDUP(AMQ$1/2,0)) -> #VALUE! | AMU3: =INDEX(IF(MOD(AMU$1,2),Moves!$H$3:$H$152,Moves!$N$3:$N$152),ROUNDUP(AMU$1/2,0)) -> #VALUE! | AMY3: =INDEX(IF(MOD(AMY$1,2),Moves!$H$3:$H$152,Moves!$N$3:$N$152),ROUNDUP(AMY$1/2,0)) -> #VALUE! | ANC3: =INDEX(IF(MOD(ANC$1,2),Moves!$H$3:$H$152,Moves!$N$3:$N$152),ROUNDUP(ANC$1/2,0)) -> #VALUE! | ANG3: =INDEX(IF(MOD(ANG$1,2),Moves!$H$3:$H$152,Moves!$N$3:$N$152),ROUNDUP(ANG$1/2,0)) -> #VALUE! | ANK3: =INDEX(IF(MOD(ANK$1,2),Moves!$H$3:$H$152,Moves!$N$3:$N$152),ROUNDUP(ANK$1/2,0)) -> #VALUE! | ANO3: =INDEX(IF(MOD(ANO$1,2),Moves!$H$3:$H$152,Moves!$N$3:$N$152),ROUNDUP(ANO$1/2,0)) -> #VALUE! | ANS3: =INDEX(IF(MOD(ANS$1,2),Moves!$H$3:$H$152,Moves!$N$3:$N$152),ROUNDUP(ANS$1/2,0)) -> #VALUE! | ANW3: =INDEX(IF(MOD(ANW$1,2),Moves!$H$3:$H$152,Moves!$N$3:$N$152),ROUNDUP(ANW$1/2,0)) -> #VALUE! | AOA3: =INDEX(IF(MOD(AOA$1,2),Moves!$H$3:$H$152,Moves!$N$3:$N$152),ROUNDUP(AOA$1/2,0)) -> #VALUE! | AOE3: =INDEX(IF(MOD(AOE$1,2),Moves!$H$3:$H$152,Moves!$N$3:$N$152),ROUNDUP(AOE$1/2,0)) -> #VALUE! | AOI3: =INDEX(IF(MOD(AOI$1,2),Moves!$H$3:$H$152,Moves!$N$3:$N$152),ROUNDUP(AOI$1/2,0)) -> #VALUE! | AOM3: =INDEX(IF(MOD(AOM$1,2),Moves!$H$3:$H$152,Moves!$N$3:$N$152),ROUNDUP(AOM$1/2,0)) -> #VALUE! | AOQ3: =INDEX(IF(MOD(AOQ$1,2),Moves!$H$3:$H$152,Moves!$N$3:$N$152),ROUNDUP(AOQ$1/2,0)) -> #VALUE! | AOU3: =INDEX(IF(MOD(AOU$1,2),Moves!$H$3:$H$152,Moves!$N$3:$N$152),ROUNDUP(AOU$1/2,0)) -> #VALUE! | AOY3: =INDEX(IF(MOD(AOY$1,2),Moves!$H$3:$H$152,Moves!$N$3:$N$152),ROUNDUP(AOY$1/2,0)) -> #VALUE! | APC3: =INDEX(IF(MOD(APC$1,2),Moves!$H$3:$H$152,Moves!$N$3:$N$152),ROUNDUP(APC$1/2,0)) -> #VALUE! | APG3: =INDEX(IF(MOD(APG$1,2),Moves!$H$3:$H$152,Moves!$N$3:$N$152),ROUNDUP(APG$1/2,0)) -> #VALUE! | APK3: =INDEX(IF(MOD(APK$1,2),Moves!$H$3:$H$152,Moves!$N$3:$N$152),ROUNDUP(APK$1/2,0)) -> #VALUE! | APO3: =INDEX(IF(MOD(APO$1,2),Moves!$H$3:$H$152,Moves!$N$3:$N$152),ROUNDUP(APO$1/2,0)) -> #VALUE! | APS3: =INDEX(IF(MOD(APS$1,2),Moves!$H$3:$H$152,Moves!$N$3:$N$152),ROUNDUP(APS$1/2,0)) -> #VALUE! | APW3: =INDEX(IF(MOD(APW$1,2),Moves!$H$3:$H$152,Moves!$N$3:$N$152),ROUNDUP(APW$1/2,0)) -> #VALUE! | AQA3: =INDEX(IF(MOD(AQA$1,2),Moves!$H$3:$H$152,Moves!$N$3:$N$152),ROUNDUP(AQA$1/2,0)) -> #VALUE! | AQE3: =INDEX(IF(MOD(AQE$1,2),Moves!$H$3:$H$152,Moves!$N$3:$N$152),ROUNDUP(AQE$1/2,0)) -> #VALUE! | AQI3: =INDEX(IF(MOD(AQI$1,2),Moves!$H$3:$H$152,Moves!$N$3:$N$152),ROUNDUP(AQI$1/2,0)) -> #VALUE! | AQM3: =INDEX(IF(MOD(AQM$1,2),Moves!$H$3:$H$152,Moves!$N$3:$N$152),ROUNDUP(AQM$1/2,0)) -> #VALUE! | AQQ3: =INDEX(IF(MOD(AQQ$1,2),Moves!$H$3:$H$152,Moves!$N$3:$N$152),ROUNDUP(AQQ$1/2,0)) -> #VALUE! | AQU3: =INDEX(IF(MOD(AQU$1,2),Moves!$H$3:$H$152,Moves!$N$3:$N$152),ROUNDUP(AQU$1/2,0)) -> #VALUE! | AQY3: =INDEX(IF(MOD(AQY$1,2),Moves!$H$3:$H$152,Moves!$N$3:$N$152),ROUNDUP(AQY$1/2,0)) -> #VALUE! | ARC3: =INDEX(IF(MOD(ARC$1,2),Moves!$H$3:$H$152,Moves!$N$3:$N$152),ROUNDUP(ARC$1/2,0)) -> #VALUE! | ARG3: =INDEX(IF(MOD(ARG$1,2),Moves!$H$3:$H$152,Moves!$N$3:$N$152),ROUNDUP(ARG$1/2,0)) -> #VALUE! | ARK3: =INDEX(IF(MOD(ARK$1,2),Moves!$H$3:$H$152,Moves!$N$3:$N$152),ROUNDUP(ARK$1/2,0)) -> #VALUE! | ARO3: =INDEX(IF(MOD(ARO$1,2),Moves!$H$3:$H$152,Moves!$N$3:$N$152),ROUNDUP(ARO$1/2,0)) -> #VALUE! | ARS3: =INDEX(IF(MOD(ARS$1,2),Moves!$H$3:$H$152,Moves!$N$3:$N$152),ROUNDUP(ARS$1/2,0)) -> #VALUE! | ARW3: =INDEX(IF(MOD(ARW$1,2),Moves!$H$3:$H$152,Moves!$N$3:$N$152),ROUNDUP(ARW$1/2,0)) -> #VALUE! | ASA3: =INDEX(IF(MOD(ASA$1,2),Moves!$H$3:$H$152,Moves!$N$3:$N$152),ROUNDUP(ASA$1/2,0)) -> #VALUE! | ASE3: =INDEX(IF(MOD(ASE$1,2),Moves!$H$3:$H$152,Moves!$N$3:$N$152),ROUNDUP(ASE$1/2,0)) -> #VALUE! | ASI3: =INDEX(IF(MOD(ASI$1,2),Moves!$H$3:$H$152,Moves!$N$3:$N$152),ROUNDUP(ASI$1/2,0)) -> #VALUE! | ASM3: =INDEX(IF(MOD(ASM$1,2),Moves!$H$3:$H$152,Moves!$N$3:$N$152),ROUNDUP(ASM$1/2,0)) -> #VALUE! | ASQ3: =INDEX(IF(MOD(ASQ$1,2),Moves!$H$3:$H$152,Moves!$N$3:$N$152),ROUNDUP(ASQ$1/2,0)) -> #VALUE! | ASU3: =INDEX(IF(MOD(ASU$1,2),Moves!$H$3:$H$152,Moves!$N$3:$N$152),ROUNDUP(ASU$1/2,0)) -> #VALUE! | ASY3: =INDEX(IF(MOD(ASY$1,2),Moves!$H$3:$H$152,Moves!$N$3:$N$152),ROUNDUP(ASY$1/2,0)) -> #VALUE! | ATC3: =INDEX(IF(MOD(ATC$1,2),Moves!$H$3:$H$152,Moves!$N$3:$N$152),ROUNDUP(ATC$1/2,0)) -> #VALUE! | ATG3: =INDEX(IF(MOD(ATG$1,2),Moves!$H$3:$H$152,Moves!$N$3:$N$152),ROUNDUP(ATG$1/2,0)) -> #VALUE!
B4: Y | G4: =INDEX(IF(MOD(G$1,2),Moves!$I$3:$I$152,Moves!$O$3:$O$152),ROUNDUP(G$1/2,0)) -> 4 | K4: =INDEX(IF(MOD(K$1,2),Moves!$I$3:$I$152,Moves!$O$3:$O$152),ROUNDUP(K$1/2,0)) -> 5 | O4: =INDEX(IF(MOD(O$1,2),Moves!$I$3:$I$152,Moves!$O$3:$O$152),ROUNDUP(O$1/2,0)) -> 3 | S4: =INDEX(IF(MOD(S$1,2),Moves!$I$3:$I$152,Moves!$O$3:$O$152),ROUNDUP(S$1/2,0)) -> 6 | W4: =INDEX(IF(MOD(W$1,2),Moves!$I$3:$I$152,Moves!$O$3:$O$152),ROUNDUP(W$1/2,0)) -> 3 | AA4: =INDEX(IF(MOD(AA$1,2),Moves!$I$3:$I$152,Moves!$O$3:$O$152),ROUNDUP(AA$1/2,0)) -> 6 | AE4: =INDEX(IF(MOD(AE$1,2),Moves!$I$3:$I$152,Moves!$O$3:$O$152),ROUNDUP(AE$1/2,0)) -> 2 | AI4: =INDEX(IF(MOD(AI$1,2),Moves!$I$3:$I$152,Moves!$O$3:$O$152),ROUNDUP(AI$1/2,0)) -> 5 | AM4: =INDEX(IF(MOD(AM$1,2),Moves!$I$3:$I$152,Moves!$O$3:$O$152),ROUNDUP(AM$1/2,0)) -> 5 | AQ4: =INDEX(IF(MOD(AQ$1,2),Moves!$I$3:$I$152,Moves!$O$3:$O$152),ROUNDUP(AQ$1/2,0)) -> 5 | AU4: =INDEX(IF(MOD(AU$1,2),Moves!$I$3:$I$152,Moves!$O$3:$O$152),ROUNDUP(AU$1/2,0)) -> 0 | AY4: =INDEX(IF(MOD(AY$1,2),Moves!$I$3:$I$152,Moves!$O$3:$O$152),ROUNDUP(AY$1/2,0)) -> 6 | BC4: =INDEX(IF(MOD(BC$1,2),Moves!$I$3:$I$152,Moves!$O$3:$O$152),ROUNDUP(BC$1/2,0)) -> 4 | BG4: =INDEX(IF(MOD(BG$1,2),Moves!$I$3:$I$152,Moves!$O$3:$O$152),ROUNDUP(BG$1/2,0)) -> 7 | BK4: =INDEX(IF(MOD(BK$1,2),Moves!$I$3:$I$152,Moves!$O$3:$O$152),ROUNDUP(BK$1/2,0)) -> 3 | BO4: =INDEX(IF(MOD(BO$1,2),Moves!$I$3:$I$152,Moves!$O$3:$O$152),ROUNDUP(BO$1/2,0)) -> 4 | BS4: =INDEX(IF(MOD(BS$1,2),Moves!$I$3:$I$152,Moves!$O$3:$O$152),ROUNDUP(BS$1/2,0)) -> 4 | BW4: =INDEX(IF(MOD(BW$1,2),Moves!$I$3:$I$152,Moves!$O$3:$O$152),ROUNDUP(BW$1/2,0)) -> 4 | CA4: =INDEX(IF(MOD(CA$1,2),Moves!$I$3:$I$152,Moves!$O$3:$O$152),ROUNDUP(CA$1/2,0)) -> 3 | CE4: =INDEX(IF(MOD(CE$1,2),Moves!$I$3:$I$152,Moves!$O$3:$O$152),ROUNDUP(CE$1/2,0)) -> 7 | CI4: =INDEX(IF(MOD(CI$1,2),Moves!$I$3:$I$152,Moves!$O$3:$O$152),ROUNDUP(CI$1/2,0)) -> 2 | CM4: =INDEX(IF(MOD(CM$1,2),Moves!$I$3:$I$152,Moves!$O$3:$O$152),ROUNDUP(CM$1/2,0)) -> 0 | CQ4: =INDEX(IF(MOD(CQ$1,2),Moves!$I$3:$I$152,Moves!$O$3:$O$152),ROUNDUP(CQ$1/2,0)) -> 3 | CU4: =INDEX(IF(MOD(CU$1,2),Moves!$I$3:$I$152,Moves!$O$3:$O$152),ROUNDUP(CU$1/2,0)) -> 8 | CY4: =INDEX(IF(MOD(CY$1,2),Moves!$I$3:$I$152,Moves!$O$3:$O$152),ROUNDUP(CY$1/2,0)) -> 1 | DC4: =INDEX(IF(MOD(DC$1,2),Moves!$I$3:$I$152,Moves!$O$3:$O$152),ROUNDUP(DC$1/2,0)) -> 6 | DG4: =INDEX(IF(MOD(DG$1,2),Moves!$I$3:$I$152,Moves!$O$3:$O$152),ROUNDUP(DG$1/2,0)) -> 3 | DK4: =INDEX(IF(MOD(DK$1,2),Moves!$I$3:$I$152,Moves!$O$3:$O$152),ROUNDUP(DK$1/2,0)) -> 6 | DO4: =INDEX(IF(MOD(DO$1,2),Moves!$I$3:$I$152,Moves!$O$3:$O$152),ROUNDUP(DO$1/2,0)) -> 1 | DS4: =INDEX(IF(MOD(DS$1,2),Moves!$I$3:$I$152,Moves!$O$3:$O$152),ROUNDUP(DS$1/2,0)) -> 5 | DW4: =INDEX(IF(MOD(DW$1,2),Moves!$I$3:$I$152,Moves!$O$3:$O$152),ROUNDUP(DW$1/2,0)) -> 3 | EA4: =INDEX(IF(MOD(EA$1,2),Moves!$I$3:$I$152,Moves!$O$3:$O$152),ROUNDUP(EA$1/2,0)) -> 6 | EE4: =INDEX(IF(MOD(EE$1,2),Moves!$I$3:$I$152,Moves!$O$3:$O$152),ROUNDUP(EE$1/2,0)) -> 1 | EI4: =INDEX(IF(MOD(EI$1,2),Moves!$I$3:$I$152,Moves!$O$3:$O$152),ROUNDUP(EI$1/2,0)) -> 8 | EM4: =INDEX(IF(MOD(EM$1,2),Moves!$I$3:$I$152,Moves!$O$3:$O$152),ROUNDUP(EM$1/2,0)) -> 6 | EQ4: =INDEX(IF(MOD(EQ$1,2),Moves!$I$3:$I$152,Moves!$O$3:$O$152),ROUNDUP(EQ$1/2,0)) -> 6 | EU4: =INDEX(IF(MOD(EU$1,2),Moves!$I$3:$I$152,Moves!$O$3:$O$152),ROUNDUP(EU$1/2,0)) -> 4 | EY4: =INDEX(IF(MOD(EY$1,2),Moves!$I$3:$I$152,Moves!$O$3:$O$152),ROUNDUP(EY$1/2,0)) -> 4 | FC4: =INDEX(IF(MOD(FC$1,2),Moves!$I$3:$I$152,Moves!$O$3:$O$152),ROUNDUP(FC$1/2,0)) -> 4 | FG4: =INDEX(IF(MOD(FG$1,2),Moves!$I$3:$I$152,Moves!$O$3:$O$152),ROUNDUP(FG$1/2,0)) -> 7 | FK4: =INDEX(IF(MOD(FK$1,2),Moves!$I$3:$I$152,Moves!$O$3:$O$152),ROUNDUP(FK$1/2,0)) -> 5 | FO4: =INDEX(IF(MOD(FO$1,2),Moves!$I$3:$I$152,Moves!$O$3:$O$152),ROUNDUP(FO$1/2,0)) -> 5 | FS4: =INDEX(IF(MOD(FS$1,2),Moves!$I$3:$I$152,Moves!$O$3:$O$152),ROUNDUP(FS$1/2,0)) -> 8 | FW4: =INDEX(IF(MOD(FW$1,2),Moves!$I$3:$I$152,Moves!$O$3:$O$152),ROUNDUP(FW$1/2,0)) -> 8 | GA4: =INDEX(IF(MOD(GA$1,2),Moves!$I$3:$I$152,Moves!$O$3:$O$152),ROUNDUP(GA$1/2,0)) -> 3 | GE4: =INDEX(IF(MOD(GE$1,2),Moves!$I$3:$I$152,Moves!$O$3:$O$152),ROUNDUP(GE$1/2,0)) -> 8 | GI4: =INDEX(IF(MOD(GI$1,2),Moves!$I$3:$I$152,Moves!$O$3:$O$152),ROUNDUP(GI$1/2,0)) -> 4 | GM4: =INDEX(IF(MOD(GM$1,2),Moves!$I$3:$I$152,Moves!$O$3:$O$152),ROUNDUP(GM$1/2,0)) -> 5 | GQ4: =INDEX(IF(MOD(GQ$1,2),Moves!$I$3:$I$152,Moves!$O$3:$O$152),ROUNDUP(GQ$1/2,0)) -> 5 | GU4: =INDEX(IF(MOD(GU$1,2),Moves!$I$3:$I$152,Moves!$O$3:$O$152),ROUNDUP(GU$1/2,0)) -> 5 | GY4: =INDEX(IF(MOD(GY$1,2),Moves!$I$3:$I$152,Moves!$O$3:$O$152),ROUNDUP(GY$1/2,0)) -> 5 | HC4: =INDEX(IF(MOD(HC$1,2),Moves!$I$3:$I$152,Moves!$O$3:$O$152),ROUNDUP(HC$1/2,0)) -> 5 | HG4: =INDEX(IF(MOD(HG$1,2),Moves!$I$3:$I$152,Moves!$O$3:$O$152),ROUNDUP(HG$1/2,0)) -> 3 | HK4: =INDEX(IF(MOD(HK$1,2),Moves!$I$3:$I$152,Moves!$O$3:$O$152),ROUNDUP(HK$1/2,0)) -> 6 | HO4: =INDEX(IF(MOD(HO$1,2),Moves!$I$3:$I$152,Moves!$O$3:$O$152),ROUNDUP(HO$1/2,0)) -> 3 | HS4: =INDEX(IF(MOD(HS$1,2),Moves!$I$3:$I$152,Moves!$O$3:$O$152),ROUNDUP(HS$1/2,0)) -> 6 | HW4: =INDEX(IF(MOD(HW$1,2),Moves!$I$3:$I$152,Moves!$O$3:$O$152),ROUNDUP(HW$1/2,0)) -> 2 | IA4: =INDEX(IF(MOD(IA$1,2),Moves!$I$3:$I$152,Moves!$O$3:$O$152),ROUNDUP(IA$1/2,0)) -> 8 | IE4: =INDEX(IF(MOD(IE$1,2),Moves!$I$3:$I$152,Moves!$O$3:$O$152),ROUNDUP(IE$1/2,0)) -> 2 | II4: =INDEX(IF(MOD(II$1,2),Moves!$I$3:$I$152,Moves!$O$3:$O$152),ROUNDUP(II$1/2,0)) -> 5 | IM4: =INDEX(IF(MOD(IM$1,2),Moves!$I$3:$I$152,Moves!$O$3:$O$152),ROUNDUP(IM$1/2,0)) -> 5 | IQ4: =INDEX(IF(MOD(IQ$1,2),Moves!$I$3:$I$152,Moves!$O$3:$O$152),ROUNDUP(IQ$1/2,0)) -> 5 | IU4: =INDEX(IF(MOD(IU$1,2),Moves!$I$3:$I$152,Moves!$O$3:$O$152),ROUNDUP(IU$1/2,0)) -> 5 | IY4: =INDEX(IF(MOD(IY$1,2),Moves!$I$3:$I$152,Moves!$O$3:$O$152),ROUNDUP(IY$1/2,0)) -> 5 | JC4: =INDEX(IF(MOD(JC$1,2),Moves!$I$3:$I$152,Moves!$O$3:$O$152),ROUNDUP(JC$1/2,0)) -> 3 | JG4: =INDEX(IF(MOD(JG$1,2),Moves!$I$3:$I$152,Moves!$O$3:$O$152),ROUNDUP(JG$1/2,0)) -> 4 | JK4: =INDEX(IF(MOD(JK$1,2),Moves!$I$3:$I$152,Moves!$O$3:$O$152),ROUNDUP(JK$1/2,0)) -> 4 | JO4: =INDEX(IF(MOD(JO$1,2),Moves!$I$3:$I$152,Moves!$O$3:$O$152),ROUNDUP(JO$1/2,0)) -> 7 | JS4: =INDEX(IF(MOD(JS$1,2),Moves!$I$3:$I$152,Moves!$O$3:$O$152),ROUNDUP(JS$1/2,0)) -> 5 | JW4: =INDEX(IF(MOD(JW$1,2),Moves!$I$3:$I$152,Moves!$O$3:$O$152),ROUNDUP(JW$1/2,0)) -> 6 | KA4: =INDEX(IF(MOD(KA$1,2),Moves!$I$3:$I$152,Moves!$O$3:$O$152),ROUNDUP(KA$1/2,0)) -> 3 | KE4: =INDEX(IF(MOD(KE$1,2),Moves!$I$3:$I$152,Moves!$O$3:$O$152),ROUNDUP(KE$1/2,0)) -> 5 | KI4: =INDEX(IF(MOD(KI$1,2),Moves!$I$3:$I$152,Moves!$O$3:$O$152),ROUNDUP(KI$1/2,0)) -> 4 | KM4: =INDEX(IF(MOD(KM$1,2),Moves!$I$3:$I$152,Moves!$O$3:$O$152),ROUNDUP(KM$1/2,0)) -> 4 | KQ4: =INDEX(IF(MOD(KQ$1,2),Moves!$I$3:$I$152,Moves!$O$3:$O$152),ROUNDUP(KQ$1/2,0)) -> 4 | KU4: =INDEX(IF(MOD(KU$1,2),Moves!$I$3:$I$152,Moves!$O$3:$O$152),ROUNDUP(KU$1/2,0)) -> 4 | KY4: =INDEX(IF(MOD(KY$1,2),Moves!$I$3:$I$152,Moves!$O$3:$O$152),ROUNDUP(KY$1/2,0)) -> 3 | LC4: =INDEX(IF(MOD(LC$1,2),Moves!$I$3:$I$152,Moves!$O$3:$O$152),ROUNDUP(LC$1/2,0)) -> 4 | LG4: =INDEX(IF(MOD(LG$1,2),Moves!$I$3:$I$152,Moves!$O$3:$O$152),ROUNDUP(LG$1/2,0)) -> 8 | LK4: =INDEX(IF(MOD(LK$1,2),Moves!$I$3:$I$152,Moves!$O$3:$O$152),ROUNDUP(LK$1/2,0)) -> 7 | LO4: =INDEX(IF(MOD(LO$1,2),Moves!$I$3:$I$152,Moves!$O$3:$O$152),ROUNDUP(LO$1/2,0)) -> 7 | LS4: =INDEX(IF(MOD(LS$1,2),Moves!$I$3:$I$152,Moves!$O$3:$O$152),ROUNDUP(LS$1/2,0)) -> 2 | LW4: =INDEX(IF(MOD(LW$1,2),Moves!$I$3:$I$152,Moves!$O$3:$O$152),ROUNDUP(LW$1/2,0)) -> 5 | MA4: =INDEX(IF(MOD(MA$1,2),Moves!$I$3:$I$152,Moves!$O$3:$O$152),ROUNDUP(MA$1/2,0)) -> 8 | ME4: =INDEX(IF(MOD(ME$1,2),Moves!$I$3:$I$152,Moves!$O$3:$O$152),ROUNDUP(ME$1/2,0)) -> 4 | MI4: =INDEX(IF(MOD(MI$1,2),Moves!$I$3:$I$152,Moves!$O$3:$O$152),ROUNDUP(MI$1/2,0)) -> 2 | MM4: =INDEX(IF(MOD(MM$1,2),Moves!$I$3:$I$152,Moves!$O$3:$O$152),ROUNDUP(MM$1/2,0)) -> 6 | MQ4: =INDEX(IF(MOD(MQ$1,2),Moves!$I$3:$I$152,Moves!$O$3:$O$152),ROUNDUP(MQ$1/2,0)) -> 2 | MU4: =INDEX(IF(MOD(MU$1,2),Moves!$I$3:$I$152,Moves!$O$3:$O$152),ROUNDUP(MU$1/2,0)) -> 8 | MY4: =INDEX(IF(MOD(MY$1,2),Moves!$I$3:$I$152,Moves!$O$3:$O$152),ROUNDUP(MY$1/2,0)) -> 7 | NC4: =INDEX(IF(MOD(NC$1,2),Moves!$I$3:$I$152,Moves!$O$3:$O$152),ROUNDUP(NC$1/2,0)) -> 4 | NG4: =INDEX(IF(MOD(NG$1,2),Moves!$I$3:$I$152,Moves!$O$3:$O$152),ROUNDUP(NG$1/2,0)) -> 8 | NK4: =INDEX(IF(MOD(NK$1,2),Moves!$I$3:$I$152,Moves!$O$3:$O$152),ROUNDUP(NK$1/2,0)) -> 8 | NO4: =INDEX(IF(MOD(NO$1,2),Moves!$I$3:$I$152,Moves!$O$3:$O$152),ROUNDUP(NO$1/2,0)) -> 7 | NS4: =INDEX(IF(MOD(NS$1,2),Moves!$I$3:$I$152,Moves!$O$3:$O$152),ROUNDUP(NS$1/2,0)) -> #VALUE! | NW4: =INDEX(IF(MOD(NW$1,2),Moves!$I$3:$I$152,Moves!$O$3:$O$152),ROUNDUP(NW$1/2,0)) -> #VALUE! | OA4: =INDEX(IF(MOD(OA$1,2),Moves!$I$3:$I$152,Moves!$O$3:$O$152),ROUNDUP(OA$1/2,0)) -> #VALUE! | OE4: =INDEX(IF(MOD(OE$1,2),Moves!$I$3:$I$152,Moves!$O$3:$O$152),ROUNDUP(OE$1/2,0)) -> #VALUE! | OI4: =INDEX(IF(MOD(OI$1,2),Moves!$I$3:$I$152,Moves!$O$3:$O$152),ROUNDUP(OI$1/2,0)) -> #VALUE! | OM4: =INDEX(IF(MOD(OM$1,2),Moves!$I$3:$I$152,Moves!$O$3:$O$152),ROUNDUP(OM$1/2,0)) -> #VALUE! | OQ4: =INDEX(IF(MOD(OQ$1,2),Moves!$I$3:$I$152,Moves!$O$3:$O$152),ROUNDUP(OQ$1/2,0)) -> #VALUE! | OU4: =INDEX(IF(MOD(OU$1,2),Moves!$I$3:$I$152,Moves!$O$3:$O$152),ROUNDUP(OU$1/2,0)) -> #VALUE! | OY4: =INDEX(IF(MOD(OY$1,2),Moves!$I$3:$I$152,Moves!$O$3:$O$152),ROUNDUP(OY$1/2,0)) -> #VALUE! | PC4: =INDEX(IF(MOD(PC$1,2),Moves!$I$3:$I$152,Moves!$O$3:$O$152),ROUNDUP(PC$1/2,0)) -> #VALUE! | PG4: =INDEX(IF(MOD(PG$1,2),Moves!$I$3:$I$152,Moves!$O$3:$O$152),ROUNDUP(PG$1/2,0)) -> #VALUE! | PK4: =INDEX(IF(MOD(PK$1,2),Moves!$I$3:$I$152,Moves!$O$3:$O$152),ROUNDUP(PK$1/2,0)) -> #VALUE! | PO4: =INDEX(IF(MOD(PO$1,2),Moves!$I$3:$I$152,Moves!$O$3:$O$152),ROUNDUP(PO$1/2,0)) -> #VALUE! | PS4: =INDEX(IF(MOD(PS$1,2),Moves!$I$3:$I$152,Moves!$O$3:$O$152),ROUNDUP(PS$1/2,0)) -> #VALUE! | PW4: =INDEX(IF(MOD(PW$1,2),Moves!$I$3:$I$152,Moves!$O$3:$O$152),ROUNDUP(PW$1/2,0)) -> #VALUE! | QA4: =INDEX(IF(MOD(QA$1,2),Moves!$I$3:$I$152,Moves!$O$3:$O$152),ROUNDUP(QA$1/2,0)) -> #VALUE! | QE4: =INDEX(IF(MOD(QE$1,2),Moves!$I$3:$I$152,Moves!$O$3:$O$152),ROUNDUP(QE$1/2,0)) -> #VALUE! | QI4: =INDEX(IF(MOD(QI$1,2),Moves!$I$3:$I$152,Moves!$O$3:$O$152),ROUNDUP(QI$1/2,0)) -> #VALUE! | QM4: =INDEX(IF(MOD(QM$1,2),Moves!$I$3:$I$152,Moves!$O$3:$O$152),ROUNDUP(QM$1/2,0)) -> #VALUE! | QQ4: =INDEX(IF(MOD(QQ$1,2),Moves!$I$3:$I$152,Moves!$O$3:$O$152),ROUNDUP(QQ$1/2,0)) -> #VALUE! | QU4: =INDEX(IF(MOD(QU$1,2),Moves!$I$3:$I$152,Moves!$O$3:$O$152),ROUNDUP(QU$1/2,0)) -> #VALUE! | QY4: =INDEX(IF(MOD(QY$1,2),Moves!$I$3:$I$152,Moves!$O$3:$O$152),ROUNDUP(QY$1/2,0)) -> #VALUE! | RC4: =INDEX(IF(MOD(RC$1,2),Moves!$I$3:$I$152,Moves!$O$3:$O$152),ROUNDUP(RC$1/2,0)) -> #VALUE! | RG4: =INDEX(IF(MOD(RG$1,2),Moves!$I$3:$I$152,Moves!$O$3:$O$152),ROUNDUP(RG$1/2,0)) -> #VALUE! | RK4: =INDEX(IF(MOD(RK$1,2),Moves!$I$3:$I$152,Moves!$O$3:$O$152),ROUNDUP(RK$1/2,0)) -> #VALUE! | RO4: =INDEX(IF(MOD(RO$1,2),Moves!$I$3:$I$152,Moves!$O$3:$O$152),ROUNDUP(RO$1/2,0)) -> #VALUE! | RS4: =INDEX(IF(MOD(RS$1,2),Moves!$I$3:$I$152,Moves!$O$3:$O$152),ROUNDUP(RS$1/2,0)) -> #VALUE! | RW4: =INDEX(IF(MOD(RW$1,2),Moves!$I$3:$I$152,Moves!$O$3:$O$152),ROUNDUP(RW$1/2,0)) -> #VALUE! | SA4: =INDEX(IF(MOD(SA$1,2),Moves!$I$3:$I$152,Moves!$O$3:$O$152),ROUNDUP(SA$1/2,0)) -> #VALUE! | SE4: =INDEX(IF(MOD(SE$1,2),Moves!$I$3:$I$152,Moves!$O$3:$O$152),ROUNDUP(SE$1/2,0)) -> #VALUE! | SI4: =INDEX(IF(MOD(SI$1,2),Moves!$I$3:$I$152,Moves!$O$3:$O$152),ROUNDUP(SI$1/2,0)) -> #VALUE! | SM4: =INDEX(IF(MOD(SM$1,2),Moves!$I$3:$I$152,Moves!$O$3:$O$152),ROUNDUP(SM$1/2,0)) -> #VALUE! | SQ4: =INDEX(IF(MOD(SQ$1,2),Moves!$I$3:$I$152,Moves!$O$3:$O$152),ROUNDUP(SQ$1/2,0)) -> #VALUE! | SU4: =INDEX(IF(MOD(SU$1,2),Moves!$I$3:$I$152,Moves!$O$3:$O$152),ROUNDUP(SU$1/2,0)) -> #VALUE! | SY4: =INDEX(IF(MOD(SY$1,2),Moves!$I$3:$I$152,Moves!$O$3:$O$152),ROUNDUP(SY$1/2,0)) -> #VALUE! | TC4: =INDEX(IF(MOD(TC$1,2),Moves!$I$3:$I$152,Moves!$O$3:$O$152),ROUNDUP(TC$1/2,0)) -> #VALUE! | TG4: =INDEX(IF(MOD(TG$1,2),Moves!$I$3:$I$152,Moves!$O$3:$O$152),ROUNDUP(TG$1/2,0)) -> #VALUE! | TK4: =INDEX(IF(MOD(TK$1,2),Moves!$I$3:$I$152,Moves!$O$3:$O$152),ROUNDUP(TK$1/2,0)) -> #VALUE! | TO4: =INDEX(IF(MOD(TO$1,2),Moves!$I$3:$I$152,Moves!$O$3:$O$152),ROUNDUP(TO$1/2,0)) -> #VALUE! | TS4: =INDEX(IF(MOD(TS$1,2),Moves!$I$3:$I$152,Moves!$O$3:$O$152),ROUNDUP(TS$1/2,0)) -> #VALUE! | TW4: =INDEX(IF(MOD(TW$1,2),Moves!$I$3:$I$152,Moves!$O$3:$O$152),ROUNDUP(TW$1/2,0)) -> #VALUE! | UA4: =INDEX(IF(MOD(UA$1,2),Moves!$I$3:$I$152,Moves!$O$3:$O$152),ROUNDUP(UA$1/2,0)) -> #VALUE! | UE4: =INDEX(IF(MOD(UE$1,2),Moves!$I$3:$I$152,Moves!$O$3:$O$152),ROUNDUP(UE$1/2,0)) -> #VALUE! | UI4: =INDEX(IF(MOD(UI$1,2),Moves!$I$3:$I$152,Moves!$O$3:$O$152),ROUNDUP(UI$1/2,0)) -> #VALUE! | UM4: =INDEX(IF(MOD(UM$1,2),Moves!$I$3:$I$152,Moves!$O$3:$O$152),ROUNDUP(UM$1/2,0)) -> #VALUE! | UQ4: =INDEX(IF(MOD(UQ$1,2),Moves!$I$3:$I$152,Moves!$O$3:$O$152),ROUNDUP(UQ$1/2,0)) -> #VALUE! | UU4: =INDEX(IF(MOD(UU$1,2),Moves!$I$3:$I$152,Moves!$O$3:$O$152),ROUNDUP(UU$1/2,0)) -> #VALUE! | UY4: =INDEX(IF(MOD(UY$1,2),Moves!$I$3:$I$152,Moves!$O$3:$O$152),ROUNDUP(UY$1/2,0)) -> #VALUE! | VC4: =INDEX(IF(MOD(VC$1,2),Moves!$I$3:$I$152,Moves!$O$3:$O$152),ROUNDUP(VC$1/2,0)) -> #VALUE! | VG4: =INDEX(IF(MOD(VG$1,2),Moves!$I$3:$I$152,Moves!$O$3:$O$152),ROUNDUP(VG$1/2,0)) -> #VALUE! | VK4: =INDEX(IF(MOD(VK$1,2),Moves!$I$3:$I$152,Moves!$O$3:$O$152),ROUNDUP(VK$1/2,0)) -> #VALUE! | VO4: =INDEX(IF(MOD(VO$1,2),Moves!$I$3:$I$152,Moves!$O$3:$O$152),ROUNDUP(VO$1/2,0)) -> #VALUE! | VS4: =INDEX(IF(MOD(VS$1,2),Moves!$I$3:$I$152,Moves!$O$3:$O$152),ROUNDUP(VS$1/2,0)) -> #VALUE! | VW4: =INDEX(IF(MOD(VW$1,2),Moves!$I$3:$I$152,Moves!$O$3:$O$152),ROUNDUP(VW$1/2,0)) -> #VALUE! | WA4: =INDEX(IF(MOD(WA$1,2),Moves!$I$3:$I$152,Moves!$O$3:$O$152),ROUNDUP(WA$1/2,0)) -> #VALUE! | WE4: =INDEX(IF(MOD(WE$1,2),Moves!$I$3:$I$152,Moves!$O$3:$O$152),ROUNDUP(WE$1/2,0)) -> #VALUE! | WI4: =INDEX(IF(MOD(WI$1,2),Moves!$I$3:$I$152,Moves!$O$3:$O$152),ROUNDUP(WI$1/2,0)) -> #VALUE! | WM4: =INDEX(IF(MOD(WM$1,2),Moves!$I$3:$I$152,Moves!$O$3:$O$152),ROUNDUP(WM$1/2,0)) -> #VALUE! | WQ4: =INDEX(IF(MOD(WQ$1,2),Moves!$I$3:$I$152,Moves!$O$3:$O$152),ROUNDUP(WQ$1/2,0)) -> #VALUE! | WU4: =INDEX(IF(MOD(WU$1,2),Moves!$I$3:$I$152,Moves!$O$3:$O$152),ROUNDUP(WU$1/2,0)) -> #VALUE! | WY4: =INDEX(IF(MOD(WY$1,2),Moves!$I$3:$I$152,Moves!$O$3:$O$152),ROUNDUP(WY$1/2,0)) -> #VALUE! | XC4: =INDEX(IF(MOD(XC$1,2),Moves!$I$3:$I$152,Moves!$O$3:$O$152),ROUNDUP(XC$1/2,0)) -> #VALUE! | XG4: =INDEX(IF(MOD(XG$1,2),Moves!$I$3:$I$152,Moves!$O$3:$O$152),ROUNDUP(XG$1/2,0)) -> #VALUE! | XK4: =INDEX(IF(MOD(XK$1,2),Moves!$I$3:$I$152,Moves!$O$3:$O$152),ROUNDUP(XK$1/2,0)) -> #VALUE! | XO4: =INDEX(IF(MOD(XO$1,2),Moves!$I$3:$I$152,Moves!$O$3:$O$152),ROUNDUP(XO$1/2,0)) -> #VALUE! | XS4: =INDEX(IF(MOD(XS$1,2),Moves!$I$3:$I$152,Moves!$O$3:$O$152),ROUNDUP(XS$1/2,0)) -> #VALUE! | XW4: =INDEX(IF(MOD(XW$1,2),Moves!$I$3:$I$152,Moves!$O$3:$O$152),ROUNDUP(XW$1/2,0)) -> #VALUE! | YA4: =INDEX(IF(MOD(YA$1,2),Moves!$I$3:$I$152,Moves!$O$3:$O$152),ROUNDUP(YA$1/2,0)) -> #VALUE! | YE4: =INDEX(IF(MOD(YE$1,2),Moves!$I$3:$I$152,Moves!$O$3:$O$152),ROUNDUP(YE$1/2,0)) -> #VALUE! | YI4: =INDEX(IF(MOD(YI$1,2),Moves!$I$3:$I$152,Moves!$O$3:$O$152),ROUNDUP(YI$1/2,0)) -> #VALUE! | YM4: =INDEX(IF(MOD(YM$1,2),Moves!$I$3:$I$152,Moves!$O$3:$O$152),ROUNDUP(YM$1/2,0)) -> #VALUE! | YQ4: =INDEX(IF(MOD(YQ$1,2),Moves!$I$3:$I$152,Moves!$O$3:$O$152),ROUNDUP(YQ$1/2,0)) -> #VALUE! | YU4: =INDEX(IF(MOD(YU$1,2),Moves!$I$3:$I$152,Moves!$O$3:$O$152),ROUNDUP(YU$1/2,0)) -> #VALUE! | YY4: =INDEX(IF(MOD(YY$1,2),Moves!$I$3:$I$152,Moves!$O$3:$O$152),ROUNDUP(YY$1/2,0)) -> #VALUE! | ZC4: =INDEX(IF(MOD(ZC$1,2),Moves!$I$3:$I$152,Moves!$O$3:$O$152),ROUNDUP(ZC$1/2,0)) -> #VALUE! | ZG4: =INDEX(IF(MOD(ZG$1,2),Moves!$I$3:$I$152,Moves!$O$3:$O$152),ROUNDUP(ZG$1/2,0)) -> #VALUE! | ZK4: =INDEX(IF(MOD(ZK$1,2),Moves!$I$3:$I$152,Moves!$O$3:$O$152),ROUNDUP(ZK$1/2,0)) -> #VALUE! | ZO4: =INDEX(IF(MOD(ZO$1,2),Moves!$I$3:$I$152,Moves!$O$3:$O$152),ROUNDUP(ZO$1/2,0)) -> #VALUE! | ZS4: =INDEX(IF(MOD(ZS$1,2),Moves!$I$3:$I$152,Moves!$O$3:$O$152),ROUNDUP(ZS$1/2,0)) -> #VALUE! | ZW4: =INDEX(IF(MOD(ZW$1,2),Moves!$I$3:$I$152,Moves!$O$3:$O$152),ROUNDUP(ZW$1/2,0)) -> #VALUE! | AAA4: =INDEX(IF(MOD(AAA$1,2),Moves!$I$3:$I$152,Moves!$O$3:$O$152),ROUNDUP(AAA$1/2,0)) -> #VALUE! | AAE4: =INDEX(IF(MOD(AAE$1,2),Moves!$I$3:$I$152,Moves!$O$3:$O$152),ROUNDUP(AAE$1/2,0)) -> #VALUE! | AAI4: =INDEX(IF(MOD(AAI$1,2),Moves!$I$3:$I$152,Moves!$O$3:$O$152),ROUNDUP(AAI$1/2,0)) -> #VALUE! | AAM4: =INDEX(IF(MOD(AAM$1,2),Moves!$I$3:$I$152,Moves!$O$3:$O$152),ROUNDUP(AAM$1/2,0)) -> #VALUE! | AAQ4: =INDEX(IF(MOD(AAQ$1,2),Moves!$I$3:$I$152,Moves!$O$3:$O$152),ROUNDUP(AAQ$1/2,0)) -> #VALUE! | AAU4: =INDEX(IF(MOD(AAU$1,2),Moves!$I$3:$I$152,Moves!$O$3:$O$152),ROUNDUP(AAU$1/2,0)) -> #VALUE! | AAY4: =INDEX(IF(MOD(AAY$1,2),Moves!$I$3:$I$152,Moves!$O$3:$O$152),ROUNDUP(AAY$1/2,0)) -> #VALUE! | ABC4: =INDEX(IF(MOD(ABC$1,2),Moves!$I$3:$I$152,Moves!$O$3:$O$152),ROUNDUP(ABC$1/2,0)) -> #VALUE! | ABG4: =INDEX(IF(MOD(ABG$1,2),Moves!$I$3:$I$152,Moves!$O$3:$O$152),ROUNDUP(ABG$1/2,0)) -> #VALUE! | ABK4: =INDEX(IF(MOD(ABK$1,2),Moves!$I$3:$I$152,Moves!$O$3:$O$152),ROUNDUP(ABK$1/2,0)) -> #VALUE! | ABO4: =INDEX(IF(MOD(ABO$1,2),Moves!$I$3:$I$152,Moves!$O$3:$O$152),ROUNDUP(ABO$1/2,0)) -> #VALUE! | ABS4: =INDEX(IF(MOD(ABS$1,2),Moves!$I$3:$I$152,Moves!$O$3:$O$152),ROUNDUP(ABS$1/2,0)) -> #VALUE! | ABW4: =INDEX(IF(MOD(ABW$1,2),Moves!$I$3:$I$152,Moves!$O$3:$O$152),ROUNDUP(ABW$1/2,0)) -> #VALUE! | ACA4: =INDEX(IF(MOD(ACA$1,2),Moves!$I$3:$I$152,Moves!$O$3:$O$152),ROUNDUP(ACA$1/2,0)) -> #VALUE! | ACE4: =INDEX(IF(MOD(ACE$1,2),Moves!$I$3:$I$152,Moves!$O$3:$O$152),ROUNDUP(ACE$1/2,0)) -> #VALUE! | ACI4: =INDEX(IF(MOD(ACI$1,2),Moves!$I$3:$I$152,Moves!$O$3:$O$152),ROUNDUP(ACI$1/2,0)) -> #VALUE! | ACM4: =INDEX(IF(MOD(ACM$1,2),Moves!$I$3:$I$152,Moves!$O$3:$O$152),ROUNDUP(ACM$1/2,0)) -> #VALUE! | ACQ4: =INDEX(IF(MOD(ACQ$1,2),Moves!$I$3:$I$152,Moves!$O$3:$O$152),ROUNDUP(ACQ$1/2,0)) -> #VALUE! | ACU4: =INDEX(IF(MOD(ACU$1,2),Moves!$I$3:$I$152,Moves!$O$3:$O$152),ROUNDUP(ACU$1/2,0)) -> #VALUE! | ACY4: =INDEX(IF(MOD(ACY$1,2),Moves!$I$3:$I$152,Moves!$O$3:$O$152),ROUNDUP(ACY$1/2,0)) -> #VALUE! | ADC4: =INDEX(IF(MOD(ADC$1,2),Moves!$I$3:$I$152,Moves!$O$3:$O$152),ROUNDUP(ADC$1/2,0)) -> #VALUE! | ADG4: =INDEX(IF(MOD(ADG$1,2),Moves!$I$3:$I$152,Moves!$O$3:$O$152),ROUNDUP(ADG$1/2,0)) -> #VALUE! | ADK4: =INDEX(IF(MOD(ADK$1,2),Moves!$I$3:$I$152,Moves!$O$3:$O$152),ROUNDUP(ADK$1/2,0)) -> #VALUE! | ADO4: =INDEX(IF(MOD(ADO$1,2),Moves!$I$3:$I$152,Moves!$O$3:$O$152),ROUNDUP(ADO$1/2,0)) -> #VALUE! | ADS4: =INDEX(IF(MOD(ADS$1,2),Moves!$I$3:$I$152,Moves!$O$3:$O$152),ROUNDUP(ADS$1/2,0)) -> #VALUE! | ADW4: =INDEX(IF(MOD(ADW$1,2),Moves!$I$3:$I$152,Moves!$O$3:$O$152),ROUNDUP(ADW$1/2,0)) -> #VALUE! | AEA4: =INDEX(IF(MOD(AEA$1,2),Moves!$I$3:$I$152,Moves!$O$3:$O$152),ROUNDUP(AEA$1/2,0)) -> #VALUE! | AEE4: =INDEX(IF(MOD(AEE$1,2),Moves!$I$3:$I$152,Moves!$O$3:$O$152),ROUNDUP(AEE$1/2,0)) -> #VALUE! | AEI4: =INDEX(IF(MOD(AEI$1,2),Moves!$I$3:$I$152,Moves!$O$3:$O$152),ROUNDUP(AEI$1/2,0)) -> #VALUE! | AEM4: =INDEX(IF(MOD(AEM$1,2),Moves!$I$3:$I$152,Moves!$O$3:$O$152),ROUNDUP(AEM$1/2,0)) -> #VALUE! | AEQ4: =INDEX(IF(MOD(AEQ$1,2),Moves!$I$3:$I$152,Moves!$O$3:$O$152),ROUNDUP(AEQ$1/2,0)) -> #VALUE! | AEU4: =INDEX(IF(MOD(AEU$1,2),Moves!$I$3:$I$152,Moves!$O$3:$O$152),ROUNDUP(AEU$1/2,0)) -> #VALUE! | AEY4: =INDEX(IF(MOD(AEY$1,2),Moves!$I$3:$I$152,Moves!$O$3:$O$152),ROUNDUP(AEY$1/2,0)) -> #VALUE! | AFC4: =INDEX(IF(MOD(AFC$1,2),Moves!$I$3:$I$152,Moves!$O$3:$O$152),ROUNDUP(AFC$1/2,0)) -> #VALUE! | AFG4: =INDEX(IF(MOD(AFG$1,2),Moves!$I$3:$I$152,Moves!$O$3:$O$152),ROUNDUP(AFG$1/2,0)) -> #VALUE! | AFK4: =INDEX(IF(MOD(AFK$1,2),Moves!$I$3:$I$152,Moves!$O$3:$O$152),ROUNDUP(AFK$1/2,0)) -> #VALUE! | AFO4: =INDEX(IF(MOD(AFO$1,2),Moves!$I$3:$I$152,Moves!$O$3:$O$152),ROUNDUP(AFO$1/2,0)) -> #VALUE! | AFS4: =INDEX(IF(MOD(AFS$1,2),Moves!$I$3:$I$152,Moves!$O$3:$O$152),ROUNDUP(AFS$1/2,0)) -> #VALUE! | AFW4: =INDEX(IF(MOD(AFW$1,2),Moves!$I$3:$I$152,Moves!$O$3:$O$152),ROUNDUP(AFW$1/2,0)) -> #VALUE! | AGA4: =INDEX(IF(MOD(AGA$1,2),Moves!$I$3:$I$152,Moves!$O$3:$O$152),ROUNDUP(AGA$1/2,0)) -> #VALUE! | AGE4: =INDEX(IF(MOD(AGE$1,2),Moves!$I$3:$I$152,Moves!$O$3:$O$152),ROUNDUP(AGE$1/2,0)) -> #VALUE! | AGI4: =INDEX(IF(MOD(AGI$1,2),Moves!$I$3:$I$152,Moves!$O$3:$O$152),ROUNDUP(AGI$1/2,0)) -> #VALUE! | AGM4: =INDEX(IF(MOD(AGM$1,2),Moves!$I$3:$I$152,Moves!$O$3:$O$152),ROUNDUP(AGM$1/2,0)) -> #VALUE! | AGQ4: =INDEX(IF(MOD(AGQ$1,2),Moves!$I$3:$I$152,Moves!$O$3:$O$152),ROUNDUP(AGQ$1/2,0)) -> #VALUE! | AGU4: =INDEX(IF(MOD(AGU$1,2),Moves!$I$3:$I$152,Moves!$O$3:$O$152),ROUNDUP(AGU$1/2,0)) -> #VALUE! | AGY4: =INDEX(IF(MOD(AGY$1,2),Moves!$I$3:$I$152,Moves!$O$3:$O$152),ROUNDUP(AGY$1/2,0)) -> #VALUE! | AHC4: =INDEX(IF(MOD(AHC$1,2),Moves!$I$3:$I$152,Moves!$O$3:$O$152),ROUNDUP(AHC$1/2,0)) -> #VALUE! | AHG4: =INDEX(IF(MOD(AHG$1,2),Moves!$I$3:$I$152,Moves!$O$3:$O$152),ROUNDUP(AHG$1/2,0)) -> #VALUE! | AHK4: =INDEX(IF(MOD(AHK$1,2),Moves!$I$3:$I$152,Moves!$O$3:$O$152),ROUNDUP(AHK$1/2,0)) -> #VALUE! | AHO4: =INDEX(IF(MOD(AHO$1,2),Moves!$I$3:$I$152,Moves!$O$3:$O$152),ROUNDUP(AHO$1/2,0)) -> #VALUE! | AHS4: =INDEX(IF(MOD(AHS$1,2),Moves!$I$3:$I$152,Moves!$O$3:$O$152),ROUNDUP(AHS$1/2,0)) -> #VALUE! | AHW4: =INDEX(IF(MOD(AHW$1,2),Moves!$I$3:$I$152,Moves!$O$3:$O$152),ROUNDUP(AHW$1/2,0)) -> #VALUE! | AIA4: =INDEX(IF(MOD(AIA$1,2),Moves!$I$3:$I$152,Moves!$O$3:$O$152),ROUNDUP(AIA$1/2,0)) -> #VALUE! | AIE4: =INDEX(IF(MOD(AIE$1,2),Moves!$I$3:$I$152,Moves!$O$3:$O$152),ROUNDUP(AIE$1/2,0)) -> #VALUE! | AII4: =INDEX(IF(MOD(AII$1,2),Moves!$I$3:$I$152,Moves!$O$3:$O$152),ROUNDUP(AII$1/2,0)) -> #VALUE! | AIM4: =INDEX(IF(MOD(AIM$1,2),Moves!$I$3:$I$152,Moves!$O$3:$O$152),ROUNDUP(AIM$1/2,0)) -> #VALUE! | AIQ4: =INDEX(IF(MOD(AIQ$1,2),Moves!$I$3:$I$152,Moves!$O$3:$O$152),ROUNDUP(AIQ$1/2,0)) -> #VALUE! | AIU4: =INDEX(IF(MOD(AIU$1,2),Moves!$I$3:$I$152,Moves!$O$3:$O$152),ROUNDUP(AIU$1/2,0)) -> #VALUE! | AIY4: =INDEX(IF(MOD(AIY$1,2),Moves!$I$3:$I$152,Moves!$O$3:$O$152),ROUNDUP(AIY$1/2,0)) -> #VALUE! | AJC4: =INDEX(IF(MOD(AJC$1,2),Moves!$I$3:$I$152,Moves!$O$3:$O$152),ROUNDUP(AJC$1/2,0)) -> #VALUE! | AJG4: =INDEX(IF(MOD(AJG$1,2),Moves!$I$3:$I$152,Moves!$O$3:$O$152),ROUNDUP(AJG$1/2,0)) -> #VALUE! | AJK4: =INDEX(IF(MOD(AJK$1,2),Moves!$I$3:$I$152,Moves!$O$3:$O$152),ROUNDUP(AJK$1/2,0)) -> #VALUE! | AJO4: =INDEX(IF(MOD(AJO$1,2),Moves!$I$3:$I$152,Moves!$O$3:$O$152),ROUNDUP(AJO$1/2,0)) -> #VALUE! | AJS4: =INDEX(IF(MOD(AJS$1,2),Moves!$I$3:$I$152,Moves!$O$3:$O$152),ROUNDUP(AJS$1/2,0)) -> #VALUE! | AJW4: =INDEX(IF(MOD(AJW$1,2),Moves!$I$3:$I$152,Moves!$O$3:$O$152),ROUNDUP(AJW$1/2,0)) -> #VALUE! | AKA4: =INDEX(IF(MOD(AKA$1,2),Moves!$I$3:$I$152,Moves!$O$3:$O$152),ROUNDUP(AKA$1/2,0)) -> #VALUE! | AKE4: =INDEX(IF(MOD(AKE$1,2),Moves!$I$3:$I$152,Moves!$O$3:$O$152),ROUNDUP(AKE$1/2,0)) -> #VALUE! | AKI4: =INDEX(IF(MOD(AKI$1,2),Moves!$I$3:$I$152,Moves!$O$3:$O$152),ROUNDUP(AKI$1/2,0)) -> #VALUE! | AKM4: =INDEX(IF(MOD(AKM$1,2),Moves!$I$3:$I$152,Moves!$O$3:$O$152),ROUNDUP(AKM$1/2,0)) -> #VALUE! | AKQ4: =INDEX(IF(MOD(AKQ$1,2),Moves!$I$3:$I$152,Moves!$O$3:$O$152),ROUNDUP(AKQ$1/2,0)) -> #VALUE! | AKU4: =INDEX(IF(MOD(AKU$1,2),Moves!$I$3:$I$152,Moves!$O$3:$O$152),ROUNDUP(AKU$1/2,0)) -> #VALUE! | AKY4: =INDEX(IF(MOD(AKY$1,2),Moves!$I$3:$I$152,Moves!$O$3:$O$152),ROUNDUP(AKY$1/2,0)) -> #VALUE! | ALC4: =INDEX(IF(MOD(ALC$1,2),Moves!$I$3:$I$152,Moves!$O$3:$O$152),ROUNDUP(ALC$1/2,0)) -> #VALUE! | ALG4: =INDEX(IF(MOD(ALG$1,2),Moves!$I$3:$I$152,Moves!$O$3:$O$152),ROUNDUP(ALG$1/2,0)) -> #VALUE! | ALK4: =INDEX(IF(MOD(ALK$1,2),Moves!$I$3:$I$152,Moves!$O$3:$O$152),ROUNDUP(ALK$1/2,0)) -> #VALUE! | ALO4: =INDEX(IF(MOD(ALO$1,2),Moves!$I$3:$I$152,Moves!$O$3:$O$152),ROUNDUP(ALO$1/2,0)) -> #VALUE! | ALS4: =INDEX(IF(MOD(ALS$1,2),Moves!$I$3:$I$152,Moves!$O$3:$O$152),ROUNDUP(ALS$1/2,0)) -> #VALUE! | ALW4: =INDEX(IF(MOD(ALW$1,2),Moves!$I$3:$I$152,Moves!$O$3:$O$152),ROUNDUP(ALW$1/2,0)) -> #VALUE! | AMA4: =INDEX(IF(MOD(AMA$1,2),Moves!$I$3:$I$152,Moves!$O$3:$O$152),ROUNDUP(AMA$1/2,0)) -> #VALUE! | AME4: =INDEX(IF(MOD(AME$1,2),Moves!$I$3:$I$152,Moves!$O$3:$O$152),ROUNDUP(AME$1/2,0)) -> #VALUE! | AMI4: =INDEX(IF(MOD(AMI$1,2),Moves!$I$3:$I$152,Moves!$O$3:$O$152),ROUNDUP(AMI$1/2,0)) -> #VALUE! | AMM4: =INDEX(IF(MOD(AMM$1,2),Moves!$I$3:$I$152,Moves!$O$3:$O$152),ROUNDUP(AMM$1/2,0)) -> #VALUE! | AMQ4: =INDEX(IF(MOD(AMQ$1,2),Moves!$I$3:$I$152,Moves!$O$3:$O$152),ROUNDUP(AMQ$1/2,0)) -> #VALUE! | AMU4: =INDEX(IF(MOD(AMU$1,2),Moves!$I$3:$I$152,Moves!$O$3:$O$152),ROUNDUP(AMU$1/2,0)) -> #VALUE! | AMY4: =INDEX(IF(MOD(AMY$1,2),Moves!$I$3:$I$152,Moves!$O$3:$O$152),ROUNDUP(AMY$1/2,0)) -> #VALUE! | ANC4: =INDEX(IF(MOD(ANC$1,2),Moves!$I$3:$I$152,Moves!$O$3:$O$152),ROUNDUP(ANC$1/2,0)) -> #VALUE! | ANG4: =INDEX(IF(MOD(ANG$1,2),Moves!$I$3:$I$152,Moves!$O$3:$O$152),ROUNDUP(ANG$1/2,0)) -> #VALUE! | ANK4: =INDEX(IF(MOD(ANK$1,2),Moves!$I$3:$I$152,Moves!$O$3:$O$152),ROUNDUP(ANK$1/2,0)) -> #VALUE! | ANO4: =INDEX(IF(MOD(ANO$1,2),Moves!$I$3:$I$152,Moves!$O$3:$O$152),ROUNDUP(ANO$1/2,0)) -> #VALUE! | ANS4: =INDEX(IF(MOD(ANS$1,2),Moves!$I$3:$I$152,Moves!$O$3:$O$152),ROUNDUP(ANS$1/2,0)) -> #VALUE! | ANW4: =INDEX(IF(MOD(ANW$1,2),Moves!$I$3:$I$152,Moves!$O$3:$O$152),ROUNDUP(ANW$1/2,0)) -> #VALUE! | AOA4: =INDEX(IF(MOD(AOA$1,2),Moves!$I$3:$I$152,Moves!$O$3:$O$152),ROUNDUP(AOA$1/2,0)) -> #VALUE! | AOE4: =INDEX(IF(MOD(AOE$1,2),Moves!$I$3:$I$152,Moves!$O$3:$O$152),ROUNDUP(AOE$1/2,0)) -> #VALUE! | AOI4: =INDEX(IF(MOD(AOI$1,2),Moves!$I$3:$I$152,Moves!$O$3:$O$152),ROUNDUP(AOI$1/2,0)) -> #VALUE! | AOM4: =INDEX(IF(MOD(AOM$1,2),Moves!$I$3:$I$152,Moves!$O$3:$O$152),ROUNDUP(AOM$1/2,0)) -> #VALUE! | AOQ4: =INDEX(IF(MOD(AOQ$1,2),Moves!$I$3:$I$152,Moves!$O$3:$O$152),ROUNDUP(AOQ$1/2,0)) -> #VALUE! | AOU4: =INDEX(IF(MOD(AOU$1,2),Moves!$I$3:$I$152,Moves!$O$3:$O$152),ROUNDUP(AOU$1/2,0)) -> #VALUE! | AOY4: =INDEX(IF(MOD(AOY$1,2),Moves!$I$3:$I$152,Moves!$O$3:$O$152),ROUNDUP(AOY$1/2,0)) -> #VALUE! | APC4: =INDEX(IF(MOD(APC$1,2),Moves!$I$3:$I$152,Moves!$O$3:$O$152),ROUNDUP(APC$1/2,0)) -> #VALUE! | APG4: =INDEX(IF(MOD(APG$1,2),Moves!$I$3:$I$152,Moves!$O$3:$O$152),ROUNDUP(APG$1/2,0)) -> #VALUE! | APK4: =INDEX(IF(MOD(APK$1,2),Moves!$I$3:$I$152,Moves!$O$3:$O$152),ROUNDUP(APK$1/2,0)) -> #VALUE! | APO4: =INDEX(IF(MOD(APO$1,2),Moves!$I$3:$I$152,Moves!$O$3:$O$152),ROUNDUP(APO$1/2,0)) -> #VALUE! | APS4: =INDEX(IF(MOD(APS$1,2),Moves!$I$3:$I$152,Moves!$O$3:$O$152),ROUNDUP(APS$1/2,0)) -> #VALUE! | APW4: =INDEX(IF(MOD(APW$1,2),Moves!$I$3:$I$152,Moves!$O$3:$O$152),ROUNDUP(APW$1/2,0)) -> #VALUE! | AQA4: =INDEX(IF(MOD(AQA$1,2),Moves!$I$3:$I$152,Moves!$O$3:$O$152),ROUNDUP(AQA$1/2,0)) -> #VALUE! | AQE4: =INDEX(IF(MOD(AQE$1,2),Moves!$I$3:$I$152,Moves!$O$3:$O$152),ROUNDUP(AQE$1/2,0)) -> #VALUE! | AQI4: =INDEX(IF(MOD(AQI$1,2),Moves!$I$3:$I$152,Moves!$O$3:$O$152),ROUNDUP(AQI$1/2,0)) -> #VALUE! | AQM4: =INDEX(IF(MOD(AQM$1,2),Moves!$I$3:$I$152,Moves!$O$3:$O$152),ROUNDUP(AQM$1/2,0)) -> #VALUE! | AQQ4: =INDEX(IF(MOD(AQQ$1,2),Moves!$I$3:$I$152,Moves!$O$3:$O$152),ROUNDUP(AQQ$1/2,0)) -> #VALUE! | AQU4: =INDEX(IF(MOD(AQU$1,2),Moves!$I$3:$I$152,Moves!$O$3:$O$152),ROUNDUP(AQU$1/2,0)) -> #VALUE! | AQY4: =INDEX(IF(MOD(AQY$1,2),Moves!$I$3:$I$152,Moves!$O$3:$O$152),ROUNDUP(AQY$1/2,0)) -> #VALUE! | ARC4: =INDEX(IF(MOD(ARC$1,2),Moves!$I$3:$I$152,Moves!$O$3:$O$152),ROUNDUP(ARC$1/2,0)) -> #VALUE! | ARG4: =INDEX(IF(MOD(ARG$1,2),Moves!$I$3:$I$152,Moves!$O$3:$O$152),ROUNDUP(ARG$1/2,0)) -> #VALUE! | ARK4: =INDEX(IF(MOD(ARK$1,2),Moves!$I$3:$I$152,Moves!$O$3:$O$152),ROUNDUP(ARK$1/2,0)) -> #VALUE! | ARO4: =INDEX(IF(MOD(ARO$1,2),Moves!$I$3:$I$152,Moves!$O$3:$O$152),ROUNDUP(ARO$1/2,0)) -> #VALUE! | ARS4: =INDEX(IF(MOD(ARS$1,2),Moves!$I$3:$I$152,Moves!$O$3:$O$152),ROUNDUP(ARS$1/2,0)) -> #VALUE! | ARW4: =INDEX(IF(MOD(ARW$1,2),Moves!$I$3:$I$152,Moves!$O$3:$O$152),ROUNDUP(ARW$1/2,0)) -> #VALUE! | ASA4: =INDEX(IF(MOD(ASA$1,2),Moves!$I$3:$I$152,Moves!$O$3:$O$152),ROUNDUP(ASA$1/2,0)) -> #VALUE! | ASE4: =INDEX(IF(MOD(ASE$1,2),Moves!$I$3:$I$152,Moves!$O$3:$O$152),ROUNDUP(ASE$1/2,0)) -> #VALUE! | ASI4: =INDEX(IF(MOD(ASI$1,2),Moves!$I$3:$I$152,Moves!$O$3:$O$152),ROUNDUP(ASI$1/2,0)) -> #VALUE! | ASM4: =INDEX(IF(MOD(ASM$1,2),Moves!$I$3:$I$152,Moves!$O$3:$O$152),ROUNDUP(ASM$1/2,0)) -> #VALUE! | ASQ4: =INDEX(IF(MOD(ASQ$1,2),Moves!$I$3:$I$152,Moves!$O$3:$O$152),ROUNDUP(ASQ$1/2,0)) -> #VALUE! | ASU4: =INDEX(IF(MOD(ASU$1,2),Moves!$I$3:$I$152,Moves!$O$3:$O$152),ROUNDUP(ASU$1/2,0)) -> #VALUE! | ASY4: =INDEX(IF(MOD(ASY$1,2),Moves!$I$3:$I$152,Moves!$O$3:$O$152),ROUNDUP(ASY$1/2,0)) -> #VALUE! | ATC4: =INDEX(IF(MOD(ATC$1,2),Moves!$I$3:$I$152,Moves!$O$3:$O$152),ROUNDUP(ATC$1/2,0)) -> #VALUE! | ATG4: =INDEX(IF(MOD(ATG$1,2),Moves!$I$3:$I$152,Moves!$O$3:$O$152),ROUNDUP(ATG$1/2,0)) -> #VALUE!
B5: Disamb | G5: =INDEX(IF(MOD(G$1,2),Moves!$J$3:$J$152,Moves!$P$3:$P$152),ROUNDUP(G$1/2,0)) | K5: =INDEX(IF(MOD(K$1,2),Moves!$J$3:$J$152,Moves!$P$3:$P$152),ROUNDUP(K$1/2,0)) | O5: =INDEX(IF(MOD(O$1,2),Moves!$J$3:$J$152,Moves!$P$3:$P$152),ROUNDUP(O$1/2,0)) | S5: =INDEX(IF(MOD(S$1,2),Moves!$J$3:$J$152,Moves!$P$3:$P$152),ROUNDUP(S$1/2,0)) | W5: =INDEX(IF(MOD(W$1,2),Moves!$J$3:$J$152,Moves!$P$3:$P$152),ROUNDUP(W$1/2,0)) | AA5: =INDEX(IF(MOD(AA$1,2),Moves!$J$3:$J$152,Moves!$P$3:$P$152),ROUNDUP(AA$1/2,0)) | AE5: =INDEX(IF(MOD(AE$1,2),Moves!$J$3:$J$152,Moves!$P$3:$P$152),ROUNDUP(AE$1/2,0)) | AI5: =INDEX(IF(MOD(AI$1,2),Moves!$J$3:$J$152,Moves!$P$3:$P$152),ROUNDUP(AI$1/2,0)) | AM5: =INDEX(IF(MOD(AM$1,2),Moves!$J$3:$J$152,Moves!$P$3:$P$152),ROUNDUP(AM$1/2,0)) -> e | AQ5: =INDEX(IF(MOD(AQ$1,2),Moves!$J$3:$J$152,Moves!$P$3:$P$152),ROUNDUP(AQ$1/2,0)) -> e | AU5: =INDEX(IF(MOD(AU$1,2),Moves!$J$3:$J$152,Moves!$P$3:$P$152),ROUNDUP(AU$1/2,0)) | AY5: =INDEX(IF(MOD(AY$1,2),Moves!$J$3:$J$152,Moves!$P$3:$P$152),ROUNDUP(AY$1/2,0)) | BC5: =INDEX(IF(MOD(BC$1,2),Moves!$J$3:$J$152,Moves!$P$3:$P$152),ROUNDUP(BC$1/2,0)) | BG5: =INDEX(IF(MOD(BG$1,2),Moves!$J$3:$J$152,Moves!$P$3:$P$152),ROUNDUP(BG$1/2,0)) | BK5: =INDEX(IF(MOD(BK$1,2),Moves!$J$3:$J$152,Moves!$P$3:$P$152),ROUNDUP(BK$1/2,0)) | BO5: =INDEX(IF(MOD(BO$1,2),Moves!$J$3:$J$152,Moves!$P$3:$P$152),ROUNDUP(BO$1/2,0)) -> c | BS5: =INDEX(IF(MOD(BS$1,2),Moves!$J$3:$J$152,Moves!$P$3:$P$152),ROUNDUP(BS$1/2,0)) | BW5: =INDEX(IF(MOD(BW$1,2),Moves!$J$3:$J$152,Moves!$P$3:$P$152),ROUNDUP(BW$1/2,0)) | CA5: =INDEX(IF(MOD(CA$1,2),Moves!$J$3:$J$152,Moves!$P$3:$P$152),ROUNDUP(CA$1/2,0)) | CE5: =INDEX(IF(MOD(CE$1,2),Moves!$J$3:$J$152,Moves!$P$3:$P$152),ROUNDUP(CE$1/2,0)) | CI5: =INDEX(IF(MOD(CI$1,2),Moves!$J$3:$J$152,Moves!$P$3:$P$152),ROUNDUP(CI$1/2,0)) | CM5: =INDEX(IF(MOD(CM$1,2),Moves!$J$3:$J$152,Moves!$P$3:$P$152),ROUNDUP(CM$1/2,0)) | CQ5: =INDEX(IF(MOD(CQ$1,2),Moves!$J$3:$J$152,Moves!$P$3:$P$152),ROUNDUP(CQ$1/2,0)) -> 2 | CU5: =INDEX(IF(MOD(CU$1,2),Moves!$J$3:$J$152,Moves!$P$3:$P$152),ROUNDUP(CU$1/2,0)) -> f | CY5: =INDEX(IF(MOD(CY$1,2),Moves!$J$3:$J$152,Moves!$P$3:$P$152),ROUNDUP(CY$1/2,0)) -> f | DC5: =INDEX(IF(MOD(DC$1,2),Moves!$J$3:$J$152,Moves!$P$3:$P$152),ROUNDUP(DC$1/2,0)) | DG5: =INDEX(IF(MOD(DG$1,2),Moves!$J$3:$J$152,Moves!$P$3:$P$152),ROUNDUP(DG$1/2,0)) | DK5: =INDEX(IF(MOD(DK$1,2),Moves!$J$3:$J$152,Moves!$P$3:$P$152),ROUNDUP(DK$1/2,0)) | DO5: =INDEX(IF(MOD(DO$1,2),Moves!$J$3:$J$152,Moves!$P$3:$P$152),ROUNDUP(DO$1/2,0)) | DS5: =INDEX(IF(MOD(DS$1,2),Moves!$J$3:$J$152,Moves!$P$3:$P$152),ROUNDUP(DS$1/2,0)) | DW5: =INDEX(IF(MOD(DW$1,2),Moves!$J$3:$J$152,Moves!$P$3:$P$152),ROUNDUP(DW$1/2,0)) | EA5: =INDEX(IF(MOD(EA$1,2),Moves!$J$3:$J$152,Moves!$P$3:$P$152),ROUNDUP(EA$1/2,0)) | EE5: =INDEX(IF(MOD(EE$1,2),Moves!$J$3:$J$152,Moves!$P$3:$P$152),ROUNDUP(EE$1/2,0)) -> a | EI5: =INDEX(IF(MOD(EI$1,2),Moves!$J$3:$J$152,Moves!$P$3:$P$152),ROUNDUP(EI$1/2,0)) -> a | EM5: =INDEX(IF(MOD(EM$1,2),Moves!$J$3:$J$152,Moves!$P$3:$P$152),ROUNDUP(EM$1/2,0)) | EQ5: =INDEX(IF(MOD(EQ$1,2),Moves!$J$3:$J$152,Moves!$P$3:$P$152),ROUNDUP(EQ$1/2,0)) -> b | EU5: =INDEX(IF(MOD(EU$1,2),Moves!$J$3:$J$152,Moves!$P$3:$P$152),ROUNDUP(EU$1/2,0)) | EY5: =INDEX(IF(MOD(EY$1,2),Moves!$J$3:$J$152,Moves!$P$3:$P$152),ROUNDUP(EY$1/2,0)) | FC5: =INDEX(IF(MOD(FC$1,2),Moves!$J$3:$J$152,Moves!$P$3:$P$152),ROUNDUP(FC$1/2,0)) | FG5: =INDEX(IF(MOD(FG$1,2),Moves!$J$3:$J$152,Moves!$P$3:$P$152),ROUNDUP(FG$1/2,0)) | FK5: =INDEX(IF(MOD(FK$1,2),Moves!$J$3:$J$152,Moves!$P$3:$P$152),ROUNDUP(FK$1/2,0)) -> c | FO5: =INDEX(IF(MOD(FO$1,2),Moves!$J$3:$J$152,Moves!$P$3:$P$152),ROUNDUP(FO$1/2,0)) | FS5: =INDEX(IF(MOD(FS$1,2),Moves!$J$3:$J$152,Moves!$P$3:$P$152),ROUNDUP(FS$1/2,0)) | FW5: =INDEX(IF(MOD(FW$1,2),Moves!$J$3:$J$152,Moves!$P$3:$P$152),ROUNDUP(FW$1/2,0)) | GA5: =INDEX(IF(MOD(GA$1,2),Moves!$J$3:$J$152,Moves!$P$3:$P$152),ROUNDUP(GA$1/2,0)) | GE5: =INDEX(IF(MOD(GE$1,2),Moves!$J$3:$J$152,Moves!$P$3:$P$152),ROUNDUP(GE$1/2,0)) | GI5: =INDEX(IF(MOD(GI$1,2),Moves!$J$3:$J$152,Moves!$P$3:$P$152),ROUNDUP(GI$1/2,0)) | GM5: =INDEX(IF(MOD(GM$1,2),Moves!$J$3:$J$152,Moves!$P$3:$P$152),ROUNDUP(GM$1/2,0)) | GQ5: =INDEX(IF(MOD(GQ$1,2),Moves!$J$3:$J$152,Moves!$P$3:$P$152),ROUNDUP(GQ$1/2,0)) | GU5: =INDEX(IF(MOD(GU$1,2),Moves!$J$3:$J$152,Moves!$P$3:$P$152),ROUNDUP(GU$1/2,0)) | GY5: =INDEX(IF(MOD(GY$1,2),Moves!$J$3:$J$152,Moves!$P$3:$P$152),ROUNDUP(GY$1/2,0)) | HC5: =INDEX(IF(MOD(HC$1,2),Moves!$J$3:$J$152,Moves!$P$3:$P$152),ROUNDUP(HC$1/2,0)) | HG5: =INDEX(IF(MOD(HG$1,2),Moves!$J$3:$J$152,Moves!$P$3:$P$152),ROUNDUP(HG$1/2,0)) | HK5: =INDEX(IF(MOD(HK$1,2),Moves!$J$3:$J$152,Moves!$P$3:$P$152),ROUNDUP(HK$1/2,0)) | HO5: =INDEX(IF(MOD(HO$1,2),Moves!$J$3:$J$152,Moves!$P$3:$P$152),ROUNDUP(HO$1/2,0)) | HS5: =INDEX(IF(MOD(HS$1,2),Moves!$J$3:$J$152,Moves!$P$3:$P$152),ROUNDUP(HS$1/2,0)) | HW5: =INDEX(IF(MOD(HW$1,2),Moves!$J$3:$J$152,Moves!$P$3:$P$152),ROUNDUP(HW$1/2,0)) | IA5: =INDEX(IF(MOD(IA$1,2),Moves!$J$3:$J$152,Moves!$P$3:$P$152),ROUNDUP(IA$1/2,0)) | IE5: =INDEX(IF(MOD(IE$1,2),Moves!$J$3:$J$152,Moves!$P$3:$P$152),ROUNDUP(IE$1/2,0)) | II5: =INDEX(IF(MOD(II$1,2),Moves!$J$3:$J$152,Moves!$P$3:$P$152),ROUNDUP(II$1/2,0)) | IM5: =INDEX(IF(MOD(IM$1,2),Moves!$J$3:$J$152,Moves!$P$3:$P$152),ROUNDUP(IM$1/2,0)) | IQ5: =INDEX(IF(MOD(IQ$1,2),Moves!$J$3:$J$152,Moves!$P$3:$P$152),ROUNDUP(IQ$1/2,0)) -> c | IU5: =INDEX(IF(MOD(IU$1,2),Moves!$J$3:$J$152,Moves!$P$3:$P$152),ROUNDUP(IU$1/2,0)) | IY5: =INDEX(IF(MOD(IY$1,2),Moves!$J$3:$J$152,Moves!$P$3:$P$152),ROUNDUP(IY$1/2,0)) | JC5: =INDEX(IF(MOD(JC$1,2),Moves!$J$3:$J$152,Moves!$P$3:$P$152),ROUNDUP(JC$1/2,0)) | JG5: =INDEX(IF(MOD(JG$1,2),Moves!$J$3:$J$152,Moves!$P$3:$P$152),ROUNDUP(JG$1/2,0)) | JK5: =INDEX(IF(MOD(JK$1,2),Moves!$J$3:$J$152,Moves!$P$3:$P$152),ROUNDUP(JK$1/2,0)) | JO5: =INDEX(IF(MOD(JO$1,2),Moves!$J$3:$J$152,Moves!$P$3:$P$152),ROUNDUP(JO$1/2,0)) | JS5: =INDEX(IF(MOD(JS$1,2),Moves!$J$3:$J$152,Moves!$P$3:$P$152),ROUNDUP(JS$1/2,0)) | JW5: =INDEX(IF(MOD(JW$1,2),Moves!$J$3:$J$152,Moves!$P$3:$P$152),ROUNDUP(JW$1/2,0)) | KA5: =INDEX(IF(MOD(KA$1,2),Moves!$J$3:$J$152,Moves!$P$3:$P$152),ROUNDUP(KA$1/2,0)) | KE5: =INDEX(IF(MOD(KE$1,2),Moves!$J$3:$J$152,Moves!$P$3:$P$152),ROUNDUP(KE$1/2,0)) | KI5: =INDEX(IF(MOD(KI$1,2),Moves!$J$3:$J$152,Moves!$P$3:$P$152),ROUNDUP(KI$1/2,0)) | KM5: =INDEX(IF(MOD(KM$1,2),Moves!$J$3:$J$152,Moves!$P$3:$P$152),ROUNDUP(KM$1/2,0)) | KQ5: =INDEX(IF(MOD(KQ$1,2),Moves!$J$3:$J$152,Moves!$P$3:$P$152),ROUNDUP(KQ$1/2,0)) | KU5: =INDEX(IF(MOD(KU$1,2),Moves!$J$3:$J$152,Moves!$P$3:$P$152),ROUNDUP(KU$1/2,0)) | KY5: =INDEX(IF(MOD(KY$1,2),Moves!$J$3:$J$152,Moves!$P$3:$P$152),ROUNDUP(KY$1/2,0)) | LC5: =INDEX(IF(MOD(LC$1,2),Moves!$J$3:$J$152,Moves!$P$3:$P$152),ROUNDUP(LC$1/2,0)) | LG5: =INDEX(IF(MOD(LG$1,2),Moves!$J$3:$J$152,Moves!$P$3:$P$152),ROUNDUP(LG$1/2,0)) | LK5: =INDEX(IF(MOD(LK$1,2),Moves!$J$3:$J$152,Moves!$P$3:$P$152),ROUNDUP(LK$1/2,0)) | LO5: =INDEX(IF(MOD(LO$1,2),Moves!$J$3:$J$152,Moves!$P$3:$P$152),ROUNDUP(LO$1/2,0)) | LS5: =INDEX(IF(MOD(LS$1,2),Moves!$J$3:$J$152,Moves!$P$3:$P$152),ROUNDUP(LS$1/2,0)) | LW5: =INDEX(IF(MOD(LW$1,2),Moves!$J$3:$J$152,Moves!$P$3:$P$152),ROUNDUP(LW$1/2,0)) | MA5: =INDEX(IF(MOD(MA$1,2),Moves!$J$3:$J$152,Moves!$P$3:$P$152),ROUNDUP(MA$1/2,0)) | ME5: =INDEX(IF(MOD(ME$1,2),Moves!$J$3:$J$152,Moves!$P$3:$P$152),ROUNDUP(ME$1/2,0)) | MI5: =INDEX(IF(MOD(MI$1,2),Moves!$J$3:$J$152,Moves!$P$3:$P$152),ROUNDUP(MI$1/2,0)) | MM5: =INDEX(IF(MOD(MM$1,2),Moves!$J$3:$J$152,Moves!$P$3:$P$152),ROUNDUP(MM$1/2,0)) | MQ5: =INDEX(IF(MOD(MQ$1,2),Moves!$J$3:$J$152,Moves!$P$3:$P$152),ROUNDUP(MQ$1/2,0)) | MU5: =INDEX(IF(MOD(MU$1,2),Moves!$J$3:$J$152,Moves!$P$3:$P$152),ROUNDUP(MU$1/2,0)) | MY5: =INDEX(IF(MOD(MY$1,2),Moves!$J$3:$J$152,Moves!$P$3:$P$152),ROUNDUP(MY$1/2,0)) | NC5: =INDEX(IF(MOD(NC$1,2),Moves!$J$3:$J$152,Moves!$P$3:$P$152),ROUNDUP(NC$1/2,0)) | NG5: =INDEX(IF(MOD(NG$1,2),Moves!$J$3:$J$152,Moves!$P$3:$P$152),ROUNDUP(NG$1/2,0)) | NK5: =INDEX(IF(MOD(NK$1,2),Moves!$J$3:$J$152,Moves!$P$3:$P$152),ROUNDUP(NK$1/2,0)) | NO5: =INDEX(IF(MOD(NO$1,2),Moves!$J$3:$J$152,Moves!$P$3:$P$152),ROUNDUP(NO$1/2,0)) | NS5: =INDEX(IF(MOD(NS$1,2),Moves!$J$3:$J$152,Moves!$P$3:$P$152),ROUNDUP(NS$1/2,0)) -> #VALUE! | NW5: =INDEX(IF(MOD(NW$1,2),Moves!$J$3:$J$152,Moves!$P$3:$P$152),ROUNDUP(NW$1/2,0)) | OA5: =INDEX(IF(MOD(OA$1,2),Moves!$J$3:$J$152,Moves!$P$3:$P$152),ROUNDUP(OA$1/2,0)) -> #VALUE! | OE5: =INDEX(IF(MOD(OE$1,2),Moves!$J$3:$J$152,Moves!$P$3:$P$152),ROUNDUP(OE$1/2,0)) | OI5: =INDEX(IF(MOD(OI$1,2),Moves!$J$3:$J$152,Moves!$P$3:$P$152),ROUNDUP(OI$1/2,0)) -> #VALUE! | OM5: =INDEX(IF(MOD(OM$1,2),Moves!$J$3:$J$152,Moves!$P$3:$P$152),ROUNDUP(OM$1/2,0)) | OQ5: =INDEX(IF(MOD(OQ$1,2),Moves!$J$3:$J$152,Moves!$P$3:$P$152),ROUNDUP(OQ$1/2,0)) -> #VALUE! | OU5: =INDEX(IF(MOD(OU$1,2),Moves!$J$3:$J$152,Moves!$P$3:$P$152),ROUNDUP(OU$1/2,0)) | OY5: =INDEX(IF(MOD(OY$1,2),Moves!$J$3:$J$152,Moves!$P$3:$P$152),ROUNDUP(OY$1/2,0)) -> #VALUE! | PC5: =INDEX(IF(MOD(PC$1,2),Moves!$J$3:$J$152,Moves!$P$3:$P$152),ROUNDUP(PC$1/2,0)) | PG5: =INDEX(IF(MOD(PG$1,2),Moves!$J$3:$J$152,Moves!$P$3:$P$152),ROUNDUP(PG$1/2,0)) -> #VALUE! | PK5: =INDEX(IF(MOD(PK$1,2),Moves!$J$3:$J$152,Moves!$P$3:$P$152),ROUNDUP(PK$1/2,0)) | PO5: =INDEX(IF(MOD(PO$1,2),Moves!$J$3:$J$152,Moves!$P$3:$P$152),ROUNDUP(PO$1/2,0)) -> #VALUE! | PS5: =INDEX(IF(MOD(PS$1,2),Moves!$J$3:$J$152,Moves!$P$3:$P$152),ROUNDUP(PS$1/2,0)) | PW5: =INDEX(IF(MOD(PW$1,2),Moves!$J$3:$J$152,Moves!$P$3:$P$152),ROUNDUP(PW$1/2,0)) -> #VALUE! | QA5: =INDEX(IF(MOD(QA$1,2),Moves!$J$3:$J$152,Moves!$P$3:$P$152),ROUNDUP(QA$1/2,0)) | QE5: =INDEX(IF(MOD(QE$1,2),Moves!$J$3:$J$152,Moves!$P$3:$P$152),ROUNDUP(QE$1/2,0)) -> #VALUE! | QI5: =INDEX(IF(MOD(QI$1,2),Moves!$J$3:$J$152,Moves!$P$3:$P$152),ROUNDUP(QI$1/2,0)) | QM5: =INDEX(IF(MOD(QM$1,2),Moves!$J$3:$J$152,Moves!$P$3:$P$152),ROUNDUP(QM$1/2,0)) -> #VALUE! | QQ5: =INDEX(IF(MOD(QQ$1,2),Moves!$J$3:$J$152,Moves!$P$3:$P$152),ROUNDUP(QQ$1/2,0)) | QU5: =INDEX(IF(MOD(QU$1,2),Moves!$J$3:$J$152,Moves!$P$3:$P$152),ROUNDUP(QU$1/2,0)) -> #VALUE! | QY5: =INDEX(IF(MOD(QY$1,2),Moves!$J$3:$J$152,Moves!$P$3:$P$152),ROUNDUP(QY$1/2,0)) | RC5: =INDEX(IF(MOD(RC$1,2),Moves!$J$3:$J$152,Moves!$P$3:$P$152),ROUNDUP(RC$1/2,0)) -> #VALUE! | RG5: =INDEX(IF(MOD(RG$1,2),Moves!$J$3:$J$152,Moves!$P$3:$P$152),ROUNDUP(RG$1/2,0)) | RK5: =INDEX(IF(MOD(RK$1,2),Moves!$J$3:$J$152,Moves!$P$3:$P$152),ROUNDUP(RK$1/2,0)) -> #VALUE! | RO5: =INDEX(IF(MOD(RO$1,2),Moves!$J$3:$J$152,Moves!$P$3:$P$152),ROUNDUP(RO$1/2,0)) | RS5: =INDEX(IF(MOD(RS$1,2),Moves!$J$3:$J$152,Moves!$P$3:$P$152),ROUNDUP(RS$1/2,0)) -> #VALUE! | RW5: =INDEX(IF(MOD(RW$1,2),Moves!$J$3:$J$152,Moves!$P$3:$P$152),ROUNDUP(RW$1/2,0)) | SA5: =INDEX(IF(MOD(SA$1,2),Moves!$J$3:$J$152,Moves!$P$3:$P$152),ROUNDUP(SA$1/2,0)) -> #VALUE! | SE5: =INDEX(IF(MOD(SE$1,2),Moves!$J$3:$J$152,Moves!$P$3:$P$152),ROUNDUP(SE$1/2,0)) | SI5: =INDEX(IF(MOD(SI$1,2),Moves!$J$3:$J$152,Moves!$P$3:$P$152),ROUNDUP(SI$1/2,0)) -> #VALUE! | SM5: =INDEX(IF(MOD(SM$1,2),Moves!$J$3:$J$152,Moves!$P$3:$P$152),ROUNDUP(SM$1/2,0)) | SQ5: =INDEX(IF(MOD(SQ$1,2),Moves!$J$3:$J$152,Moves!$P$3:$P$152),ROUNDUP(SQ$1/2,0)) -> #VALUE! | SU5: =INDEX(IF(MOD(SU$1,2),Moves!$J$3:$J$152,Moves!$P$3:$P$152),ROUNDUP(SU$1/2,0)) | SY5: =INDEX(IF(MOD(SY$1,2),Moves!$J$3:$J$152,Moves!$P$3:$P$152),ROUNDUP(SY$1/2,0)) -> #VALUE! | TC5: =INDEX(IF(MOD(TC$1,2),Moves!$J$3:$J$152,Moves!$P$3:$P$152),ROUNDUP(TC$1/2,0)) | TG5: =INDEX(IF(MOD(TG$1,2),Moves!$J$3:$J$152,Moves!$P$3:$P$152),ROUNDUP(TG$1/2,0)) -> #VALUE! | TK5: =INDEX(IF(MOD(TK$1,2),Moves!$J$3:$J$152,Moves!$P$3:$P$152),ROUNDUP(TK$1/2,0)) | TO5: =INDEX(IF(MOD(TO$1,2),Moves!$J$3:$J$152,Moves!$P$3:$P$152),ROUNDUP(TO$1/2,0)) -> #VALUE! | TS5: =INDEX(IF(MOD(TS$1,2),Moves!$J$3:$J$152,Moves!$P$3:$P$152),ROUNDUP(TS$1/2,0)) | TW5: =INDEX(IF(MOD(TW$1,2),Moves!$J$3:$J$152,Moves!$P$3:$P$152),ROUNDUP(TW$1/2,0)) -> #VALUE! | UA5: =INDEX(IF(MOD(UA$1,2),Moves!$J$3:$J$152,Moves!$P$3:$P$152),ROUNDUP(UA$1/2,0)) | UE5: =INDEX(IF(MOD(UE$1,2),Moves!$J$3:$J$152,Moves!$P$3:$P$152),ROUNDUP(UE$1/2,0)) -> #VALUE! | UI5: =INDEX(IF(MOD(UI$1,2),Moves!$J$3:$J$152,Moves!$P$3:$P$152),ROUNDUP(UI$1/2,0)) | UM5: =INDEX(IF(MOD(UM$1,2),Moves!$J$3:$J$152,Moves!$P$3:$P$152),ROUNDUP(UM$1/2,0)) -> #VALUE! | UQ5: =INDEX(IF(MOD(UQ$1,2),Moves!$J$3:$J$152,Moves!$P$3:$P$152),ROUNDUP(UQ$1/2,0)) | UU5: =INDEX(IF(MOD(UU$1,2),Moves!$J$3:$J$152,Moves!$P$3:$P$152),ROUNDUP(UU$1/2,0)) -> #VALUE! | UY5: =INDEX(IF(MOD(UY$1,2),Moves!$J$3:$J$152,Moves!$P$3:$P$152),ROUNDUP(UY$1/2,0)) | VC5: =INDEX(IF(MOD(VC$1,2),Moves!$J$3:$J$152,Moves!$P$3:$P$152),ROUNDUP(VC$1/2,0)) -> #VALUE! | VG5: =INDEX(IF(MOD(VG$1,2),Moves!$J$3:$J$152,Moves!$P$3:$P$152),ROUNDUP(VG$1/2,0)) | VK5: =INDEX(IF(MOD(VK$1,2),Moves!$J$3:$J$152,Moves!$P$3:$P$152),ROUNDUP(VK$1/2,0)) -> #VALUE! | VO5: =INDEX(IF(MOD(VO$1,2),Moves!$J$3:$J$152,Moves!$P$3:$P$152),ROUNDUP(VO$1/2,0)) | VS5: =INDEX(IF(MOD(VS$1,2),Moves!$J$3:$J$152,Moves!$P$3:$P$152),ROUNDUP(VS$1/2,0)) -> #VALUE! | VW5: =INDEX(IF(MOD(VW$1,2),Moves!$J$3:$J$152,Moves!$P$3:$P$152),ROUNDUP(VW$1/2,0)) | WA5: =INDEX(IF(MOD(WA$1,2),Moves!$J$3:$J$152,Moves!$P$3:$P$152),ROUNDUP(WA$1/2,0)) -> #VALUE! | WE5: =INDEX(IF(MOD(WE$1,2),Moves!$J$3:$J$152,Moves!$P$3:$P$152),ROUNDUP(WE$1/2,0)) | WI5: =INDEX(IF(MOD(WI$1,2),Moves!$J$3:$J$152,Moves!$P$3:$P$152),ROUNDUP(WI$1/2,0)) -> #VALUE! | WM5: =INDEX(IF(MOD(WM$1,2),Moves!$J$3:$J$152,Moves!$P$3:$P$152),ROUNDUP(WM$1/2,0)) | WQ5: =INDEX(IF(MOD(WQ$1,2),Moves!$J$3:$J$152,Moves!$P$3:$P$152),ROUNDUP(WQ$1/2,0)) -> #VALUE! | WU5: =INDEX(IF(MOD(WU$1,2),Moves!$J$3:$J$152,Moves!$P$3:$P$152),ROUNDUP(WU$1/2,0)) | WY5: =INDEX(IF(MOD(WY$1,2),Moves!$J$3:$J$152,Moves!$P$3:$P$152),ROUNDUP(WY$1/2,0)) -> #VALUE! | XC5: =INDEX(IF(MOD(XC$1,2),Moves!$J$3:$J$152,Moves!$P$3:$P$152),ROUNDUP(XC$1/2,0)) | XG5: =INDEX(IF(MOD(XG$1,2),Moves!$J$3:$J$152,Moves!$P$3:$P$152),ROUNDUP(XG$1/2,0)) -> #VALUE! | XK5: =INDEX(IF(MOD(XK$1,2),Moves!$J$3:$J$152,Moves!$P$3:$P$152),ROUNDUP(XK$1/2,0)) | XO5: =INDEX(IF(MOD(XO$1,2),Moves!$J$3:$J$152,Moves!$P$3:$P$152),ROUNDUP(XO$1/2,0)) -> #VALUE! | XS5: =INDEX(IF(MOD(XS$1,2),Moves!$J$3:$J$152,Moves!$P$3:$P$152),ROUNDUP(XS$1/2,0)) | XW5: =INDEX(IF(MOD(XW$1,2),Moves!$J$3:$J$152,Moves!$P$3:$P$152),ROUNDUP(XW$1/2,0)) -> #VALUE! | YA5: =INDEX(IF(MOD(YA$1,2),Moves!$J$3:$J$152,Moves!$P$3:$P$152),ROUNDUP(YA$1/2,0)) | YE5: =INDEX(IF(MOD(YE$1,2),Moves!$J$3:$J$152,Moves!$P$3:$P$152),ROUNDUP(YE$1/2,0)) -> #VALUE! | YI5: =INDEX(IF(MOD(YI$1,2),Moves!$J$3:$J$152,Moves!$P$3:$P$152),ROUNDUP(YI$1/2,0)) | YM5: =INDEX(IF(MOD(YM$1,2),Moves!$J$3:$J$152,Moves!$P$3:$P$152),ROUNDUP(YM$1/2,0)) -> #VALUE! | YQ5: =INDEX(IF(MOD(YQ$1,2),Moves!$J$3:$J$152,Moves!$P$3:$P$152),ROUNDUP(YQ$1/2,0)) | YU5: =INDEX(IF(MOD(YU$1,2),Moves!$J$3:$J$152,Moves!$P$3:$P$152),ROUNDUP(YU$1/2,0)) -> #VALUE! | YY5: =INDEX(IF(MOD(YY$1,2),Moves!$J$3:$J$152,Moves!$P$3:$P$152),ROUNDUP(YY$1/2,0)) | ZC5: =INDEX(IF(MOD(ZC$1,2),Moves!$J$3:$J$152,Moves!$P$3:$P$152),ROUNDUP(ZC$1/2,0)) -> #VALUE! | ZG5: =INDEX(IF(MOD(ZG$1,2),Moves!$J$3:$J$152,Moves!$P$3:$P$152),ROUNDUP(ZG$1/2,0)) | ZK5: =INDEX(IF(MOD(ZK$1,2),Moves!$J$3:$J$152,Moves!$P$3:$P$152),ROUNDUP(ZK$1/2,0)) -> #VALUE! | ZO5: =INDEX(IF(MOD(ZO$1,2),Moves!$J$3:$J$152,Moves!$P$3:$P$152),ROUNDUP(ZO$1/2,0)) | ZS5: =INDEX(IF(MOD(ZS$1,2),Moves!$J$3:$J$152,Moves!$P$3:$P$152),ROUNDUP(ZS$1/2,0)) -> #VALUE! | ZW5: =INDEX(IF(MOD(ZW$1,2),Moves!$J$3:$J$152,Moves!$P$3:$P$152),ROUNDUP(ZW$1/2,0)) | AAA5: =INDEX(IF(MOD(AAA$1,2),Moves!$J$3:$J$152,Moves!$P$3:$P$152),ROUNDUP(AAA$1/2,0)) -> #VALUE! | AAE5: =INDEX(IF(MOD(AAE$1,2),Moves!$J$3:$J$152,Moves!$P$3:$P$152),ROUNDUP(AAE$1/2,0)) | AAI5: =INDEX(IF(MOD(AAI$1,2),Moves!$J$3:$J$152,Moves!$P$3:$P$152),ROUNDUP(AAI$1/2,0)) -> #VALUE! | AAM5: =INDEX(IF(MOD(AAM$1,2),Moves!$J$3:$J$152,Moves!$P$3:$P$152),ROUNDUP(AAM$1/2,0)) | AAQ5: =INDEX(IF(MOD(AAQ$1,2),Moves!$J$3:$J$152,Moves!$P$3:$P$152),ROUNDUP(AAQ$1/2,0)) -> #VALUE! | AAU5: =INDEX(IF(MOD(AAU$1,2),Moves!$J$3:$J$152,Moves!$P$3:$P$152),ROUNDUP(AAU$1/2,0)) | AAY5: =INDEX(IF(MOD(AAY$1,2),Moves!$J$3:$J$152,Moves!$P$3:$P$152),ROUNDUP(AAY$1/2,0)) -> #VALUE! | ABC5: =INDEX(IF(MOD(ABC$1,2),Moves!$J$3:$J$152,Moves!$P$3:$P$152),ROUNDUP(ABC$1/2,0)) | ABG5: =INDEX(IF(MOD(ABG$1,2),Moves!$J$3:$J$152,Moves!$P$3:$P$152),ROUNDUP(ABG$1/2,0)) -> #VALUE! | ABK5: =INDEX(IF(MOD(ABK$1,2),Moves!$J$3:$J$152,Moves!$P$3:$P$152),ROUNDUP(ABK$1/2,0)) | ABO5: =INDEX(IF(MOD(ABO$1,2),Moves!$J$3:$J$152,Moves!$P$3:$P$152),ROUNDUP(ABO$1/2,0)) -> #VALUE! | ABS5: =INDEX(IF(MOD(ABS$1,2),Moves!$J$3:$J$152,Moves!$P$3:$P$152),ROUNDUP(ABS$1/2,0)) | ABW5: =INDEX(IF(MOD(ABW$1,2),Moves!$J$3:$J$152,Moves!$P$3:$P$152),ROUNDUP(ABW$1/2,0)) -> #VALUE! | ACA5: =INDEX(IF(MOD(ACA$1,2),Moves!$J$3:$J$152,Moves!$P$3:$P$152),ROUNDUP(ACA$1/2,0)) | ACE5: =INDEX(IF(MOD(ACE$1,2),Moves!$J$3:$J$152,Moves!$P$3:$P$152),ROUNDUP(ACE$1/2,0)) -> #VALUE! | ACI5: =INDEX(IF(MOD(ACI$1,2),Moves!$J$3:$J$152,Moves!$P$3:$P$152),ROUNDUP(ACI$1/2,0)) | ACM5: =INDEX(IF(MOD(ACM$1,2),Moves!$J$3:$J$152,Moves!$P$3:$P$152),ROUNDUP(ACM$1/2,0)) -> #VALUE! | ACQ5: =INDEX(IF(MOD(ACQ$1,2),Moves!$J$3:$J$152,Moves!$P$3:$P$152),ROUNDUP(ACQ$1/2,0)) | ACU5: =INDEX(IF(MOD(ACU$1,2),Moves!$J$3:$J$152,Moves!$P$3:$P$152),ROUNDUP(ACU$1/2,0)) -> #VALUE! | ACY5: =INDEX(IF(MOD(ACY$1,2),Moves!$J$3:$J$152,Moves!$P$3:$P$152),ROUNDUP(ACY$1/2,0)) | ADC5: =INDEX(IF(MOD(ADC$1,2),Moves!$J$3:$J$152,Moves!$P$3:$P$152),ROUNDUP(ADC$1/2,0)) -> #VALUE! | ADG5: =INDEX(IF(MOD(ADG$1,2),Moves!$J$3:$J$152,Moves!$P$3:$P$152),ROUNDUP(ADG$1/2,0)) | ADK5: =INDEX(IF(MOD(ADK$1,2),Moves!$J$3:$J$152,Moves!$P$3:$P$152),ROUNDUP(ADK$1/2,0)) -> #VALUE! | ADO5: =INDEX(IF(MOD(ADO$1,2),Moves!$J$3:$J$152,Moves!$P$3:$P$152),ROUNDUP(ADO$1/2,0)) | ADS5: =INDEX(IF(MOD(ADS$1,2),Moves!$J$3:$J$152,Moves!$P$3:$P$152),ROUNDUP(ADS$1/2,0)) -> #VALUE! | ADW5: =INDEX(IF(MOD(ADW$1,2),Moves!$J$3:$J$152,Moves!$P$3:$P$152),ROUNDUP(ADW$1/2,0)) | AEA5: =INDEX(IF(MOD(AEA$1,2),Moves!$J$3:$J$152,Moves!$P$3:$P$152),ROUNDUP(AEA$1/2,0)) -> #VALUE! | AEE5: =INDEX(IF(MOD(AEE$1,2),Moves!$J$3:$J$152,Moves!$P$3:$P$152),ROUNDUP(AEE$1/2,0)) | AEI5: =INDEX(IF(MOD(AEI$1,2),Moves!$J$3:$J$152,Moves!$P$3:$P$152),ROUNDUP(AEI$1/2,0)) -> #VALUE! | AEM5: =INDEX(IF(MOD(AEM$1,2),Moves!$J$3:$J$152,Moves!$P$3:$P$152),ROUNDUP(AEM$1/2,0)) | AEQ5: =INDEX(IF(MOD(AEQ$1,2),Moves!$J$3:$J$152,Moves!$P$3:$P$152),ROUNDUP(AEQ$1/2,0)) -> #VALUE! | AEU5: =INDEX(IF(MOD(AEU$1,2),Moves!$J$3:$J$152,Moves!$P$3:$P$152),ROUNDUP(AEU$1/2,0)) | AEY5: =INDEX(IF(MOD(AEY$1,2),Moves!$J$3:$J$152,Moves!$P$3:$P$152),ROUNDUP(AEY$1/2,0)) -> #VALUE! | AFC5: =INDEX(IF(MOD(AFC$1,2),Moves!$J$3:$J$152,Moves!$P$3:$P$152),ROUNDUP(AFC$1/2,0)) | AFG5: =INDEX(IF(MOD(AFG$1,2),Moves!$J$3:$J$152,Moves!$P$3:$P$152),ROUNDUP(AFG$1/2,0)) -> #VALUE! | AFK5: =INDEX(IF(MOD(AFK$1,2),Moves!$J$3:$J$152,Moves!$P$3:$P$152),ROUNDUP(AFK$1/2,0)) | AFO5: =INDEX(IF(MOD(AFO$1,2),Moves!$J$3:$J$152,Moves!$P$3:$P$152),ROUNDUP(AFO$1/2,0)) -> #VALUE! | AFS5: =INDEX(IF(MOD(AFS$1,2),Moves!$J$3:$J$152,Moves!$P$3:$P$152),ROUNDUP(AFS$1/2,0)) | AFW5: =INDEX(IF(MOD(AFW$1,2),Moves!$J$3:$J$152,Moves!$P$3:$P$152),ROUNDUP(AFW$1/2,0)) -> #VALUE! | AGA5: =INDEX(IF(MOD(AGA$1,2),Moves!$J$3:$J$152,Moves!$P$3:$P$152),ROUNDUP(AGA$1/2,0)) | AGE5: =INDEX(IF(MOD(AGE$1,2),Moves!$J$3:$J$152,Moves!$P$3:$P$152),ROUNDUP(AGE$1/2,0)) -> #VALUE! | AGI5: =INDEX(IF(MOD(AGI$1,2),Moves!$J$3:$J$152,Moves!$P$3:$P$152),ROUNDUP(AGI$1/2,0)) | AGM5: =INDEX(IF(MOD(AGM$1,2),Moves!$J$3:$J$152,Moves!$P$3:$P$152),ROUNDUP(AGM$1/2,0)) -> #VALUE! | AGQ5: =INDEX(IF(MOD(AGQ$1,2),Moves!$J$3:$J$152,Moves!$P$3:$P$152),ROUNDUP(AGQ$1/2,0)) | AGU5: =INDEX(IF(MOD(AGU$1,2),Moves!$J$3:$J$152,Moves!$P$3:$P$152),ROUNDUP(AGU$1/2,0)) -> #VALUE! | AGY5: =INDEX(IF(MOD(AGY$1,2),Moves!$J$3:$J$152,Moves!$P$3:$P$152),ROUNDUP(AGY$1/2,0)) | AHC5: =INDEX(IF(MOD(AHC$1,2),Moves!$J$3:$J$152,Moves!$P$3:$P$152),ROUNDUP(AHC$1/2,0)) -> #VALUE! | AHG5: =INDEX(IF(MOD(AHG$1,2),Moves!$J$3:$J$152,Moves!$P$3:$P$152),ROUNDUP(AHG$1/2,0)) | AHK5: =INDEX(IF(MOD(AHK$1,2),Moves!$J$3:$J$152,Moves!$P$3:$P$152),ROUNDUP(AHK$1/2,0)) -> #VALUE! | AHO5: =INDEX(IF(MOD(AHO$1,2),Moves!$J$3:$J$152,Moves!$P$3:$P$152),ROUNDUP(AHO$1/2,0)) | AHS5: =INDEX(IF(MOD(AHS$1,2),Moves!$J$3:$J$152,Moves!$P$3:$P$152),ROUNDUP(AHS$1/2,0)) -> #VALUE! | AHW5: =INDEX(IF(MOD(AHW$1,2),Moves!$J$3:$J$152,Moves!$P$3:$P$152),ROUNDUP(AHW$1/2,0)) | AIA5: =INDEX(IF(MOD(AIA$1,2),Moves!$J$3:$J$152,Moves!$P$3:$P$152),ROUNDUP(AIA$1/2,0)) -> #VALUE! | AIE5: =INDEX(IF(MOD(AIE$1,2),Moves!$J$3:$J$152,Moves!$P$3:$P$152),ROUNDUP(AIE$1/2,0)) | AII5: =INDEX(IF(MOD(AII$1,2),Moves!$J$3:$J$152,Moves!$P$3:$P$152),ROUNDUP(AII$1/2,0)) -> #VALUE! | AIM5: =INDEX(IF(MOD(AIM$1,2),Moves!$J$3:$J$152,Moves!$P$3:$P$152),ROUNDUP(AIM$1/2,0)) | AIQ5: =INDEX(IF(MOD(AIQ$1,2),Moves!$J$3:$J$152,Moves!$P$3:$P$152),ROUNDUP(AIQ$1/2,0)) -> #VALUE! | AIU5: =INDEX(IF(MOD(AIU$1,2),Moves!$J$3:$J$152,Moves!$P$3:$P$152),ROUNDUP(AIU$1/2,0)) | AIY5: =INDEX(IF(MOD(AIY$1,2),Moves!$J$3:$J$152,Moves!$P$3:$P$152),ROUNDUP(AIY$1/2,0)) -> #VALUE! | AJC5: =INDEX(IF(MOD(AJC$1,2),Moves!$J$3:$J$152,Moves!$P$3:$P$152),ROUNDUP(AJC$1/2,0)) | AJG5: =INDEX(IF(MOD(AJG$1,2),Moves!$J$3:$J$152,Moves!$P$3:$P$152),ROUNDUP(AJG$1/2,0)) -> #VALUE! | AJK5: =INDEX(IF(MOD(AJK$1,2),Moves!$J$3:$J$152,Moves!$P$3:$P$152),ROUNDUP(AJK$1/2,0)) | AJO5: =INDEX(IF(MOD(AJO$1,2),Moves!$J$3:$J$152,Moves!$P$3:$P$152),ROUNDUP(AJO$1/2,0)) -> #VALUE! | AJS5: =INDEX(IF(MOD(AJS$1,2),Moves!$J$3:$J$152,Moves!$P$3:$P$152),ROUNDUP(AJS$1/2,0)) | AJW5: =INDEX(IF(MOD(AJW$1,2),Moves!$J$3:$J$152,Moves!$P$3:$P$152),ROUNDUP(AJW$1/2,0)) -> #VALUE! | AKA5: =INDEX(IF(MOD(AKA$1,2),Moves!$J$3:$J$152,Moves!$P$3:$P$152),ROUNDUP(AKA$1/2,0)) | AKE5: =INDEX(IF(MOD(AKE$1,2),Moves!$J$3:$J$152,Moves!$P$3:$P$152),ROUNDUP(AKE$1/2,0)) -> #VALUE! | AKI5: =INDEX(IF(MOD(AKI$1,2),Moves!$J$3:$J$152,Moves!$P$3:$P$152),ROUNDUP(AKI$1/2,0)) | AKM5: =INDEX(IF(MOD(AKM$1,2),Moves!$J$3:$J$152,Moves!$P$3:$P$152),ROUNDUP(AKM$1/2,0)) -> #VALUE! | AKQ5: =INDEX(IF(MOD(AKQ$1,2),Moves!$J$3:$J$152,Moves!$P$3:$P$152),ROUNDUP(AKQ$1/2,0)) | AKU5: =INDEX(IF(MOD(AKU$1,2),Moves!$J$3:$J$152,Moves!$P$3:$P$152),ROUNDUP(AKU$1/2,0)) -> #VALUE! | AKY5: =INDEX(IF(MOD(AKY$1,2),Moves!$J$3:$J$152,Moves!$P$3:$P$152),ROUNDUP(AKY$1/2,0)) | ALC5: =INDEX(IF(MOD(ALC$1,2),Moves!$J$3:$J$152,Moves!$P$3:$P$152),ROUNDUP(ALC$1/2,0)) -> #VALUE! | ALG5: =INDEX(IF(MOD(ALG$1,2),Moves!$J$3:$J$152,Moves!$P$3:$P$152),ROUNDUP(ALG$1/2,0)) | ALK5: =INDEX(IF(MOD(ALK$1,2),Moves!$J$3:$J$152,Moves!$P$3:$P$152),ROUNDUP(ALK$1/2,0)) -> #VALUE! | ALO5: =INDEX(IF(MOD(ALO$1,2),Moves!$J$3:$J$152,Moves!$P$3:$P$152),ROUNDUP(ALO$1/2,0)) | ALS5: =INDEX(IF(MOD(ALS$1,2),Moves!$J$3:$J$152,Moves!$P$3:$P$152),ROUNDUP(ALS$1/2,0)) -> #VALUE! | ALW5: =INDEX(IF(MOD(ALW$1,2),Moves!$J$3:$J$152,Moves!$P$3:$P$152),ROUNDUP(ALW$1/2,0)) | AMA5: =INDEX(IF(MOD(AMA$1,2),Moves!$J$3:$J$152,Moves!$P$3:$P$152),ROUNDUP(AMA$1/2,0)) -> #VALUE! | AME5: =INDEX(IF(MOD(AME$1,2),Moves!$J$3:$J$152,Moves!$P$3:$P$152),ROUNDUP(AME$1/2,0)) | AMI5: =INDEX(IF(MOD(AMI$1,2),Moves!$J$3:$J$152,Moves!$P$3:$P$152),ROUNDUP(AMI$1/2,0)) -> #VALUE! | AMM5: =INDEX(IF(MOD(AMM$1,2),Moves!$J$3:$J$152,Moves!$P$3:$P$152),ROUNDUP(AMM$1/2,0)) | AMQ5: =INDEX(IF(MOD(AMQ$1,2),Moves!$J$3:$J$152,Moves!$P$3:$P$152),ROUNDUP(AMQ$1/2,0)) -> #VALUE! | AMU5: =INDEX(IF(MOD(AMU$1,2),Moves!$J$3:$J$152,Moves!$P$3:$P$152),ROUNDUP(AMU$1/2,0)) | AMY5: =INDEX(IF(MOD(AMY$1,2),Moves!$J$3:$J$152,Moves!$P$3:$P$152),ROUNDUP(AMY$1/2,0)) -> #VALUE! | ANC5: =INDEX(IF(MOD(ANC$1,2),Moves!$J$3:$J$152,Moves!$P$3:$P$152),ROUNDUP(ANC$1/2,0)) | ANG5: =INDEX(IF(MOD(ANG$1,2),Moves!$J$3:$J$152,Moves!$P$3:$P$152),ROUNDUP(ANG$1/2,0)) -> #VALUE! | ANK5: =INDEX(IF(MOD(ANK$1,2),Moves!$J$3:$J$152,Moves!$P$3:$P$152),ROUNDUP(ANK$1/2,0)) | ANO5: =INDEX(IF(MOD(ANO$1,2),Moves!$J$3:$J$152,Moves!$P$3:$P$152),ROUNDUP(ANO$1/2,0)) -> #VALUE! | ANS5: =INDEX(IF(MOD(ANS$1,2),Moves!$J$3:$J$152,Moves!$P$3:$P$152),ROUNDUP(ANS$1/2,0)) | ANW5: =INDEX(IF(MOD(ANW$1,2),Moves!$J$3:$J$152,Moves!$P$3:$P$152),ROUNDUP(ANW$1/2,0)) -> #VALUE! | AOA5: =INDEX(IF(MOD(AOA$1,2),Moves!$J$3:$J$152,Moves!$P$3:$P$152),ROUNDUP(AOA$1/2,0)) | AOE5: =INDEX(IF(MOD(AOE$1,2),Moves!$J$3:$J$152,Moves!$P$3:$P$152),ROUNDUP(AOE$1/2,0)) -> #VALUE! | AOI5: =INDEX(IF(MOD(AOI$1,2),Moves!$J$3:$J$152,Moves!$P$3:$P$152),ROUNDUP(AOI$1/2,0)) | AOM5: =INDEX(IF(MOD(AOM$1,2),Moves!$J$3:$J$152,Moves!$P$3:$P$152),ROUNDUP(AOM$1/2,0)) -> #VALUE! | AOQ5: =INDEX(IF(MOD(AOQ$1,2),Moves!$J$3:$J$152,Moves!$P$3:$P$152),ROUNDUP(AOQ$1/2,0)) | AOU5: =INDEX(IF(MOD(AOU$1,2),Moves!$J$3:$J$152,Moves!$P$3:$P$152),ROUNDUP(AOU$1/2,0)) -> #VALUE! | AOY5: =INDEX(IF(MOD(AOY$1,2),Moves!$J$3:$J$152,Moves!$P$3:$P$152),ROUNDUP(AOY$1/2,0)) | APC5: =INDEX(IF(MOD(APC$1,2),Moves!$J$3:$J$152,Moves!$P$3:$P$152),ROUNDUP(APC$1/2,0)) -> #VALUE! | APG5: =INDEX(IF(MOD(APG$1,2),Moves!$J$3:$J$152,Moves!$P$3:$P$152),ROUNDUP(APG$1/2,0)) | APK5: =INDEX(IF(MOD(APK$1,2),Moves!$J$3:$J$152,Moves!$P$3:$P$152),ROUNDUP(APK$1/2,0)) -> #VALUE! | APO5: =INDEX(IF(MOD(APO$1,2),Moves!$J$3:$J$152,Moves!$P$3:$P$152),ROUNDUP(APO$1/2,0)) | APS5: =INDEX(IF(MOD(APS$1,2),Moves!$J$3:$J$152,Moves!$P$3:$P$152),ROUNDUP(APS$1/2,0)) -> #VALUE! | APW5: =INDEX(IF(MOD(APW$1,2),Moves!$J$3:$J$152,Moves!$P$3:$P$152),ROUNDUP(APW$1/2,0)) | AQA5: =INDEX(IF(MOD(AQA$1,2),Moves!$J$3:$J$152,Moves!$P$3:$P$152),ROUNDUP(AQA$1/2,0)) -> #VALUE! | AQE5: =INDEX(IF(MOD(AQE$1,2),Moves!$J$3:$J$152,Moves!$P$3:$P$152),ROUNDUP(AQE$1/2,0)) | AQI5: =INDEX(IF(MOD(AQI$1,2),Moves!$J$3:$J$152,Moves!$P$3:$P$152),ROUNDUP(AQI$1/2,0)) -> #VALUE! | AQM5: =INDEX(IF(MOD(AQM$1,2),Moves!$J$3:$J$152,Moves!$P$3:$P$152),ROUNDUP(AQM$1/2,0)) | AQQ5: =INDEX(IF(MOD(AQQ$1,2),Moves!$J$3:$J$152,Moves!$P$3:$P$152),ROUNDUP(AQQ$1/2,0)) -> #VALUE! | AQU5: =INDEX(IF(MOD(AQU$1,2),Moves!$J$3:$J$152,Moves!$P$3:$P$152),ROUNDUP(AQU$1/2,0)) | AQY5: =INDEX(IF(MOD(AQY$1,2),Moves!$J$3:$J$152,Moves!$P$3:$P$152),ROUNDUP(AQY$1/2,0)) -> #VALUE! | ARC5: =INDEX(IF(MOD(ARC$1,2),Moves!$J$3:$J$152,Moves!$P$3:$P$152),ROUNDUP(ARC$1/2,0)) | ARG5: =INDEX(IF(MOD(ARG$1,2),Moves!$J$3:$J$152,Moves!$P$3:$P$152),ROUNDUP(ARG$1/2,0)) -> #VALUE! | ARK5: =INDEX(IF(MOD(ARK$1,2),Moves!$J$3:$J$152,Moves!$P$3:$P$152),ROUNDUP(ARK$1/2,0)) | ARO5: =INDEX(IF(MOD(ARO$1,2),Moves!$J$3:$J$152,Moves!$P$3:$P$152),ROUNDUP(ARO$1/2,0)) -> #VALUE! | ARS5: =INDEX(IF(MOD(ARS$1,2),Moves!$J$3:$J$152,Moves!$P$3:$P$152),ROUNDUP(ARS$1/2,0)) | ARW5: =INDEX(IF(MOD(ARW$1,2),Moves!$J$3:$J$152,Moves!$P$3:$P$152),ROUNDUP(ARW$1/2,0)) -> #VALUE! | ASA5: =INDEX(IF(MOD(ASA$1,2),Moves!$J$3:$J$152,Moves!$P$3:$P$152),ROUNDUP(ASA$1/2,0)) | ASE5: =INDEX(IF(MOD(ASE$1,2),Moves!$J$3:$J$152,Moves!$P$3:$P$152),ROUNDUP(ASE$1/2,0)) -> #VALUE! | ASI5: =INDEX(IF(MOD(ASI$1,2),Moves!$J$3:$J$152,Moves!$P$3:$P$152),ROUNDUP(ASI$1/2,0)) | ASM5: =INDEX(IF(MOD(ASM$1,2),Moves!$J$3:$J$152,Moves!$P$3:$P$152),ROUNDUP(ASM$1/2,0)) -> #VALUE! | ASQ5: =INDEX(IF(MOD(ASQ$1,2),Moves!$J$3:$J$152,Moves!$P$3:$P$152),ROUNDUP(ASQ$1/2,0)) | ASU5: =INDEX(IF(MOD(ASU$1,2),Moves!$J$3:$J$152,Moves!$P$3:$P$152),ROUNDUP(ASU$1/2,0)) -> #VALUE! | ASY5: =INDEX(IF(MOD(ASY$1,2),Moves!$J$3:$J$152,Moves!$P$3:$P$152),ROUNDUP(ASY$1/2,0)) | ATC5: =INDEX(IF(MOD(ATC$1,2),Moves!$J$3:$J$152,Moves!$P$3:$P$152),ROUNDUP(ATC$1/2,0)) -> #VALUE! | ATG5: =INDEX(IF(MOD(ATG$1,2),Moves!$J$3:$J$152,Moves!$P$3:$P$152),ROUNDUP(ATG$1/2,0))
